BEGIN:VCALENDAR
VERSION:2.0
PRODID:-//Maple Leaf Acres - ECPv6.15.18//NONSGML v1.0//EN
CALSCALE:GREGORIAN
METHOD:PUBLISH
X-ORIGINAL-URL:https://mapleleafacres.ca
X-WR-CALDESC:Events for Maple Leaf Acres
REFRESH-INTERVAL;VALUE=DURATION:PT1H
X-Robots-Tag:noindex
X-PUBLISHED-TTL:PT1H
BEGIN:VTIMEZONE
TZID:America/Toronto
BEGIN:DAYLIGHT
TZOFFSETFROM:-0500
TZOFFSETTO:-0400
TZNAME:EDT
DTSTART:20240310T070000
END:DAYLIGHT
BEGIN:STANDARD
TZOFFSETFROM:-0400
TZOFFSETTO:-0500
TZNAME:EST
DTSTART:20241103T060000
END:STANDARD
BEGIN:DAYLIGHT
TZOFFSETFROM:-0500
TZOFFSETTO:-0400
TZNAME:EDT
DTSTART:20250309T070000
END:DAYLIGHT
BEGIN:STANDARD
TZOFFSETFROM:-0400
TZOFFSETTO:-0500
TZNAME:EST
DTSTART:20251102T060000
END:STANDARD
BEGIN:DAYLIGHT
TZOFFSETFROM:-0500
TZOFFSETTO:-0400
TZNAME:EDT
DTSTART:20260308T070000
END:DAYLIGHT
BEGIN:STANDARD
TZOFFSETFROM:-0400
TZOFFSETTO:-0500
TZNAME:EST
DTSTART:20261101T060000
END:STANDARD
BEGIN:DAYLIGHT
TZOFFSETFROM:-0500
TZOFFSETTO:-0400
TZNAME:EDT
DTSTART:20270314T070000
END:DAYLIGHT
BEGIN:STANDARD
TZOFFSETFROM:-0400
TZOFFSETTO:-0500
TZNAME:EST
DTSTART:20271107T060000
END:STANDARD
END:VTIMEZONE
BEGIN:VEVENT
DTSTART;TZID=America/Toronto:20260414T130000
DTEND;TZID=America/Toronto:20260414T160000
DTSTAMP:20260421T073031
CREATED:20250903T152635Z
LAST-MODIFIED:20250903T152635Z
UID:7716-1776171600-1776182400@mapleleafacres.ca
SUMMARY:Bid Euchre
DESCRIPTION:
URL:https://mapleleafacres.ca/event/bid-euchre-91/2026-04-14/
CATEGORIES:Activities,Fireside Room
END:VEVENT
BEGIN:VEVENT
DTSTART;TZID=America/Toronto:20260407T130000
DTEND;TZID=America/Toronto:20260407T160000
DTSTAMP:20260421T073031
CREATED:20250903T152635Z
LAST-MODIFIED:20250903T152635Z
UID:7715-1775566800-1775577600@mapleleafacres.ca
SUMMARY:Bid Euchre
DESCRIPTION:
URL:https://mapleleafacres.ca/event/bid-euchre-91/2026-04-07/
CATEGORIES:Activities,Fireside Room
END:VEVENT
BEGIN:VEVENT
DTSTART;TZID=America/Toronto:20260331T130000
DTEND;TZID=America/Toronto:20260331T160000
DTSTAMP:20260421T073031
CREATED:20250903T152635Z
LAST-MODIFIED:20250903T152635Z
UID:7714-1774962000-1774972800@mapleleafacres.ca
SUMMARY:Bid Euchre
DESCRIPTION:
URL:https://mapleleafacres.ca/event/bid-euchre-91/2026-03-31/
CATEGORIES:Activities,Fireside Room
END:VEVENT
BEGIN:VEVENT
DTSTART;TZID=America/Toronto:20260324T130000
DTEND;TZID=America/Toronto:20260324T160000
DTSTAMP:20260421T073031
CREATED:20250903T152635Z
LAST-MODIFIED:20250903T152635Z
UID:7713-1774357200-1774368000@mapleleafacres.ca
SUMMARY:Bid Euchre
DESCRIPTION:
URL:https://mapleleafacres.ca/event/bid-euchre-91/2026-03-24/
CATEGORIES:Activities,Fireside Room
END:VEVENT
BEGIN:VEVENT
DTSTART;TZID=America/Toronto:20260317T130000
DTEND;TZID=America/Toronto:20260317T160000
DTSTAMP:20260421T073031
CREATED:20250903T152635Z
LAST-MODIFIED:20250903T152635Z
UID:7712-1773752400-1773763200@mapleleafacres.ca
SUMMARY:Bid Euchre
DESCRIPTION:
URL:https://mapleleafacres.ca/event/bid-euchre-91/2026-03-17/
CATEGORIES:Activities,Fireside Room
END:VEVENT
BEGIN:VEVENT
DTSTART;TZID=America/Toronto:20260310T130000
DTEND;TZID=America/Toronto:20260310T160000
DTSTAMP:20260421T073031
CREATED:20250903T152635Z
LAST-MODIFIED:20250903T152635Z
UID:7711-1773147600-1773158400@mapleleafacres.ca
SUMMARY:Bid Euchre
DESCRIPTION:
URL:https://mapleleafacres.ca/event/bid-euchre-91/2026-03-10/
CATEGORIES:Activities,Fireside Room
END:VEVENT
BEGIN:VEVENT
DTSTART;TZID=America/Toronto:20260303T130000
DTEND;TZID=America/Toronto:20260303T160000
DTSTAMP:20260421T073031
CREATED:20250903T152635Z
LAST-MODIFIED:20250903T152635Z
UID:7710-1772542800-1772553600@mapleleafacres.ca
SUMMARY:Bid Euchre
DESCRIPTION:
URL:https://mapleleafacres.ca/event/bid-euchre-91/2026-03-03/
CATEGORIES:Activities,Fireside Room
END:VEVENT
BEGIN:VEVENT
DTSTART;TZID=America/Toronto:20260224T130000
DTEND;TZID=America/Toronto:20260224T160000
DTSTAMP:20260421T073031
CREATED:20250903T152635Z
LAST-MODIFIED:20250903T152635Z
UID:7709-1771938000-1771948800@mapleleafacres.ca
SUMMARY:Bid Euchre
DESCRIPTION:
URL:https://mapleleafacres.ca/event/bid-euchre-91/2026-02-24/
CATEGORIES:Activities,Fireside Room
END:VEVENT
BEGIN:VEVENT
DTSTART;TZID=America/Toronto:20260217T130000
DTEND;TZID=America/Toronto:20260217T160000
DTSTAMP:20260421T073031
CREATED:20250903T152635Z
LAST-MODIFIED:20250903T152635Z
UID:7708-1771333200-1771344000@mapleleafacres.ca
SUMMARY:Bid Euchre
DESCRIPTION:
URL:https://mapleleafacres.ca/event/bid-euchre-91/2026-02-17/
CATEGORIES:Activities,Fireside Room
END:VEVENT
BEGIN:VEVENT
DTSTART;TZID=America/Toronto:20260210T130000
DTEND;TZID=America/Toronto:20260210T160000
DTSTAMP:20260421T073031
CREATED:20250903T152635Z
LAST-MODIFIED:20250903T152635Z
UID:7707-1770728400-1770739200@mapleleafacres.ca
SUMMARY:Bid Euchre
DESCRIPTION:
URL:https://mapleleafacres.ca/event/bid-euchre-91/2026-02-10/
CATEGORIES:Activities,Fireside Room
END:VEVENT
BEGIN:VEVENT
DTSTART;TZID=America/Toronto:20260203T130000
DTEND;TZID=America/Toronto:20260203T160000
DTSTAMP:20260421T073031
CREATED:20250903T152635Z
LAST-MODIFIED:20250903T152635Z
UID:7706-1770123600-1770134400@mapleleafacres.ca
SUMMARY:Bid Euchre
DESCRIPTION:
URL:https://mapleleafacres.ca/event/bid-euchre-91/2026-02-03/
CATEGORIES:Activities,Fireside Room
END:VEVENT
BEGIN:VEVENT
DTSTART;TZID=America/Toronto:20260127T130000
DTEND;TZID=America/Toronto:20260127T160000
DTSTAMP:20260421T073031
CREATED:20250903T152635Z
LAST-MODIFIED:20250903T152635Z
UID:7705-1769518800-1769529600@mapleleafacres.ca
SUMMARY:Bid Euchre
DESCRIPTION:
URL:https://mapleleafacres.ca/event/bid-euchre-91/2026-01-27/
CATEGORIES:Activities,Fireside Room
END:VEVENT
BEGIN:VEVENT
DTSTART;TZID=America/Toronto:20260120T130000
DTEND;TZID=America/Toronto:20260120T160000
DTSTAMP:20260421T073031
CREATED:20250903T152635Z
LAST-MODIFIED:20250903T152635Z
UID:7704-1768914000-1768924800@mapleleafacres.ca
SUMMARY:Bid Euchre
DESCRIPTION:
URL:https://mapleleafacres.ca/event/bid-euchre-91/2026-01-20/
CATEGORIES:Activities,Fireside Room
END:VEVENT
BEGIN:VEVENT
DTSTART;TZID=America/Toronto:20260113T130000
DTEND;TZID=America/Toronto:20260113T160000
DTSTAMP:20260421T073031
CREATED:20250903T152635Z
LAST-MODIFIED:20250903T152635Z
UID:7703-1768309200-1768320000@mapleleafacres.ca
SUMMARY:Bid Euchre
DESCRIPTION:
URL:https://mapleleafacres.ca/event/bid-euchre-91/2026-01-13/
CATEGORIES:Activities,Fireside Room
END:VEVENT
BEGIN:VEVENT
DTSTART;TZID=America/Toronto:20260106T130000
DTEND;TZID=America/Toronto:20260106T160000
DTSTAMP:20260421T073031
CREATED:20250903T152635Z
LAST-MODIFIED:20250903T152635Z
UID:7702-1767704400-1767715200@mapleleafacres.ca
SUMMARY:Bid Euchre
DESCRIPTION:
URL:https://mapleleafacres.ca/event/bid-euchre-91/2026-01-06/
CATEGORIES:Activities,Fireside Room
END:VEVENT
BEGIN:VEVENT
DTSTART;TZID=America/Toronto:20251230T130000
DTEND;TZID=America/Toronto:20251230T160000
DTSTAMP:20260421T073031
CREATED:20250903T152635Z
LAST-MODIFIED:20250903T152635Z
UID:7701-1767099600-1767110400@mapleleafacres.ca
SUMMARY:Bid Euchre
DESCRIPTION:
URL:https://mapleleafacres.ca/event/bid-euchre-91/2025-12-30/
CATEGORIES:Activities,Fireside Room
END:VEVENT
BEGIN:VEVENT
DTSTART;TZID=America/Toronto:20251223T130000
DTEND;TZID=America/Toronto:20251223T160000
DTSTAMP:20260421T073031
CREATED:20250903T152635Z
LAST-MODIFIED:20250903T152635Z
UID:7700-1766494800-1766505600@mapleleafacres.ca
SUMMARY:Bid Euchre
DESCRIPTION:
URL:https://mapleleafacres.ca/event/bid-euchre-91/2025-12-23/
CATEGORIES:Activities,Fireside Room
END:VEVENT
BEGIN:VEVENT
DTSTART;TZID=America/Toronto:20251216T130000
DTEND;TZID=America/Toronto:20251216T160000
DTSTAMP:20260421T073031
CREATED:20250903T152635Z
LAST-MODIFIED:20250903T152635Z
UID:7699-1765890000-1765900800@mapleleafacres.ca
SUMMARY:Bid Euchre
DESCRIPTION:
URL:https://mapleleafacres.ca/event/bid-euchre-91/2025-12-16/
CATEGORIES:Activities,Fireside Room
END:VEVENT
BEGIN:VEVENT
DTSTART;TZID=America/Toronto:20251209T130000
DTEND;TZID=America/Toronto:20251209T160000
DTSTAMP:20260421T073031
CREATED:20250903T152635Z
LAST-MODIFIED:20250903T152635Z
UID:7698-1765285200-1765296000@mapleleafacres.ca
SUMMARY:Bid Euchre
DESCRIPTION:
URL:https://mapleleafacres.ca/event/bid-euchre-91/2025-12-09/
CATEGORIES:Activities,Fireside Room
END:VEVENT
BEGIN:VEVENT
DTSTART;TZID=America/Toronto:20251202T130000
DTEND;TZID=America/Toronto:20251202T160000
DTSTAMP:20260421T073031
CREATED:20250903T152635Z
LAST-MODIFIED:20250903T152635Z
UID:7697-1764680400-1764691200@mapleleafacres.ca
SUMMARY:Bid Euchre
DESCRIPTION:
URL:https://mapleleafacres.ca/event/bid-euchre-91/2025-12-02/
CATEGORIES:Activities,Fireside Room
END:VEVENT
BEGIN:VEVENT
DTSTART;TZID=America/Toronto:20251125T130000
DTEND;TZID=America/Toronto:20251125T160000
DTSTAMP:20260421T073031
CREATED:20250903T152635Z
LAST-MODIFIED:20250903T152635Z
UID:7696-1764075600-1764086400@mapleleafacres.ca
SUMMARY:Bid Euchre
DESCRIPTION:
URL:https://mapleleafacres.ca/event/bid-euchre-91/2025-11-25/
CATEGORIES:Activities,Fireside Room
END:VEVENT
BEGIN:VEVENT
DTSTART;TZID=America/Toronto:20251118T130000
DTEND;TZID=America/Toronto:20251118T160000
DTSTAMP:20260421T073031
CREATED:20250903T152635Z
LAST-MODIFIED:20250903T152635Z
UID:7694-1763470800-1763481600@mapleleafacres.ca
SUMMARY:Bid Euchre
DESCRIPTION:
URL:https://mapleleafacres.ca/event/bid-euchre-91/2025-11-18/
CATEGORIES:Activities,Fireside Room
END:VEVENT
BEGIN:VEVENT
DTSTART;TZID=America/Toronto:20251111T130000
DTEND;TZID=America/Toronto:20251111T160000
DTSTAMP:20260421T073031
CREATED:20250903T152635Z
LAST-MODIFIED:20250903T152635Z
UID:7693-1762866000-1762876800@mapleleafacres.ca
SUMMARY:Bid Euchre
DESCRIPTION:
URL:https://mapleleafacres.ca/event/bid-euchre-91/2025-11-11/
CATEGORIES:Activities,Fireside Room
END:VEVENT
BEGIN:VEVENT
DTSTART;TZID=America/Toronto:20251104T130000
DTEND;TZID=America/Toronto:20251104T160000
DTSTAMP:20260421T073031
CREATED:20250903T152635Z
LAST-MODIFIED:20250903T152635Z
UID:7692-1762261200-1762272000@mapleleafacres.ca
SUMMARY:Bid Euchre
DESCRIPTION:
URL:https://mapleleafacres.ca/event/bid-euchre-91/2025-11-04/
CATEGORIES:Activities,Fireside Room
END:VEVENT
BEGIN:VEVENT
DTSTART;TZID=America/Toronto:20251028T130000
DTEND;TZID=America/Toronto:20251028T160000
DTSTAMP:20260421T073031
CREATED:20250903T152635Z
LAST-MODIFIED:20250903T152635Z
UID:7691-1761656400-1761667200@mapleleafacres.ca
SUMMARY:Bid Euchre
DESCRIPTION:
URL:https://mapleleafacres.ca/event/bid-euchre-91/2025-10-28/
CATEGORIES:Activities,Fireside Room
END:VEVENT
BEGIN:VEVENT
DTSTART;TZID=America/Toronto:20251021T130000
DTEND;TZID=America/Toronto:20251021T160000
DTSTAMP:20260421T073031
CREATED:20250903T152635Z
LAST-MODIFIED:20250903T152635Z
UID:7690-1761051600-1761062400@mapleleafacres.ca
SUMMARY:Bid Euchre
DESCRIPTION:
URL:https://mapleleafacres.ca/event/bid-euchre-91/2025-10-21/
CATEGORIES:Activities,Fireside Room
END:VEVENT
BEGIN:VEVENT
DTSTART;TZID=America/Toronto:20251014T130000
DTEND;TZID=America/Toronto:20251014T160000
DTSTAMP:20260421T073031
CREATED:20250903T152635Z
LAST-MODIFIED:20250903T152635Z
UID:7689-1760446800-1760457600@mapleleafacres.ca
SUMMARY:Bid Euchre
DESCRIPTION:
URL:https://mapleleafacres.ca/event/bid-euchre-91/2025-10-14/
CATEGORIES:Activities,Fireside Room
END:VEVENT
BEGIN:VEVENT
DTSTART;TZID=America/Toronto:20251007T130000
DTEND;TZID=America/Toronto:20251007T160000
DTSTAMP:20260421T073031
CREATED:20250903T152635Z
LAST-MODIFIED:20250903T152635Z
UID:7688-1759842000-1759852800@mapleleafacres.ca
SUMMARY:Bid Euchre
DESCRIPTION:
URL:https://mapleleafacres.ca/event/bid-euchre-91/2025-10-07/
CATEGORIES:Activities,Fireside Room
END:VEVENT
BEGIN:VEVENT
DTSTART;TZID=America/Toronto:20250930T130000
DTEND;TZID=America/Toronto:20250930T160000
DTSTAMP:20260421T073031
CREATED:20250903T152635Z
LAST-MODIFIED:20250903T152635Z
UID:7687-1759237200-1759248000@mapleleafacres.ca
SUMMARY:Bid Euchre
DESCRIPTION:
URL:https://mapleleafacres.ca/event/bid-euchre-91/2025-09-30/
CATEGORIES:Activities,Fireside Room
END:VEVENT
BEGIN:VEVENT
DTSTART;TZID=America/Toronto:20250923T130000
DTEND;TZID=America/Toronto:20250923T160000
DTSTAMP:20260421T073031
CREATED:20250903T152635Z
LAST-MODIFIED:20250903T152635Z
UID:7686-1758632400-1758643200@mapleleafacres.ca
SUMMARY:Bid Euchre
DESCRIPTION:
URL:https://mapleleafacres.ca/event/bid-euchre-91/2025-09-23/
CATEGORIES:Activities,Fireside Room
END:VEVENT
END:VCALENDAR