BEGIN:VCALENDAR
VERSION:2.0
PRODID:-//Maple Leaf Acres - ECPv6.15.18//NONSGML v1.0//EN
CALSCALE:GREGORIAN
METHOD:PUBLISH
X-ORIGINAL-URL:https://mapleleafacres.ca
X-WR-CALDESC:Events for Maple Leaf Acres
REFRESH-INTERVAL;VALUE=DURATION:PT1H
X-Robots-Tag:noindex
X-PUBLISHED-TTL:PT1H
BEGIN:VTIMEZONE
TZID:America/Toronto
BEGIN:DAYLIGHT
TZOFFSETFROM:-0500
TZOFFSETTO:-0400
TZNAME:EDT
DTSTART:20240310T070000
END:DAYLIGHT
BEGIN:STANDARD
TZOFFSETFROM:-0400
TZOFFSETTO:-0500
TZNAME:EST
DTSTART:20241103T060000
END:STANDARD
BEGIN:DAYLIGHT
TZOFFSETFROM:-0500
TZOFFSETTO:-0400
TZNAME:EDT
DTSTART:20250309T070000
END:DAYLIGHT
BEGIN:STANDARD
TZOFFSETFROM:-0400
TZOFFSETTO:-0500
TZNAME:EST
DTSTART:20251102T060000
END:STANDARD
BEGIN:DAYLIGHT
TZOFFSETFROM:-0500
TZOFFSETTO:-0400
TZNAME:EDT
DTSTART:20260308T070000
END:DAYLIGHT
BEGIN:STANDARD
TZOFFSETFROM:-0400
TZOFFSETTO:-0500
TZNAME:EST
DTSTART:20261101T060000
END:STANDARD
BEGIN:DAYLIGHT
TZOFFSETFROM:-0500
TZOFFSETTO:-0400
TZNAME:EDT
DTSTART:20270314T070000
END:DAYLIGHT
BEGIN:STANDARD
TZOFFSETFROM:-0400
TZOFFSETTO:-0500
TZNAME:EST
DTSTART:20271107T060000
END:STANDARD
END:VTIMEZONE
BEGIN:VEVENT
DTSTART;TZID=America/Toronto:20260415T130000
DTEND;TZID=America/Toronto:20260415T160000
DTSTAMP:20260421T073202
CREATED:20251003T132102Z
LAST-MODIFIED:20251003T132102Z
UID:8164-1776258000-1776268800@mapleleafacres.ca
SUMMARY:Cards
DESCRIPTION:
URL:https://mapleleafacres.ca/event/cards/2026-04-15/
CATEGORIES:Activities,Fireside Room
END:VEVENT
BEGIN:VEVENT
DTSTART;TZID=America/Toronto:20260408T130000
DTEND;TZID=America/Toronto:20260408T160000
DTSTAMP:20260421T073202
CREATED:20251003T132102Z
LAST-MODIFIED:20251003T132102Z
UID:8163-1775653200-1775664000@mapleleafacres.ca
SUMMARY:Cards
DESCRIPTION:
URL:https://mapleleafacres.ca/event/cards/2026-04-08/
CATEGORIES:Activities,Fireside Room
END:VEVENT
BEGIN:VEVENT
DTSTART;TZID=America/Toronto:20260401T130000
DTEND;TZID=America/Toronto:20260401T160000
DTSTAMP:20260421T073202
CREATED:20251003T132102Z
LAST-MODIFIED:20251003T132102Z
UID:8162-1775048400-1775059200@mapleleafacres.ca
SUMMARY:Cards
DESCRIPTION:
URL:https://mapleleafacres.ca/event/cards/2026-04-01/
CATEGORIES:Activities,Fireside Room
END:VEVENT
BEGIN:VEVENT
DTSTART;TZID=America/Toronto:20260325T130000
DTEND;TZID=America/Toronto:20260325T160000
DTSTAMP:20260421T073202
CREATED:20251003T132102Z
LAST-MODIFIED:20251003T132102Z
UID:8161-1774443600-1774454400@mapleleafacres.ca
SUMMARY:Cards
DESCRIPTION:
URL:https://mapleleafacres.ca/event/cards/2026-03-25/
CATEGORIES:Activities,Fireside Room
END:VEVENT
BEGIN:VEVENT
DTSTART;TZID=America/Toronto:20260318T130000
DTEND;TZID=America/Toronto:20260318T160000
DTSTAMP:20260421T073202
CREATED:20251003T132102Z
LAST-MODIFIED:20251003T132102Z
UID:8160-1773838800-1773849600@mapleleafacres.ca
SUMMARY:Cards
DESCRIPTION:
URL:https://mapleleafacres.ca/event/cards/2026-03-18/
CATEGORIES:Activities,Fireside Room
END:VEVENT
BEGIN:VEVENT
DTSTART;TZID=America/Toronto:20260311T130000
DTEND;TZID=America/Toronto:20260311T160000
DTSTAMP:20260421T073202
CREATED:20251003T132102Z
LAST-MODIFIED:20251003T132102Z
UID:8159-1773234000-1773244800@mapleleafacres.ca
SUMMARY:Cards
DESCRIPTION:
URL:https://mapleleafacres.ca/event/cards/2026-03-11/
CATEGORIES:Activities,Fireside Room
END:VEVENT
BEGIN:VEVENT
DTSTART;TZID=America/Toronto:20260304T130000
DTEND;TZID=America/Toronto:20260304T160000
DTSTAMP:20260421T073202
CREATED:20251003T132102Z
LAST-MODIFIED:20251003T132102Z
UID:8158-1772629200-1772640000@mapleleafacres.ca
SUMMARY:Cards
DESCRIPTION:
URL:https://mapleleafacres.ca/event/cards/2026-03-04/
CATEGORIES:Activities,Fireside Room
END:VEVENT
BEGIN:VEVENT
DTSTART;TZID=America/Toronto:20260225T130000
DTEND;TZID=America/Toronto:20260225T160000
DTSTAMP:20260421T073202
CREATED:20251003T132102Z
LAST-MODIFIED:20251003T132102Z
UID:8157-1772024400-1772035200@mapleleafacres.ca
SUMMARY:Cards
DESCRIPTION:
URL:https://mapleleafacres.ca/event/cards/2026-02-25/
CATEGORIES:Activities,Fireside Room
END:VEVENT
BEGIN:VEVENT
DTSTART;TZID=America/Toronto:20260218T130000
DTEND;TZID=America/Toronto:20260218T160000
DTSTAMP:20260421T073202
CREATED:20251003T132102Z
LAST-MODIFIED:20251003T132102Z
UID:8156-1771419600-1771430400@mapleleafacres.ca
SUMMARY:Cards
DESCRIPTION:
URL:https://mapleleafacres.ca/event/cards/2026-02-18/
CATEGORIES:Activities,Fireside Room
END:VEVENT
BEGIN:VEVENT
DTSTART;TZID=America/Toronto:20260211T130000
DTEND;TZID=America/Toronto:20260211T160000
DTSTAMP:20260421T073202
CREATED:20251003T132102Z
LAST-MODIFIED:20251003T132102Z
UID:8155-1770814800-1770825600@mapleleafacres.ca
SUMMARY:Cards
DESCRIPTION:
URL:https://mapleleafacres.ca/event/cards/2026-02-11/
CATEGORIES:Activities,Fireside Room
END:VEVENT
BEGIN:VEVENT
DTSTART;TZID=America/Toronto:20260204T130000
DTEND;TZID=America/Toronto:20260204T160000
DTSTAMP:20260421T073202
CREATED:20251003T132102Z
LAST-MODIFIED:20251003T132102Z
UID:8154-1770210000-1770220800@mapleleafacres.ca
SUMMARY:Cards
DESCRIPTION:
URL:https://mapleleafacres.ca/event/cards/2026-02-04/
CATEGORIES:Activities,Fireside Room
END:VEVENT
BEGIN:VEVENT
DTSTART;TZID=America/Toronto:20260128T130000
DTEND;TZID=America/Toronto:20260128T160000
DTSTAMP:20260421T073202
CREATED:20251003T132102Z
LAST-MODIFIED:20251003T132102Z
UID:8153-1769605200-1769616000@mapleleafacres.ca
SUMMARY:Cards
DESCRIPTION:
URL:https://mapleleafacres.ca/event/cards/2026-01-28/
CATEGORIES:Activities,Fireside Room
END:VEVENT
BEGIN:VEVENT
DTSTART;TZID=America/Toronto:20260121T130000
DTEND;TZID=America/Toronto:20260121T160000
DTSTAMP:20260421T073202
CREATED:20251003T132102Z
LAST-MODIFIED:20251003T132102Z
UID:8152-1769000400-1769011200@mapleleafacres.ca
SUMMARY:Cards
DESCRIPTION:
URL:https://mapleleafacres.ca/event/cards/2026-01-21/
CATEGORIES:Activities,Fireside Room
END:VEVENT
BEGIN:VEVENT
DTSTART;TZID=America/Toronto:20260114T130000
DTEND;TZID=America/Toronto:20260114T160000
DTSTAMP:20260421T073202
CREATED:20251003T132102Z
LAST-MODIFIED:20251003T132102Z
UID:8151-1768395600-1768406400@mapleleafacres.ca
SUMMARY:Cards
DESCRIPTION:
URL:https://mapleleafacres.ca/event/cards/2026-01-14/
CATEGORIES:Activities,Fireside Room
END:VEVENT
BEGIN:VEVENT
DTSTART;TZID=America/Toronto:20260107T130000
DTEND;TZID=America/Toronto:20260107T160000
DTSTAMP:20260421T073202
CREATED:20251003T132102Z
LAST-MODIFIED:20251003T132102Z
UID:8150-1767790800-1767801600@mapleleafacres.ca
SUMMARY:Cards
DESCRIPTION:
URL:https://mapleleafacres.ca/event/cards/2026-01-07/
CATEGORIES:Activities,Fireside Room
END:VEVENT
BEGIN:VEVENT
DTSTART;TZID=America/Toronto:20251231T130000
DTEND;TZID=America/Toronto:20251231T160000
DTSTAMP:20260421T073202
CREATED:20251003T132102Z
LAST-MODIFIED:20251003T132102Z
UID:8149-1767186000-1767196800@mapleleafacres.ca
SUMMARY:Cards
DESCRIPTION:
URL:https://mapleleafacres.ca/event/cards/2025-12-31/
CATEGORIES:Activities,Fireside Room
END:VEVENT
BEGIN:VEVENT
DTSTART;TZID=America/Toronto:20251224T130000
DTEND;TZID=America/Toronto:20251224T160000
DTSTAMP:20260421T073202
CREATED:20251003T132102Z
LAST-MODIFIED:20251003T132102Z
UID:8147-1766581200-1766592000@mapleleafacres.ca
SUMMARY:Cards
DESCRIPTION:
URL:https://mapleleafacres.ca/event/cards/2025-12-24/
CATEGORIES:Activities,Fireside Room
END:VEVENT
BEGIN:VEVENT
DTSTART;TZID=America/Toronto:20251217T130000
DTEND;TZID=America/Toronto:20251217T160000
DTSTAMP:20260421T073202
CREATED:20251003T132102Z
LAST-MODIFIED:20251003T132102Z
UID:8146-1765976400-1765987200@mapleleafacres.ca
SUMMARY:Cards
DESCRIPTION:
URL:https://mapleleafacres.ca/event/cards/2025-12-17/
CATEGORIES:Activities,Fireside Room
END:VEVENT
BEGIN:VEVENT
DTSTART;TZID=America/Toronto:20251210T130000
DTEND;TZID=America/Toronto:20251210T160000
DTSTAMP:20260421T073202
CREATED:20251003T132102Z
LAST-MODIFIED:20251003T132102Z
UID:8145-1765371600-1765382400@mapleleafacres.ca
SUMMARY:Cards
DESCRIPTION:
URL:https://mapleleafacres.ca/event/cards/2025-12-10/
CATEGORIES:Activities,Fireside Room
END:VEVENT
BEGIN:VEVENT
DTSTART;TZID=America/Toronto:20251203T130000
DTEND;TZID=America/Toronto:20251203T160000
DTSTAMP:20260421T073202
CREATED:20251003T132102Z
LAST-MODIFIED:20251003T132102Z
UID:8144-1764766800-1764777600@mapleleafacres.ca
SUMMARY:Cards
DESCRIPTION:
URL:https://mapleleafacres.ca/event/cards/2025-12-03/
CATEGORIES:Activities,Fireside Room
END:VEVENT
BEGIN:VEVENT
DTSTART;TZID=America/Toronto:20251126T130000
DTEND;TZID=America/Toronto:20251126T160000
DTSTAMP:20260421T073202
CREATED:20251003T132102Z
LAST-MODIFIED:20251003T132102Z
UID:8143-1764162000-1764172800@mapleleafacres.ca
SUMMARY:Cards
DESCRIPTION:
URL:https://mapleleafacres.ca/event/cards/2025-11-26/
CATEGORIES:Activities,Fireside Room
END:VEVENT
BEGIN:VEVENT
DTSTART;TZID=America/Toronto:20251119T130000
DTEND;TZID=America/Toronto:20251119T160000
DTSTAMP:20260421T073202
CREATED:20251003T132102Z
LAST-MODIFIED:20251003T132102Z
UID:8142-1763557200-1763568000@mapleleafacres.ca
SUMMARY:Cards
DESCRIPTION:
URL:https://mapleleafacres.ca/event/cards/2025-11-19/
CATEGORIES:Activities,Fireside Room
END:VEVENT
BEGIN:VEVENT
DTSTART;TZID=America/Toronto:20251112T130000
DTEND;TZID=America/Toronto:20251112T160000
DTSTAMP:20260421T073202
CREATED:20251003T132102Z
LAST-MODIFIED:20251003T132102Z
UID:8141-1762952400-1762963200@mapleleafacres.ca
SUMMARY:Cards
DESCRIPTION:
URL:https://mapleleafacres.ca/event/cards/2025-11-12/
CATEGORIES:Activities,Fireside Room
END:VEVENT
BEGIN:VEVENT
DTSTART;TZID=America/Toronto:20251105T130000
DTEND;TZID=America/Toronto:20251105T160000
DTSTAMP:20260421T073202
CREATED:20251003T132102Z
LAST-MODIFIED:20251003T132102Z
UID:8140-1762347600-1762358400@mapleleafacres.ca
SUMMARY:Cards
DESCRIPTION:
URL:https://mapleleafacres.ca/event/cards/2025-11-05/
CATEGORIES:Activities,Fireside Room
END:VEVENT
BEGIN:VEVENT
DTSTART;TZID=America/Toronto:20251029T130000
DTEND;TZID=America/Toronto:20251029T160000
DTSTAMP:20260421T073202
CREATED:20251003T132102Z
LAST-MODIFIED:20251003T132102Z
UID:8139-1761742800-1761753600@mapleleafacres.ca
SUMMARY:Cards
DESCRIPTION:
URL:https://mapleleafacres.ca/event/cards/2025-10-29/
CATEGORIES:Activities,Fireside Room
END:VEVENT
BEGIN:VEVENT
DTSTART;TZID=America/Toronto:20251022T130000
DTEND;TZID=America/Toronto:20251022T160000
DTSTAMP:20260421T073202
CREATED:20251003T132102Z
LAST-MODIFIED:20251003T132102Z
UID:8138-1761138000-1761148800@mapleleafacres.ca
SUMMARY:Cards
DESCRIPTION:
URL:https://mapleleafacres.ca/event/cards/2025-10-22/
CATEGORIES:Activities,Fireside Room
END:VEVENT
BEGIN:VEVENT
DTSTART;TZID=America/Toronto:20251015T130000
DTEND;TZID=America/Toronto:20251015T160000
DTSTAMP:20260421T073202
CREATED:20251003T132102Z
LAST-MODIFIED:20251003T132102Z
UID:8137-1760533200-1760544000@mapleleafacres.ca
SUMMARY:Cards
DESCRIPTION:
URL:https://mapleleafacres.ca/event/cards/2025-10-15/
CATEGORIES:Activities,Fireside Room
END:VEVENT
END:VCALENDAR