BEGIN:VCALENDAR
VERSION:2.0
PRODID:-//Maple Leaf Acres - ECPv6.15.18//NONSGML v1.0//EN
CALSCALE:GREGORIAN
METHOD:PUBLISH
X-ORIGINAL-URL:https://mapleleafacres.ca
X-WR-CALDESC:Events for Maple Leaf Acres
REFRESH-INTERVAL;VALUE=DURATION:PT1H
X-Robots-Tag:noindex
X-PUBLISHED-TTL:PT1H
BEGIN:VTIMEZONE
TZID:America/Toronto
BEGIN:DAYLIGHT
TZOFFSETFROM:-0500
TZOFFSETTO:-0400
TZNAME:EDT
DTSTART:20230312T070000
END:DAYLIGHT
BEGIN:STANDARD
TZOFFSETFROM:-0400
TZOFFSETTO:-0500
TZNAME:EST
DTSTART:20231105T060000
END:STANDARD
BEGIN:DAYLIGHT
TZOFFSETFROM:-0500
TZOFFSETTO:-0400
TZNAME:EDT
DTSTART:20240310T070000
END:DAYLIGHT
BEGIN:STANDARD
TZOFFSETFROM:-0400
TZOFFSETTO:-0500
TZNAME:EST
DTSTART:20241103T060000
END:STANDARD
BEGIN:DAYLIGHT
TZOFFSETFROM:-0500
TZOFFSETTO:-0400
TZNAME:EDT
DTSTART:20250309T070000
END:DAYLIGHT
BEGIN:STANDARD
TZOFFSETFROM:-0400
TZOFFSETTO:-0500
TZNAME:EST
DTSTART:20251102T060000
END:STANDARD
END:VTIMEZONE
BEGIN:VEVENT
DTSTART;TZID=America/Toronto:20240427T130000
DTEND;TZID=America/Toronto:20240427T160000
DTSTAMP:20260420T094940
CREATED:20240131T185713Z
LAST-MODIFIED:20240131T185713Z
UID:5982-1714222800-1714233600@mapleleafacres.ca
SUMMARY:Corn Hole
DESCRIPTION:
URL:https://mapleleafacres.ca/event/corn-hole/2024-04-27/
CATEGORIES:Activities,Rec. Hall
END:VEVENT
BEGIN:VEVENT
DTSTART;TZID=America/Toronto:20240424T130000
DTEND;TZID=America/Toronto:20240424T160000
DTSTAMP:20260420T094940
CREATED:20240131T185713Z
LAST-MODIFIED:20240131T185713Z
UID:5981-1713963600-1713974400@mapleleafacres.ca
SUMMARY:Corn Hole
DESCRIPTION:
URL:https://mapleleafacres.ca/event/corn-hole/2024-04-24/
CATEGORIES:Activities,Rec. Hall
END:VEVENT
BEGIN:VEVENT
DTSTART;TZID=America/Toronto:20240420T130000
DTEND;TZID=America/Toronto:20240420T160000
DTSTAMP:20260420T094940
CREATED:20240131T185713Z
LAST-MODIFIED:20240131T185713Z
UID:5980-1713618000-1713628800@mapleleafacres.ca
SUMMARY:Corn Hole
DESCRIPTION:
URL:https://mapleleafacres.ca/event/corn-hole/2024-04-20/
CATEGORIES:Activities,Rec. Hall
END:VEVENT
BEGIN:VEVENT
DTSTART;TZID=America/Toronto:20240131T130000
DTEND;TZID=America/Toronto:20240131T160000
DTSTAMP:20260420T094940
CREATED:20240131T185713Z
LAST-MODIFIED:20240131T185713Z
UID:5956-1706706000-1706716800@mapleleafacres.ca
SUMMARY:Corn Hole
DESCRIPTION:
URL:https://mapleleafacres.ca/event/corn-hole/2024-01-31/
CATEGORIES:Activities,Rec. Hall
END:VEVENT
END:VCALENDAR