BEGIN:VCALENDAR
VERSION:2.0
PRODID:-//Maple Leaf Acres - ECPv6.15.18//NONSGML v1.0//EN
CALSCALE:GREGORIAN
METHOD:PUBLISH
X-ORIGINAL-URL:https://mapleleafacres.ca
X-WR-CALDESC:Events for Maple Leaf Acres
REFRESH-INTERVAL;VALUE=DURATION:PT1H
X-Robots-Tag:noindex
X-PUBLISHED-TTL:PT1H
BEGIN:VTIMEZONE
TZID:America/Toronto
BEGIN:DAYLIGHT
TZOFFSETFROM:-0500
TZOFFSETTO:-0400
TZNAME:EDT
DTSTART:20230312T070000
END:DAYLIGHT
BEGIN:STANDARD
TZOFFSETFROM:-0400
TZOFFSETTO:-0500
TZNAME:EST
DTSTART:20231105T060000
END:STANDARD
BEGIN:DAYLIGHT
TZOFFSETFROM:-0500
TZOFFSETTO:-0400
TZNAME:EDT
DTSTART:20240310T070000
END:DAYLIGHT
BEGIN:STANDARD
TZOFFSETFROM:-0400
TZOFFSETTO:-0500
TZNAME:EST
DTSTART:20241103T060000
END:STANDARD
BEGIN:DAYLIGHT
TZOFFSETFROM:-0500
TZOFFSETTO:-0400
TZNAME:EDT
DTSTART:20250309T070000
END:DAYLIGHT
BEGIN:STANDARD
TZOFFSETFROM:-0400
TZOFFSETTO:-0500
TZNAME:EST
DTSTART:20251102T060000
END:STANDARD
BEGIN:DAYLIGHT
TZOFFSETFROM:-0500
TZOFFSETTO:-0400
TZNAME:EDT
DTSTART:20260308T070000
END:DAYLIGHT
BEGIN:STANDARD
TZOFFSETFROM:-0400
TZOFFSETTO:-0500
TZNAME:EST
DTSTART:20261101T060000
END:STANDARD
END:VTIMEZONE
BEGIN:VEVENT
DTSTART;TZID=America/Toronto:20250426T130000
DTEND;TZID=America/Toronto:20250426T160000
DTSTAMP:20260419T232331
CREATED:20240312T191134Z
LAST-MODIFIED:20240930T204355Z
UID:6767-1745672400-1745683200@mapleleafacres.ca
SUMMARY:Cornhole
DESCRIPTION:
URL:https://mapleleafacres.ca/event/cornhole/2025-04-26/
CATEGORIES:Activities,Rec. Hall
END:VEVENT
BEGIN:VEVENT
DTSTART;TZID=America/Toronto:20250419T130000
DTEND;TZID=America/Toronto:20250419T160000
DTSTAMP:20260419T232331
CREATED:20240312T191134Z
LAST-MODIFIED:20240930T204355Z
UID:6766-1745067600-1745078400@mapleleafacres.ca
SUMMARY:Cornhole
DESCRIPTION:
URL:https://mapleleafacres.ca/event/cornhole/2025-04-19/
CATEGORIES:Activities,Rec. Hall
END:VEVENT
BEGIN:VEVENT
DTSTART;TZID=America/Toronto:20250412T130000
DTEND;TZID=America/Toronto:20250412T160000
DTSTAMP:20260419T232331
CREATED:20240312T191134Z
LAST-MODIFIED:20240930T204355Z
UID:6765-1744462800-1744473600@mapleleafacres.ca
SUMMARY:Cornhole
DESCRIPTION:
URL:https://mapleleafacres.ca/event/cornhole/2025-04-12/
CATEGORIES:Activities,Rec. Hall
END:VEVENT
BEGIN:VEVENT
DTSTART;TZID=America/Toronto:20250405T130000
DTEND;TZID=America/Toronto:20250405T160000
DTSTAMP:20260419T232331
CREATED:20240312T191134Z
LAST-MODIFIED:20240930T204354Z
UID:6764-1743858000-1743868800@mapleleafacres.ca
SUMMARY:Cornhole
DESCRIPTION:
URL:https://mapleleafacres.ca/event/cornhole/2025-04-05/
CATEGORIES:Activities,Rec. Hall
END:VEVENT
BEGIN:VEVENT
DTSTART;TZID=America/Toronto:20250329T130000
DTEND;TZID=America/Toronto:20250329T160000
DTSTAMP:20260419T232331
CREATED:20240312T191134Z
LAST-MODIFIED:20240930T204354Z
UID:6763-1743253200-1743264000@mapleleafacres.ca
SUMMARY:Cornhole
DESCRIPTION:
URL:https://mapleleafacres.ca/event/cornhole/2025-03-29/
CATEGORIES:Activities,Rec. Hall
END:VEVENT
BEGIN:VEVENT
DTSTART;TZID=America/Toronto:20250322T130000
DTEND;TZID=America/Toronto:20250322T160000
DTSTAMP:20260419T232331
CREATED:20240312T191134Z
LAST-MODIFIED:20240930T204353Z
UID:6762-1742648400-1742659200@mapleleafacres.ca
SUMMARY:Cornhole
DESCRIPTION:
URL:https://mapleleafacres.ca/event/cornhole/2025-03-22/
CATEGORIES:Activities,Rec. Hall
END:VEVENT
BEGIN:VEVENT
DTSTART;TZID=America/Toronto:20250315T130000
DTEND;TZID=America/Toronto:20250315T160000
DTSTAMP:20260419T232331
CREATED:20240312T191134Z
LAST-MODIFIED:20240930T204353Z
UID:6761-1742043600-1742054400@mapleleafacres.ca
SUMMARY:Cornhole
DESCRIPTION:
URL:https://mapleleafacres.ca/event/cornhole/2025-03-15/
CATEGORIES:Activities,Rec. Hall
END:VEVENT
BEGIN:VEVENT
DTSTART;TZID=America/Toronto:20250308T130000
DTEND;TZID=America/Toronto:20250308T160000
DTSTAMP:20260419T232331
CREATED:20240312T191134Z
LAST-MODIFIED:20240930T204352Z
UID:6760-1741438800-1741449600@mapleleafacres.ca
SUMMARY:Cornhole
DESCRIPTION:
URL:https://mapleleafacres.ca/event/cornhole/2025-03-08/
CATEGORIES:Activities,Rec. Hall
END:VEVENT
BEGIN:VEVENT
DTSTART;TZID=America/Toronto:20250301T130000
DTEND;TZID=America/Toronto:20250301T160000
DTSTAMP:20260419T232331
CREATED:20240312T191134Z
LAST-MODIFIED:20240930T204352Z
UID:6759-1740834000-1740844800@mapleleafacres.ca
SUMMARY:Cornhole
DESCRIPTION:
URL:https://mapleleafacres.ca/event/cornhole/2025-03-01/
CATEGORIES:Activities,Rec. Hall
END:VEVENT
BEGIN:VEVENT
DTSTART;TZID=America/Toronto:20250222T130000
DTEND;TZID=America/Toronto:20250222T160000
DTSTAMP:20260419T232331
CREATED:20240312T191134Z
LAST-MODIFIED:20240930T204352Z
UID:6758-1740229200-1740240000@mapleleafacres.ca
SUMMARY:Cornhole
DESCRIPTION:
URL:https://mapleleafacres.ca/event/cornhole/2025-02-22/
CATEGORIES:Activities,Rec. Hall
END:VEVENT
BEGIN:VEVENT
DTSTART;TZID=America/Toronto:20250215T130000
DTEND;TZID=America/Toronto:20250215T160000
DTSTAMP:20260419T232331
CREATED:20240312T191134Z
LAST-MODIFIED:20240930T204352Z
UID:6757-1739624400-1739635200@mapleleafacres.ca
SUMMARY:Cornhole
DESCRIPTION:
URL:https://mapleleafacres.ca/event/cornhole/2025-02-15/
CATEGORIES:Activities,Rec. Hall
END:VEVENT
BEGIN:VEVENT
DTSTART;TZID=America/Toronto:20250208T130000
DTEND;TZID=America/Toronto:20250208T160000
DTSTAMP:20260419T232331
CREATED:20240312T191134Z
LAST-MODIFIED:20240930T204352Z
UID:6756-1739019600-1739030400@mapleleafacres.ca
SUMMARY:Cornhole
DESCRIPTION:
URL:https://mapleleafacres.ca/event/cornhole/2025-02-08/
CATEGORIES:Activities,Rec. Hall
END:VEVENT
BEGIN:VEVENT
DTSTART;TZID=America/Toronto:20250201T130000
DTEND;TZID=America/Toronto:20250201T160000
DTSTAMP:20260419T232331
CREATED:20240312T191134Z
LAST-MODIFIED:20240930T204351Z
UID:6755-1738414800-1738425600@mapleleafacres.ca
SUMMARY:Cornhole
DESCRIPTION:
URL:https://mapleleafacres.ca/event/cornhole/2025-02-01/
CATEGORIES:Activities,Rec. Hall
END:VEVENT
BEGIN:VEVENT
DTSTART;TZID=America/Toronto:20250125T130000
DTEND;TZID=America/Toronto:20250125T160000
DTSTAMP:20260419T232331
CREATED:20240312T191134Z
LAST-MODIFIED:20240930T204351Z
UID:6754-1737810000-1737820800@mapleleafacres.ca
SUMMARY:Cornhole
DESCRIPTION:
URL:https://mapleleafacres.ca/event/cornhole/2025-01-25/
CATEGORIES:Activities,Rec. Hall
END:VEVENT
BEGIN:VEVENT
DTSTART;TZID=America/Toronto:20250118T130000
DTEND;TZID=America/Toronto:20250118T160000
DTSTAMP:20260419T232331
CREATED:20240312T191134Z
LAST-MODIFIED:20240930T204351Z
UID:6753-1737205200-1737216000@mapleleafacres.ca
SUMMARY:Cornhole
DESCRIPTION:
URL:https://mapleleafacres.ca/event/cornhole/2025-01-18/
CATEGORIES:Activities,Rec. Hall
END:VEVENT
BEGIN:VEVENT
DTSTART;TZID=America/Toronto:20250111T130000
DTEND;TZID=America/Toronto:20250111T160000
DTSTAMP:20260419T232331
CREATED:20240312T191134Z
LAST-MODIFIED:20240930T204347Z
UID:6752-1736600400-1736611200@mapleleafacres.ca
SUMMARY:Cornhole
DESCRIPTION:
URL:https://mapleleafacres.ca/event/cornhole/2025-01-11/
CATEGORIES:Activities,Rec. Hall
END:VEVENT
BEGIN:VEVENT
DTSTART;TZID=America/Toronto:20250104T130000
DTEND;TZID=America/Toronto:20250104T160000
DTSTAMP:20260419T232331
CREATED:20240312T191134Z
LAST-MODIFIED:20240930T204347Z
UID:6751-1735995600-1736006400@mapleleafacres.ca
SUMMARY:Cornhole
DESCRIPTION:
URL:https://mapleleafacres.ca/event/cornhole/2025-01-04/
CATEGORIES:Activities,Rec. Hall
END:VEVENT
BEGIN:VEVENT
DTSTART;TZID=America/Toronto:20241228T130000
DTEND;TZID=America/Toronto:20241228T160000
DTSTAMP:20260419T232331
CREATED:20240312T191134Z
LAST-MODIFIED:20240930T204347Z
UID:6750-1735390800-1735401600@mapleleafacres.ca
SUMMARY:Cornhole
DESCRIPTION:
URL:https://mapleleafacres.ca/event/cornhole/2024-12-28/
CATEGORIES:Activities,Rec. Hall
END:VEVENT
BEGIN:VEVENT
DTSTART;TZID=America/Toronto:20241221T130000
DTEND;TZID=America/Toronto:20241221T160000
DTSTAMP:20260419T232331
CREATED:20240312T191134Z
LAST-MODIFIED:20240930T204346Z
UID:6749-1734786000-1734796800@mapleleafacres.ca
SUMMARY:Cornhole
DESCRIPTION:
URL:https://mapleleafacres.ca/event/cornhole/2024-12-21/
CATEGORIES:Activities,Rec. Hall
END:VEVENT
BEGIN:VEVENT
DTSTART;TZID=America/Toronto:20241214T130000
DTEND;TZID=America/Toronto:20241214T160000
DTSTAMP:20260419T232331
CREATED:20240312T191134Z
LAST-MODIFIED:20240930T204346Z
UID:6748-1734181200-1734192000@mapleleafacres.ca
SUMMARY:Cornhole
DESCRIPTION:
URL:https://mapleleafacres.ca/event/cornhole/2024-12-14/
CATEGORIES:Activities,Rec. Hall
END:VEVENT
BEGIN:VEVENT
DTSTART;TZID=America/Toronto:20241207T130000
DTEND;TZID=America/Toronto:20241207T160000
DTSTAMP:20260419T232331
CREATED:20240312T191134Z
LAST-MODIFIED:20240930T204346Z
UID:6747-1733576400-1733587200@mapleleafacres.ca
SUMMARY:Cornhole
DESCRIPTION:
URL:https://mapleleafacres.ca/event/cornhole/2024-12-07/
CATEGORIES:Activities,Rec. Hall
END:VEVENT
BEGIN:VEVENT
DTSTART;TZID=America/Toronto:20241130T130000
DTEND;TZID=America/Toronto:20241130T160000
DTSTAMP:20260419T232331
CREATED:20240312T191134Z
LAST-MODIFIED:20240930T204346Z
UID:6746-1732971600-1732982400@mapleleafacres.ca
SUMMARY:Cornhole
DESCRIPTION:
URL:https://mapleleafacres.ca/event/cornhole/2024-11-30/
CATEGORIES:Activities,Rec. Hall
END:VEVENT
BEGIN:VEVENT
DTSTART;TZID=America/Toronto:20241123T130000
DTEND;TZID=America/Toronto:20241123T160000
DTSTAMP:20260419T232331
CREATED:20240312T191134Z
LAST-MODIFIED:20240930T204346Z
UID:6745-1732366800-1732377600@mapleleafacres.ca
SUMMARY:Cornhole
DESCRIPTION:
URL:https://mapleleafacres.ca/event/cornhole/2024-11-23/
CATEGORIES:Activities,Rec. Hall
END:VEVENT
BEGIN:VEVENT
DTSTART;TZID=America/Toronto:20241116T130000
DTEND;TZID=America/Toronto:20241116T160000
DTSTAMP:20260419T232331
CREATED:20240312T191134Z
LAST-MODIFIED:20240930T204345Z
UID:6744-1731762000-1731772800@mapleleafacres.ca
SUMMARY:Cornhole
DESCRIPTION:
URL:https://mapleleafacres.ca/event/cornhole/2024-11-16/
CATEGORIES:Activities,Rec. Hall
END:VEVENT
BEGIN:VEVENT
DTSTART;TZID=America/Toronto:20241109T130000
DTEND;TZID=America/Toronto:20241109T160000
DTSTAMP:20260419T232331
CREATED:20240312T191134Z
LAST-MODIFIED:20240930T204345Z
UID:6743-1731157200-1731168000@mapleleafacres.ca
SUMMARY:Cornhole
DESCRIPTION:
URL:https://mapleleafacres.ca/event/cornhole/2024-11-09/
CATEGORIES:Activities,Rec. Hall
END:VEVENT
BEGIN:VEVENT
DTSTART;TZID=America/Toronto:20241102T130000
DTEND;TZID=America/Toronto:20241102T160000
DTSTAMP:20260419T232331
CREATED:20240312T191134Z
LAST-MODIFIED:20240930T204345Z
UID:6240-1730552400-1730563200@mapleleafacres.ca
SUMMARY:Cornhole
DESCRIPTION:
URL:https://mapleleafacres.ca/event/cornhole/2024-11-02/
CATEGORIES:Activities,Rec. Hall
END:VEVENT
END:VCALENDAR