BEGIN:VCALENDAR
VERSION:2.0
PRODID:-//Maple Leaf Acres - ECPv6.15.18//NONSGML v1.0//EN
CALSCALE:GREGORIAN
METHOD:PUBLISH
X-WR-CALNAME:Maple Leaf Acres
X-ORIGINAL-URL:https://mapleleafacres.ca
X-WR-CALDESC:Events for Maple Leaf Acres
REFRESH-INTERVAL;VALUE=DURATION:PT1H
X-Robots-Tag:noindex
X-PUBLISHED-TTL:PT1H
BEGIN:VTIMEZONE
TZID:America/Toronto
BEGIN:DAYLIGHT
TZOFFSETFROM:-0500
TZOFFSETTO:-0400
TZNAME:EDT
DTSTART:20230312T070000
END:DAYLIGHT
BEGIN:STANDARD
TZOFFSETFROM:-0400
TZOFFSETTO:-0500
TZNAME:EST
DTSTART:20231105T060000
END:STANDARD
BEGIN:DAYLIGHT
TZOFFSETFROM:-0500
TZOFFSETTO:-0400
TZNAME:EDT
DTSTART:20240310T070000
END:DAYLIGHT
BEGIN:STANDARD
TZOFFSETFROM:-0400
TZOFFSETTO:-0500
TZNAME:EST
DTSTART:20241103T060000
END:STANDARD
BEGIN:DAYLIGHT
TZOFFSETFROM:-0500
TZOFFSETTO:-0400
TZNAME:EDT
DTSTART:20250309T070000
END:DAYLIGHT
BEGIN:STANDARD
TZOFFSETFROM:-0400
TZOFFSETTO:-0500
TZNAME:EST
DTSTART:20251102T060000
END:STANDARD
END:VTIMEZONE
BEGIN:VEVENT
DTSTART;TZID=America/Toronto:20241030T190000
DTEND;TZID=America/Toronto:20241030T220000
DTSTAMP:20260420T032749
CREATED:20240131T192245Z
LAST-MODIFIED:20240131T192245Z
UID:6081-1730314800-1730325600@mapleleafacres.ca
SUMMARY:Darts
DESCRIPTION:
URL:https://mapleleafacres.ca/event/darts-45/2024-10-30/
CATEGORIES:Activities,Rec. Hall
END:VEVENT
BEGIN:VEVENT
DTSTART;TZID=America/Toronto:20241023T190000
DTEND;TZID=America/Toronto:20241023T220000
DTSTAMP:20260420T032749
CREATED:20240131T192245Z
LAST-MODIFIED:20240131T192245Z
UID:6080-1729710000-1729720800@mapleleafacres.ca
SUMMARY:Darts
DESCRIPTION:
URL:https://mapleleafacres.ca/event/darts-45/2024-10-23/
CATEGORIES:Activities,Rec. Hall
END:VEVENT
BEGIN:VEVENT
DTSTART;TZID=America/Toronto:20241016T190000
DTEND;TZID=America/Toronto:20241016T220000
DTSTAMP:20260420T032749
CREATED:20240131T192245Z
LAST-MODIFIED:20240131T192245Z
UID:6079-1729105200-1729116000@mapleleafacres.ca
SUMMARY:Darts
DESCRIPTION:
URL:https://mapleleafacres.ca/event/darts-45/2024-10-16/
CATEGORIES:Activities,Rec. Hall
END:VEVENT
BEGIN:VEVENT
DTSTART;TZID=America/Toronto:20241009T190000
DTEND;TZID=America/Toronto:20241009T220000
DTSTAMP:20260420T032749
CREATED:20240131T192245Z
LAST-MODIFIED:20240131T192245Z
UID:6078-1728500400-1728511200@mapleleafacres.ca
SUMMARY:Darts
DESCRIPTION:
URL:https://mapleleafacres.ca/event/darts-45/2024-10-09/
CATEGORIES:Activities,Rec. Hall
END:VEVENT
BEGIN:VEVENT
DTSTART;TZID=America/Toronto:20241002T190000
DTEND;TZID=America/Toronto:20241002T220000
DTSTAMP:20260420T032749
CREATED:20240131T192245Z
LAST-MODIFIED:20240131T192245Z
UID:6077-1727895600-1727906400@mapleleafacres.ca
SUMMARY:Darts
DESCRIPTION:
URL:https://mapleleafacres.ca/event/darts-45/2024-10-02/
CATEGORIES:Activities,Rec. Hall
END:VEVENT
BEGIN:VEVENT
DTSTART;TZID=America/Toronto:20240925T190000
DTEND;TZID=America/Toronto:20240925T220000
DTSTAMP:20260420T032749
CREATED:20240131T192245Z
LAST-MODIFIED:20240131T192245Z
UID:6076-1727290800-1727301600@mapleleafacres.ca
SUMMARY:Darts
DESCRIPTION:
URL:https://mapleleafacres.ca/event/darts-45/2024-09-25/
CATEGORIES:Activities,Rec. Hall
END:VEVENT
BEGIN:VEVENT
DTSTART;TZID=America/Toronto:20240918T190000
DTEND;TZID=America/Toronto:20240918T220000
DTSTAMP:20260420T032749
CREATED:20240131T192245Z
LAST-MODIFIED:20240131T192245Z
UID:6075-1726686000-1726696800@mapleleafacres.ca
SUMMARY:Darts
DESCRIPTION:
URL:https://mapleleafacres.ca/event/darts-45/2024-09-18/
CATEGORIES:Activities,Rec. Hall
END:VEVENT
BEGIN:VEVENT
DTSTART;TZID=America/Toronto:20240911T190000
DTEND;TZID=America/Toronto:20240911T220000
DTSTAMP:20260420T032749
CREATED:20240131T192245Z
LAST-MODIFIED:20240131T192245Z
UID:6074-1726081200-1726092000@mapleleafacres.ca
SUMMARY:Darts
DESCRIPTION:
URL:https://mapleleafacres.ca/event/darts-45/2024-09-11/
CATEGORIES:Activities,Rec. Hall
END:VEVENT
BEGIN:VEVENT
DTSTART;TZID=America/Toronto:20240904T190000
DTEND;TZID=America/Toronto:20240904T220000
DTSTAMP:20260420T032749
CREATED:20240131T192245Z
LAST-MODIFIED:20240131T192245Z
UID:6073-1725476400-1725487200@mapleleafacres.ca
SUMMARY:Darts
DESCRIPTION:
URL:https://mapleleafacres.ca/event/darts-45/2024-09-04/
CATEGORIES:Activities,Rec. Hall
END:VEVENT
BEGIN:VEVENT
DTSTART;TZID=America/Toronto:20240828T190000
DTEND;TZID=America/Toronto:20240828T220000
DTSTAMP:20260420T032749
CREATED:20240131T192245Z
LAST-MODIFIED:20240131T192245Z
UID:6072-1724871600-1724882400@mapleleafacres.ca
SUMMARY:Darts
DESCRIPTION:
URL:https://mapleleafacres.ca/event/darts-45/2024-08-28/
CATEGORIES:Activities,Rec. Hall
END:VEVENT
BEGIN:VEVENT
DTSTART;TZID=America/Toronto:20240821T190000
DTEND;TZID=America/Toronto:20240821T220000
DTSTAMP:20260420T032749
CREATED:20240131T192245Z
LAST-MODIFIED:20240131T192245Z
UID:6071-1724266800-1724277600@mapleleafacres.ca
SUMMARY:Darts
DESCRIPTION:
URL:https://mapleleafacres.ca/event/darts-45/2024-08-21/
CATEGORIES:Activities,Rec. Hall
END:VEVENT
BEGIN:VEVENT
DTSTART;TZID=America/Toronto:20240814T190000
DTEND;TZID=America/Toronto:20240814T220000
DTSTAMP:20260420T032749
CREATED:20240131T192245Z
LAST-MODIFIED:20240131T192245Z
UID:6070-1723662000-1723672800@mapleleafacres.ca
SUMMARY:Darts
DESCRIPTION:
URL:https://mapleleafacres.ca/event/darts-45/2024-08-14/
CATEGORIES:Activities,Rec. Hall
END:VEVENT
BEGIN:VEVENT
DTSTART;TZID=America/Toronto:20240807T190000
DTEND;TZID=America/Toronto:20240807T220000
DTSTAMP:20260420T032749
CREATED:20240131T192245Z
LAST-MODIFIED:20240131T192245Z
UID:6069-1723057200-1723068000@mapleleafacres.ca
SUMMARY:Darts
DESCRIPTION:
URL:https://mapleleafacres.ca/event/darts-45/2024-08-07/
CATEGORIES:Activities,Rec. Hall
END:VEVENT
BEGIN:VEVENT
DTSTART;TZID=America/Toronto:20240731T190000
DTEND;TZID=America/Toronto:20240731T220000
DTSTAMP:20260420T032749
CREATED:20240131T192245Z
LAST-MODIFIED:20240131T192245Z
UID:6068-1722452400-1722463200@mapleleafacres.ca
SUMMARY:Darts
DESCRIPTION:
URL:https://mapleleafacres.ca/event/darts-45/2024-07-31/
CATEGORIES:Activities,Rec. Hall
END:VEVENT
BEGIN:VEVENT
DTSTART;TZID=America/Toronto:20240724T190000
DTEND;TZID=America/Toronto:20240724T220000
DTSTAMP:20260420T032749
CREATED:20240131T192245Z
LAST-MODIFIED:20240131T192245Z
UID:6067-1721847600-1721858400@mapleleafacres.ca
SUMMARY:Darts
DESCRIPTION:
URL:https://mapleleafacres.ca/event/darts-45/2024-07-24/
CATEGORIES:Activities,Rec. Hall
END:VEVENT
BEGIN:VEVENT
DTSTART;TZID=America/Toronto:20240717T190000
DTEND;TZID=America/Toronto:20240717T220000
DTSTAMP:20260420T032749
CREATED:20240131T192245Z
LAST-MODIFIED:20240131T192245Z
UID:6066-1721242800-1721253600@mapleleafacres.ca
SUMMARY:Darts
DESCRIPTION:
URL:https://mapleleafacres.ca/event/darts-45/2024-07-17/
CATEGORIES:Activities,Rec. Hall
END:VEVENT
BEGIN:VEVENT
DTSTART;TZID=America/Toronto:20240710T190000
DTEND;TZID=America/Toronto:20240710T220000
DTSTAMP:20260420T032749
CREATED:20240131T192245Z
LAST-MODIFIED:20240131T192245Z
UID:6064-1720638000-1720648800@mapleleafacres.ca
SUMMARY:Darts
DESCRIPTION:
URL:https://mapleleafacres.ca/event/darts-45/2024-07-10/
CATEGORIES:Activities,Rec. Hall
END:VEVENT
BEGIN:VEVENT
DTSTART;TZID=America/Toronto:20240703T190000
DTEND;TZID=America/Toronto:20240703T220000
DTSTAMP:20260420T032749
CREATED:20240131T192245Z
LAST-MODIFIED:20240131T192245Z
UID:6063-1720033200-1720044000@mapleleafacres.ca
SUMMARY:Darts
DESCRIPTION:
URL:https://mapleleafacres.ca/event/darts-45/2024-07-03/
CATEGORIES:Activities,Rec. Hall
END:VEVENT
BEGIN:VEVENT
DTSTART;TZID=America/Toronto:20240626T190000
DTEND;TZID=America/Toronto:20240626T220000
DTSTAMP:20260420T032749
CREATED:20240131T192245Z
LAST-MODIFIED:20240131T192245Z
UID:6062-1719428400-1719439200@mapleleafacres.ca
SUMMARY:Darts
DESCRIPTION:
URL:https://mapleleafacres.ca/event/darts-45/2024-06-26/
CATEGORIES:Activities,Rec. Hall
END:VEVENT
BEGIN:VEVENT
DTSTART;TZID=America/Toronto:20240619T190000
DTEND;TZID=America/Toronto:20240619T220000
DTSTAMP:20260420T032749
CREATED:20240131T192245Z
LAST-MODIFIED:20240131T192245Z
UID:6061-1718823600-1718834400@mapleleafacres.ca
SUMMARY:Darts
DESCRIPTION:
URL:https://mapleleafacres.ca/event/darts-45/2024-06-19/
CATEGORIES:Activities,Rec. Hall
END:VEVENT
BEGIN:VEVENT
DTSTART;TZID=America/Toronto:20240612T190000
DTEND;TZID=America/Toronto:20240612T220000
DTSTAMP:20260420T032749
CREATED:20240131T192245Z
LAST-MODIFIED:20240131T192245Z
UID:6060-1718218800-1718229600@mapleleafacres.ca
SUMMARY:Darts
DESCRIPTION:
URL:https://mapleleafacres.ca/event/darts-45/2024-06-12/
CATEGORIES:Activities,Rec. Hall
END:VEVENT
BEGIN:VEVENT
DTSTART;TZID=America/Toronto:20240605T190000
DTEND;TZID=America/Toronto:20240605T220000
DTSTAMP:20260420T032749
CREATED:20240131T192245Z
LAST-MODIFIED:20240131T192245Z
UID:6059-1717614000-1717624800@mapleleafacres.ca
SUMMARY:Darts
DESCRIPTION:
URL:https://mapleleafacres.ca/event/darts-45/2024-06-05/
CATEGORIES:Activities,Rec. Hall
END:VEVENT
BEGIN:VEVENT
DTSTART;TZID=America/Toronto:20240529T190000
DTEND;TZID=America/Toronto:20240529T220000
DTSTAMP:20260420T032749
CREATED:20240131T192245Z
LAST-MODIFIED:20240131T192245Z
UID:6058-1717009200-1717020000@mapleleafacres.ca
SUMMARY:Darts
DESCRIPTION:
URL:https://mapleleafacres.ca/event/darts-45/2024-05-29/
CATEGORIES:Activities,Rec. Hall
END:VEVENT
BEGIN:VEVENT
DTSTART;TZID=America/Toronto:20240522T190000
DTEND;TZID=America/Toronto:20240522T220000
DTSTAMP:20260420T032749
CREATED:20240131T192245Z
LAST-MODIFIED:20240131T192245Z
UID:6057-1716404400-1716415200@mapleleafacres.ca
SUMMARY:Darts
DESCRIPTION:
URL:https://mapleleafacres.ca/event/darts-45/2024-05-22/
CATEGORIES:Activities,Rec. Hall
END:VEVENT
BEGIN:VEVENT
DTSTART;TZID=America/Toronto:20240515T190000
DTEND;TZID=America/Toronto:20240515T220000
DTSTAMP:20260420T032749
CREATED:20240131T192245Z
LAST-MODIFIED:20240131T192245Z
UID:6056-1715799600-1715810400@mapleleafacres.ca
SUMMARY:Darts
DESCRIPTION:
URL:https://mapleleafacres.ca/event/darts-45/2024-05-15/
CATEGORIES:Activities,Rec. Hall
END:VEVENT
BEGIN:VEVENT
DTSTART;TZID=America/Toronto:20240508T190000
DTEND;TZID=America/Toronto:20240508T220000
DTSTAMP:20260420T032749
CREATED:20240131T192245Z
LAST-MODIFIED:20240131T192245Z
UID:6055-1715194800-1715205600@mapleleafacres.ca
SUMMARY:Darts
DESCRIPTION:
URL:https://mapleleafacres.ca/event/darts-45/2024-05-08/
CATEGORIES:Activities,Rec. Hall
END:VEVENT
BEGIN:VEVENT
DTSTART;TZID=America/Toronto:20240502T190000
DTEND;TZID=America/Toronto:20240502T220000
DTSTAMP:20260420T032749
CREATED:20240131T192245Z
LAST-MODIFIED:20240131T192245Z
UID:6054-1714676400-1714687200@mapleleafacres.ca
SUMMARY:Darts
DESCRIPTION:
URL:https://mapleleafacres.ca/event/darts-45/2024-05-02/
CATEGORIES:Activities,Rec. Hall
END:VEVENT
END:VCALENDAR