BEGIN:VCALENDAR
VERSION:2.0
PRODID:-//Maple Leaf Acres - ECPv6.15.18//NONSGML v1.0//EN
CALSCALE:GREGORIAN
METHOD:PUBLISH
X-ORIGINAL-URL:https://mapleleafacres.ca
X-WR-CALDESC:Events for Maple Leaf Acres
REFRESH-INTERVAL;VALUE=DURATION:PT1H
X-Robots-Tag:noindex
X-PUBLISHED-TTL:PT1H
BEGIN:VTIMEZONE
TZID:America/Toronto
BEGIN:DAYLIGHT
TZOFFSETFROM:-0500
TZOFFSETTO:-0400
TZNAME:EDT
DTSTART:20240310T070000
END:DAYLIGHT
BEGIN:STANDARD
TZOFFSETFROM:-0400
TZOFFSETTO:-0500
TZNAME:EST
DTSTART:20241103T060000
END:STANDARD
BEGIN:DAYLIGHT
TZOFFSETFROM:-0500
TZOFFSETTO:-0400
TZNAME:EDT
DTSTART:20250309T070000
END:DAYLIGHT
BEGIN:STANDARD
TZOFFSETFROM:-0400
TZOFFSETTO:-0500
TZNAME:EST
DTSTART:20251102T060000
END:STANDARD
BEGIN:DAYLIGHT
TZOFFSETFROM:-0500
TZOFFSETTO:-0400
TZNAME:EDT
DTSTART:20260308T070000
END:DAYLIGHT
BEGIN:STANDARD
TZOFFSETFROM:-0400
TZOFFSETTO:-0500
TZNAME:EST
DTSTART:20261101T060000
END:STANDARD
END:VTIMEZONE
BEGIN:VEVENT
DTSTART;TZID=America/Toronto:20250423T190000
DTEND;TZID=America/Toronto:20250423T190000
DTSTAMP:20260420T005802
CREATED:20240918T134611Z
LAST-MODIFIED:20240918T134611Z
UID:6718-1745434800-1745434800@mapleleafacres.ca
SUMMARY:Darts
DESCRIPTION:
URL:https://mapleleafacres.ca/event/darts-48/2025-04-23/
CATEGORIES:Activities,Rec. Hall
END:VEVENT
BEGIN:VEVENT
DTSTART;TZID=America/Toronto:20250419T190000
DTEND;TZID=America/Toronto:20250419T190000
DTSTAMP:20260420T005802
CREATED:20240918T134611Z
LAST-MODIFIED:20240918T134611Z
UID:6717-1745089200-1745089200@mapleleafacres.ca
SUMMARY:Darts
DESCRIPTION:
URL:https://mapleleafacres.ca/event/darts-48/2025-04-19/
CATEGORIES:Activities,Rec. Hall
END:VEVENT
BEGIN:VEVENT
DTSTART;TZID=America/Toronto:20250416T190000
DTEND;TZID=America/Toronto:20250416T190000
DTSTAMP:20260420T005802
CREATED:20240918T134611Z
LAST-MODIFIED:20240918T134611Z
UID:6716-1744830000-1744830000@mapleleafacres.ca
SUMMARY:Darts
DESCRIPTION:
URL:https://mapleleafacres.ca/event/darts-48/2025-04-16/
CATEGORIES:Activities,Rec. Hall
END:VEVENT
BEGIN:VEVENT
DTSTART;TZID=America/Toronto:20250412T190000
DTEND;TZID=America/Toronto:20250412T190000
DTSTAMP:20260420T005802
CREATED:20240918T134611Z
LAST-MODIFIED:20240918T134611Z
UID:6715-1744484400-1744484400@mapleleafacres.ca
SUMMARY:Darts
DESCRIPTION:
URL:https://mapleleafacres.ca/event/darts-48/2025-04-12/
CATEGORIES:Activities,Rec. Hall
END:VEVENT
BEGIN:VEVENT
DTSTART;TZID=America/Toronto:20250409T190000
DTEND;TZID=America/Toronto:20250409T190000
DTSTAMP:20260420T005802
CREATED:20240918T134611Z
LAST-MODIFIED:20240918T134611Z
UID:6714-1744225200-1744225200@mapleleafacres.ca
SUMMARY:Darts
DESCRIPTION:
URL:https://mapleleafacres.ca/event/darts-48/2025-04-09/
CATEGORIES:Activities,Rec. Hall
END:VEVENT
BEGIN:VEVENT
DTSTART;TZID=America/Toronto:20250405T190000
DTEND;TZID=America/Toronto:20250405T190000
DTSTAMP:20260420T005802
CREATED:20240918T134611Z
LAST-MODIFIED:20240918T134611Z
UID:6713-1743879600-1743879600@mapleleafacres.ca
SUMMARY:Darts
DESCRIPTION:
URL:https://mapleleafacres.ca/event/darts-48/2025-04-05/
CATEGORIES:Activities,Rec. Hall
END:VEVENT
BEGIN:VEVENT
DTSTART;TZID=America/Toronto:20250402T190000
DTEND;TZID=America/Toronto:20250402T190000
DTSTAMP:20260420T005802
CREATED:20240918T134611Z
LAST-MODIFIED:20240918T134611Z
UID:6712-1743620400-1743620400@mapleleafacres.ca
SUMMARY:Darts
DESCRIPTION:
URL:https://mapleleafacres.ca/event/darts-48/2025-04-02/
CATEGORIES:Activities,Rec. Hall
END:VEVENT
BEGIN:VEVENT
DTSTART;TZID=America/Toronto:20250329T190000
DTEND;TZID=America/Toronto:20250329T190000
DTSTAMP:20260420T005802
CREATED:20240918T134611Z
LAST-MODIFIED:20240918T134611Z
UID:6711-1743274800-1743274800@mapleleafacres.ca
SUMMARY:Darts
DESCRIPTION:
URL:https://mapleleafacres.ca/event/darts-48/2025-03-29/
CATEGORIES:Activities,Rec. Hall
END:VEVENT
BEGIN:VEVENT
DTSTART;TZID=America/Toronto:20250326T190000
DTEND;TZID=America/Toronto:20250326T190000
DTSTAMP:20260420T005803
CREATED:20240918T134611Z
LAST-MODIFIED:20240918T134611Z
UID:6710-1743015600-1743015600@mapleleafacres.ca
SUMMARY:Darts
DESCRIPTION:
URL:https://mapleleafacres.ca/event/darts-48/2025-03-26/
CATEGORIES:Activities,Rec. Hall
END:VEVENT
BEGIN:VEVENT
DTSTART;TZID=America/Toronto:20250322T190000
DTEND;TZID=America/Toronto:20250322T190000
DTSTAMP:20260420T005803
CREATED:20240918T134611Z
LAST-MODIFIED:20240918T134611Z
UID:6709-1742670000-1742670000@mapleleafacres.ca
SUMMARY:Darts
DESCRIPTION:
URL:https://mapleleafacres.ca/event/darts-48/2025-03-22/
CATEGORIES:Activities,Rec. Hall
END:VEVENT
BEGIN:VEVENT
DTSTART;TZID=America/Toronto:20250319T190000
DTEND;TZID=America/Toronto:20250319T190000
DTSTAMP:20260420T005803
CREATED:20240918T134611Z
LAST-MODIFIED:20240918T134611Z
UID:6708-1742410800-1742410800@mapleleafacres.ca
SUMMARY:Darts
DESCRIPTION:
URL:https://mapleleafacres.ca/event/darts-48/2025-03-19/
CATEGORIES:Activities,Rec. Hall
END:VEVENT
BEGIN:VEVENT
DTSTART;TZID=America/Toronto:20250315T190000
DTEND;TZID=America/Toronto:20250315T190000
DTSTAMP:20260420T005803
CREATED:20240918T134611Z
LAST-MODIFIED:20240918T134611Z
UID:6707-1742065200-1742065200@mapleleafacres.ca
SUMMARY:Darts
DESCRIPTION:
URL:https://mapleleafacres.ca/event/darts-48/2025-03-15/
CATEGORIES:Activities,Rec. Hall
END:VEVENT
BEGIN:VEVENT
DTSTART;TZID=America/Toronto:20250312T190000
DTEND;TZID=America/Toronto:20250312T190000
DTSTAMP:20260420T005803
CREATED:20240918T134611Z
LAST-MODIFIED:20240918T134611Z
UID:6706-1741806000-1741806000@mapleleafacres.ca
SUMMARY:Darts
DESCRIPTION:
URL:https://mapleleafacres.ca/event/darts-48/2025-03-12/
CATEGORIES:Activities,Rec. Hall
END:VEVENT
BEGIN:VEVENT
DTSTART;TZID=America/Toronto:20250308T190000
DTEND;TZID=America/Toronto:20250308T190000
DTSTAMP:20260420T005803
CREATED:20240918T134611Z
LAST-MODIFIED:20240918T134611Z
UID:6705-1741460400-1741460400@mapleleafacres.ca
SUMMARY:Darts
DESCRIPTION:
URL:https://mapleleafacres.ca/event/darts-48/2025-03-08/
CATEGORIES:Activities,Rec. Hall
END:VEVENT
BEGIN:VEVENT
DTSTART;TZID=America/Toronto:20250305T190000
DTEND;TZID=America/Toronto:20250305T190000
DTSTAMP:20260420T005803
CREATED:20240918T134611Z
LAST-MODIFIED:20240918T134611Z
UID:6704-1741201200-1741201200@mapleleafacres.ca
SUMMARY:Darts
DESCRIPTION:
URL:https://mapleleafacres.ca/event/darts-48/2025-03-05/
CATEGORIES:Activities,Rec. Hall
END:VEVENT
BEGIN:VEVENT
DTSTART;TZID=America/Toronto:20250301T190000
DTEND;TZID=America/Toronto:20250301T190000
DTSTAMP:20260420T005803
CREATED:20240918T134611Z
LAST-MODIFIED:20240918T134611Z
UID:6703-1740855600-1740855600@mapleleafacres.ca
SUMMARY:Darts
DESCRIPTION:
URL:https://mapleleafacres.ca/event/darts-48/2025-03-01/
CATEGORIES:Activities,Rec. Hall
END:VEVENT
BEGIN:VEVENT
DTSTART;TZID=America/Toronto:20250226T190000
DTEND;TZID=America/Toronto:20250226T190000
DTSTAMP:20260420T005803
CREATED:20240918T134611Z
LAST-MODIFIED:20240918T134611Z
UID:6702-1740596400-1740596400@mapleleafacres.ca
SUMMARY:Darts
DESCRIPTION:
URL:https://mapleleafacres.ca/event/darts-48/2025-02-26/
CATEGORIES:Activities,Rec. Hall
END:VEVENT
BEGIN:VEVENT
DTSTART;TZID=America/Toronto:20250222T190000
DTEND;TZID=America/Toronto:20250222T190000
DTSTAMP:20260420T005803
CREATED:20240918T134611Z
LAST-MODIFIED:20240918T134611Z
UID:6701-1740250800-1740250800@mapleleafacres.ca
SUMMARY:Darts
DESCRIPTION:
URL:https://mapleleafacres.ca/event/darts-48/2025-02-22/
CATEGORIES:Activities,Rec. Hall
END:VEVENT
BEGIN:VEVENT
DTSTART;TZID=America/Toronto:20250219T190000
DTEND;TZID=America/Toronto:20250219T190000
DTSTAMP:20260420T005803
CREATED:20240918T134611Z
LAST-MODIFIED:20240918T134611Z
UID:6700-1739991600-1739991600@mapleleafacres.ca
SUMMARY:Darts
DESCRIPTION:
URL:https://mapleleafacres.ca/event/darts-48/2025-02-19/
CATEGORIES:Activities,Rec. Hall
END:VEVENT
BEGIN:VEVENT
DTSTART;TZID=America/Toronto:20250215T190000
DTEND;TZID=America/Toronto:20250215T190000
DTSTAMP:20260420T005803
CREATED:20240918T134611Z
LAST-MODIFIED:20240918T134611Z
UID:6699-1739646000-1739646000@mapleleafacres.ca
SUMMARY:Darts
DESCRIPTION:
URL:https://mapleleafacres.ca/event/darts-48/2025-02-15/
CATEGORIES:Activities,Rec. Hall
END:VEVENT
BEGIN:VEVENT
DTSTART;TZID=America/Toronto:20250212T190000
DTEND;TZID=America/Toronto:20250212T190000
DTSTAMP:20260420T005803
CREATED:20240918T134611Z
LAST-MODIFIED:20240918T134611Z
UID:6698-1739386800-1739386800@mapleleafacres.ca
SUMMARY:Darts
DESCRIPTION:
URL:https://mapleleafacres.ca/event/darts-48/2025-02-12/
CATEGORIES:Activities,Rec. Hall
END:VEVENT
BEGIN:VEVENT
DTSTART;TZID=America/Toronto:20250208T190000
DTEND;TZID=America/Toronto:20250208T190000
DTSTAMP:20260420T005803
CREATED:20240918T134611Z
LAST-MODIFIED:20240918T134611Z
UID:6697-1739041200-1739041200@mapleleafacres.ca
SUMMARY:Darts
DESCRIPTION:
URL:https://mapleleafacres.ca/event/darts-48/2025-02-08/
CATEGORIES:Activities,Rec. Hall
END:VEVENT
BEGIN:VEVENT
DTSTART;TZID=America/Toronto:20250205T190000
DTEND;TZID=America/Toronto:20250205T190000
DTSTAMP:20260420T005803
CREATED:20240918T134611Z
LAST-MODIFIED:20240918T134611Z
UID:6696-1738782000-1738782000@mapleleafacres.ca
SUMMARY:Darts
DESCRIPTION:
URL:https://mapleleafacres.ca/event/darts-48/2025-02-05/
CATEGORIES:Activities,Rec. Hall
END:VEVENT
BEGIN:VEVENT
DTSTART;TZID=America/Toronto:20250201T190000
DTEND;TZID=America/Toronto:20250201T190000
DTSTAMP:20260420T005803
CREATED:20240918T134611Z
LAST-MODIFIED:20240918T134611Z
UID:6695-1738436400-1738436400@mapleleafacres.ca
SUMMARY:Darts
DESCRIPTION:
URL:https://mapleleafacres.ca/event/darts-48/2025-02-01/
CATEGORIES:Activities,Rec. Hall
END:VEVENT
BEGIN:VEVENT
DTSTART;TZID=America/Toronto:20250129T190000
DTEND;TZID=America/Toronto:20250129T190000
DTSTAMP:20260420T005803
CREATED:20240918T134611Z
LAST-MODIFIED:20240918T134611Z
UID:6694-1738177200-1738177200@mapleleafacres.ca
SUMMARY:Darts
DESCRIPTION:
URL:https://mapleleafacres.ca/event/darts-48/2025-01-29/
CATEGORIES:Activities,Rec. Hall
END:VEVENT
BEGIN:VEVENT
DTSTART;TZID=America/Toronto:20250125T190000
DTEND;TZID=America/Toronto:20250125T190000
DTSTAMP:20260420T005803
CREATED:20240918T134611Z
LAST-MODIFIED:20240918T134611Z
UID:6693-1737831600-1737831600@mapleleafacres.ca
SUMMARY:Darts
DESCRIPTION:
URL:https://mapleleafacres.ca/event/darts-48/2025-01-25/
CATEGORIES:Activities,Rec. Hall
END:VEVENT
BEGIN:VEVENT
DTSTART;TZID=America/Toronto:20250122T190000
DTEND;TZID=America/Toronto:20250122T190000
DTSTAMP:20260420T005803
CREATED:20240918T134611Z
LAST-MODIFIED:20240918T134611Z
UID:6692-1737572400-1737572400@mapleleafacres.ca
SUMMARY:Darts
DESCRIPTION:
URL:https://mapleleafacres.ca/event/darts-48/2025-01-22/
CATEGORIES:Activities,Rec. Hall
END:VEVENT
BEGIN:VEVENT
DTSTART;TZID=America/Toronto:20250118T190000
DTEND;TZID=America/Toronto:20250118T190000
DTSTAMP:20260420T005803
CREATED:20240918T134611Z
LAST-MODIFIED:20240918T134611Z
UID:6691-1737226800-1737226800@mapleleafacres.ca
SUMMARY:Darts
DESCRIPTION:
URL:https://mapleleafacres.ca/event/darts-48/2025-01-18/
CATEGORIES:Activities,Rec. Hall
END:VEVENT
BEGIN:VEVENT
DTSTART;TZID=America/Toronto:20250115T190000
DTEND;TZID=America/Toronto:20250115T190000
DTSTAMP:20260420T005803
CREATED:20240918T134611Z
LAST-MODIFIED:20240918T134611Z
UID:6690-1736967600-1736967600@mapleleafacres.ca
SUMMARY:Darts
DESCRIPTION:
URL:https://mapleleafacres.ca/event/darts-48/2025-01-15/
CATEGORIES:Activities,Rec. Hall
END:VEVENT
BEGIN:VEVENT
DTSTART;TZID=America/Toronto:20250111T190000
DTEND;TZID=America/Toronto:20250111T190000
DTSTAMP:20260420T005803
CREATED:20240918T134611Z
LAST-MODIFIED:20240918T134611Z
UID:6689-1736622000-1736622000@mapleleafacres.ca
SUMMARY:Darts
DESCRIPTION:
URL:https://mapleleafacres.ca/event/darts-48/2025-01-11/
CATEGORIES:Activities,Rec. Hall
END:VEVENT
END:VCALENDAR