BEGIN:VCALENDAR
VERSION:2.0
PRODID:-//Maple Leaf Acres - ECPv6.15.18//NONSGML v1.0//EN
CALSCALE:GREGORIAN
METHOD:PUBLISH
X-WR-CALNAME:Maple Leaf Acres
X-ORIGINAL-URL:https://mapleleafacres.ca
X-WR-CALDESC:Events for Maple Leaf Acres
REFRESH-INTERVAL;VALUE=DURATION:PT1H
X-Robots-Tag:noindex
X-PUBLISHED-TTL:PT1H
BEGIN:VTIMEZONE
TZID:America/Toronto
BEGIN:DAYLIGHT
TZOFFSETFROM:-0500
TZOFFSETTO:-0400
TZNAME:EDT
DTSTART:20250309T070000
END:DAYLIGHT
BEGIN:STANDARD
TZOFFSETFROM:-0400
TZOFFSETTO:-0500
TZNAME:EST
DTSTART:20251102T060000
END:STANDARD
BEGIN:DAYLIGHT
TZOFFSETFROM:-0500
TZOFFSETTO:-0400
TZNAME:EDT
DTSTART:20260308T070000
END:DAYLIGHT
BEGIN:STANDARD
TZOFFSETFROM:-0400
TZOFFSETTO:-0500
TZNAME:EST
DTSTART:20261101T060000
END:STANDARD
BEGIN:DAYLIGHT
TZOFFSETFROM:-0500
TZOFFSETTO:-0400
TZNAME:EDT
DTSTART:20270314T070000
END:DAYLIGHT
BEGIN:STANDARD
TZOFFSETFROM:-0400
TZOFFSETTO:-0500
TZNAME:EST
DTSTART:20271107T060000
END:STANDARD
END:VTIMEZONE
BEGIN:VEVENT
DTSTART;TZID=America/Toronto:20260420T180000
DTEND;TZID=America/Toronto:20260420T213000
DTSTAMP:20260421T134109
CREATED:20260128T151826Z
LAST-MODIFIED:20260128T151826Z
UID:8565-1776708000-1776720600@mapleleafacres.ca
SUMMARY:Euchre
DESCRIPTION:
URL:https://mapleleafacres.ca/event/euchre-28/2026-04-20/
CATEGORIES:Activities,Adult Hall
END:VEVENT
BEGIN:VEVENT
DTSTART;TZID=America/Toronto:20260413T180000
DTEND;TZID=America/Toronto:20260413T213000
DTSTAMP:20260421T134109
CREATED:20260128T151826Z
LAST-MODIFIED:20260128T151826Z
UID:8564-1776103200-1776115800@mapleleafacres.ca
SUMMARY:Euchre
DESCRIPTION:
URL:https://mapleleafacres.ca/event/euchre-28/2026-04-13/
CATEGORIES:Activities,Adult Hall
END:VEVENT
BEGIN:VEVENT
DTSTART;TZID=America/Toronto:20260406T180000
DTEND;TZID=America/Toronto:20260406T213000
DTSTAMP:20260421T134109
CREATED:20260128T151826Z
LAST-MODIFIED:20260128T151826Z
UID:8563-1775498400-1775511000@mapleleafacres.ca
SUMMARY:Euchre
DESCRIPTION:
URL:https://mapleleafacres.ca/event/euchre-28/2026-04-06/
CATEGORIES:Activities,Adult Hall
END:VEVENT
BEGIN:VEVENT
DTSTART;TZID=America/Toronto:20260330T180000
DTEND;TZID=America/Toronto:20260330T213000
DTSTAMP:20260421T134109
CREATED:20260128T151826Z
LAST-MODIFIED:20260128T151826Z
UID:8562-1774893600-1774906200@mapleleafacres.ca
SUMMARY:Euchre
DESCRIPTION:
URL:https://mapleleafacres.ca/event/euchre-28/2026-03-30/
CATEGORIES:Activities,Adult Hall
END:VEVENT
BEGIN:VEVENT
DTSTART;TZID=America/Toronto:20260323T180000
DTEND;TZID=America/Toronto:20260323T213000
DTSTAMP:20260421T134109
CREATED:20260128T151826Z
LAST-MODIFIED:20260128T151826Z
UID:8561-1774288800-1774301400@mapleleafacres.ca
SUMMARY:Euchre
DESCRIPTION:
URL:https://mapleleafacres.ca/event/euchre-28/2026-03-23/
CATEGORIES:Activities,Adult Hall
END:VEVENT
BEGIN:VEVENT
DTSTART;TZID=America/Toronto:20260316T180000
DTEND;TZID=America/Toronto:20260316T213000
DTSTAMP:20260421T134109
CREATED:20260128T151826Z
LAST-MODIFIED:20260128T151826Z
UID:8560-1773684000-1773696600@mapleleafacres.ca
SUMMARY:Euchre
DESCRIPTION:
URL:https://mapleleafacres.ca/event/euchre-28/2026-03-16/
CATEGORIES:Activities,Adult Hall
END:VEVENT
BEGIN:VEVENT
DTSTART;TZID=America/Toronto:20260309T180000
DTEND;TZID=America/Toronto:20260309T213000
DTSTAMP:20260421T134109
CREATED:20260128T151826Z
LAST-MODIFIED:20260128T151826Z
UID:8559-1773079200-1773091800@mapleleafacres.ca
SUMMARY:Euchre
DESCRIPTION:
URL:https://mapleleafacres.ca/event/euchre-28/2026-03-09/
CATEGORIES:Activities,Adult Hall
END:VEVENT
BEGIN:VEVENT
DTSTART;TZID=America/Toronto:20260302T180000
DTEND;TZID=America/Toronto:20260302T213000
DTSTAMP:20260421T134109
CREATED:20260128T151826Z
LAST-MODIFIED:20260128T151826Z
UID:8558-1772474400-1772487000@mapleleafacres.ca
SUMMARY:Euchre
DESCRIPTION:
URL:https://mapleleafacres.ca/event/euchre-28/2026-03-02/
CATEGORIES:Activities,Adult Hall
END:VEVENT
BEGIN:VEVENT
DTSTART;TZID=America/Toronto:20260223T180000
DTEND;TZID=America/Toronto:20260223T213000
DTSTAMP:20260421T134109
CREATED:20260128T151826Z
LAST-MODIFIED:20260128T151826Z
UID:8557-1771869600-1771882200@mapleleafacres.ca
SUMMARY:Euchre
DESCRIPTION:
URL:https://mapleleafacres.ca/event/euchre-28/2026-02-23/
CATEGORIES:Activities,Adult Hall
END:VEVENT
BEGIN:VEVENT
DTSTART;TZID=America/Toronto:20260216T180000
DTEND;TZID=America/Toronto:20260216T213000
DTSTAMP:20260421T134109
CREATED:20260128T151826Z
LAST-MODIFIED:20260128T151826Z
UID:8556-1771264800-1771277400@mapleleafacres.ca
SUMMARY:Euchre
DESCRIPTION:
URL:https://mapleleafacres.ca/event/euchre-28/2026-02-16/
CATEGORIES:Activities,Adult Hall
END:VEVENT
BEGIN:VEVENT
DTSTART;TZID=America/Toronto:20260209T180000
DTEND;TZID=America/Toronto:20260209T213000
DTSTAMP:20260421T134109
CREATED:20260128T151826Z
LAST-MODIFIED:20260128T151826Z
UID:8555-1770660000-1770672600@mapleleafacres.ca
SUMMARY:Euchre
DESCRIPTION:
URL:https://mapleleafacres.ca/event/euchre-28/2026-02-09/
CATEGORIES:Activities,Adult Hall
END:VEVENT
BEGIN:VEVENT
DTSTART;TZID=America/Toronto:20260202T180000
DTEND;TZID=America/Toronto:20260202T213000
DTSTAMP:20260421T134109
CREATED:20260128T151826Z
LAST-MODIFIED:20260128T180603Z
UID:8529-1770055200-1770067800@mapleleafacres.ca
SUMMARY:Euchre
DESCRIPTION:
URL:https://mapleleafacres.ca/event/euchre-28/2026-02-02/
CATEGORIES:Activities,Adult Hall
END:VEVENT
END:VCALENDAR