BEGIN:VCALENDAR
VERSION:2.0
PRODID:-//Maple Leaf Acres - ECPv6.15.18//NONSGML v1.0//EN
CALSCALE:GREGORIAN
METHOD:PUBLISH
X-ORIGINAL-URL:https://mapleleafacres.ca
X-WR-CALDESC:Events for Maple Leaf Acres
REFRESH-INTERVAL;VALUE=DURATION:PT1H
X-Robots-Tag:noindex
X-PUBLISHED-TTL:PT1H
BEGIN:VTIMEZONE
TZID:America/Toronto
BEGIN:DAYLIGHT
TZOFFSETFROM:-0500
TZOFFSETTO:-0400
TZNAME:EDT
DTSTART:20240310T070000
END:DAYLIGHT
BEGIN:STANDARD
TZOFFSETFROM:-0400
TZOFFSETTO:-0500
TZNAME:EST
DTSTART:20241103T060000
END:STANDARD
BEGIN:DAYLIGHT
TZOFFSETFROM:-0500
TZOFFSETTO:-0400
TZNAME:EDT
DTSTART:20250309T070000
END:DAYLIGHT
BEGIN:STANDARD
TZOFFSETFROM:-0400
TZOFFSETTO:-0500
TZNAME:EST
DTSTART:20251102T060000
END:STANDARD
BEGIN:DAYLIGHT
TZOFFSETFROM:-0500
TZOFFSETTO:-0400
TZNAME:EDT
DTSTART:20260308T070000
END:DAYLIGHT
BEGIN:STANDARD
TZOFFSETFROM:-0400
TZOFFSETTO:-0500
TZNAME:EST
DTSTART:20261101T060000
END:STANDARD
BEGIN:DAYLIGHT
TZOFFSETFROM:-0500
TZOFFSETTO:-0400
TZNAME:EDT
DTSTART:20270314T070000
END:DAYLIGHT
BEGIN:STANDARD
TZOFFSETFROM:-0400
TZOFFSETTO:-0500
TZNAME:EST
DTSTART:20271107T060000
END:STANDARD
END:VTIMEZONE
BEGIN:VEVENT
DTSTART;TZID=America/Toronto:20260417T190000
DTEND;TZID=America/Toronto:20260417T233000
DTSTAMP:20260421T152333
CREATED:20250915T180431Z
LAST-MODIFIED:20250915T180431Z
UID:7863-1776452400-1776468600@mapleleafacres.ca
SUMMARY:Poker
DESCRIPTION:
URL:https://mapleleafacres.ca/event/poker-2/2026-04-17/
CATEGORIES:Activities,Fireside Room
END:VEVENT
BEGIN:VEVENT
DTSTART;TZID=America/Toronto:20260410T190000
DTEND;TZID=America/Toronto:20260410T233000
DTSTAMP:20260421T152333
CREATED:20250915T180431Z
LAST-MODIFIED:20250915T180431Z
UID:7862-1775847600-1775863800@mapleleafacres.ca
SUMMARY:Poker
DESCRIPTION:
URL:https://mapleleafacres.ca/event/poker-2/2026-04-10/
CATEGORIES:Activities,Fireside Room
END:VEVENT
BEGIN:VEVENT
DTSTART;TZID=America/Toronto:20260403T190000
DTEND;TZID=America/Toronto:20260403T233000
DTSTAMP:20260421T152333
CREATED:20250915T180431Z
LAST-MODIFIED:20250915T180431Z
UID:7861-1775242800-1775259000@mapleleafacres.ca
SUMMARY:Poker
DESCRIPTION:
URL:https://mapleleafacres.ca/event/poker-2/2026-04-03/
CATEGORIES:Activities,Fireside Room
END:VEVENT
BEGIN:VEVENT
DTSTART;TZID=America/Toronto:20260327T190000
DTEND;TZID=America/Toronto:20260327T233000
DTSTAMP:20260421T152333
CREATED:20250915T180431Z
LAST-MODIFIED:20250915T180431Z
UID:7860-1774638000-1774654200@mapleleafacres.ca
SUMMARY:Poker
DESCRIPTION:
URL:https://mapleleafacres.ca/event/poker-2/2026-03-27/
CATEGORIES:Activities,Fireside Room
END:VEVENT
BEGIN:VEVENT
DTSTART;TZID=America/Toronto:20260320T190000
DTEND;TZID=America/Toronto:20260320T233000
DTSTAMP:20260421T152333
CREATED:20250915T180431Z
LAST-MODIFIED:20250915T180431Z
UID:7859-1774033200-1774049400@mapleleafacres.ca
SUMMARY:Poker
DESCRIPTION:
URL:https://mapleleafacres.ca/event/poker-2/2026-03-20/
CATEGORIES:Activities,Fireside Room
END:VEVENT
BEGIN:VEVENT
DTSTART;TZID=America/Toronto:20260313T190000
DTEND;TZID=America/Toronto:20260313T233000
DTSTAMP:20260421T152333
CREATED:20250915T180431Z
LAST-MODIFIED:20250915T180431Z
UID:7858-1773428400-1773444600@mapleleafacres.ca
SUMMARY:Poker
DESCRIPTION:
URL:https://mapleleafacres.ca/event/poker-2/2026-03-13/
CATEGORIES:Activities,Fireside Room
END:VEVENT
BEGIN:VEVENT
DTSTART;TZID=America/Toronto:20260306T190000
DTEND;TZID=America/Toronto:20260306T233000
DTSTAMP:20260421T152333
CREATED:20250915T180431Z
LAST-MODIFIED:20250915T180431Z
UID:7857-1772823600-1772839800@mapleleafacres.ca
SUMMARY:Poker
DESCRIPTION:
URL:https://mapleleafacres.ca/event/poker-2/2026-03-06/
CATEGORIES:Activities,Fireside Room
END:VEVENT
BEGIN:VEVENT
DTSTART;TZID=America/Toronto:20260227T190000
DTEND;TZID=America/Toronto:20260227T233000
DTSTAMP:20260421T152333
CREATED:20250915T180431Z
LAST-MODIFIED:20250915T180431Z
UID:7856-1772218800-1772235000@mapleleafacres.ca
SUMMARY:Poker
DESCRIPTION:
URL:https://mapleleafacres.ca/event/poker-2/2026-02-27/
CATEGORIES:Activities,Fireside Room
END:VEVENT
BEGIN:VEVENT
DTSTART;TZID=America/Toronto:20260220T190000
DTEND;TZID=America/Toronto:20260220T233000
DTSTAMP:20260421T152333
CREATED:20250915T180431Z
LAST-MODIFIED:20250915T180431Z
UID:7855-1771614000-1771630200@mapleleafacres.ca
SUMMARY:Poker
DESCRIPTION:
URL:https://mapleleafacres.ca/event/poker-2/2026-02-20/
CATEGORIES:Activities,Fireside Room
END:VEVENT
BEGIN:VEVENT
DTSTART;TZID=America/Toronto:20260213T190000
DTEND;TZID=America/Toronto:20260213T233000
DTSTAMP:20260421T152333
CREATED:20250915T180431Z
LAST-MODIFIED:20250915T180431Z
UID:7854-1771009200-1771025400@mapleleafacres.ca
SUMMARY:Poker
DESCRIPTION:
URL:https://mapleleafacres.ca/event/poker-2/2026-02-13/
CATEGORIES:Activities,Fireside Room
END:VEVENT
BEGIN:VEVENT
DTSTART;TZID=America/Toronto:20260206T190000
DTEND;TZID=America/Toronto:20260206T233000
DTSTAMP:20260421T152333
CREATED:20250915T180431Z
LAST-MODIFIED:20250915T180431Z
UID:7853-1770404400-1770420600@mapleleafacres.ca
SUMMARY:Poker
DESCRIPTION:
URL:https://mapleleafacres.ca/event/poker-2/2026-02-06/
CATEGORIES:Activities,Fireside Room
END:VEVENT
BEGIN:VEVENT
DTSTART;TZID=America/Toronto:20260130T190000
DTEND;TZID=America/Toronto:20260130T233000
DTSTAMP:20260421T152333
CREATED:20250915T180431Z
LAST-MODIFIED:20250915T180431Z
UID:7852-1769799600-1769815800@mapleleafacres.ca
SUMMARY:Poker
DESCRIPTION:
URL:https://mapleleafacres.ca/event/poker-2/2026-01-30/
CATEGORIES:Activities,Fireside Room
END:VEVENT
BEGIN:VEVENT
DTSTART;TZID=America/Toronto:20260123T190000
DTEND;TZID=America/Toronto:20260123T233000
DTSTAMP:20260421T152333
CREATED:20250915T180431Z
LAST-MODIFIED:20250915T180431Z
UID:7851-1769194800-1769211000@mapleleafacres.ca
SUMMARY:Poker
DESCRIPTION:
URL:https://mapleleafacres.ca/event/poker-2/2026-01-23/
CATEGORIES:Activities,Fireside Room
END:VEVENT
BEGIN:VEVENT
DTSTART;TZID=America/Toronto:20260116T190000
DTEND;TZID=America/Toronto:20260116T233000
DTSTAMP:20260421T152333
CREATED:20250915T180431Z
LAST-MODIFIED:20250915T180431Z
UID:7849-1768590000-1768606200@mapleleafacres.ca
SUMMARY:Poker
DESCRIPTION:
URL:https://mapleleafacres.ca/event/poker-2/2026-01-16/
CATEGORIES:Activities,Fireside Room
END:VEVENT
BEGIN:VEVENT
DTSTART;TZID=America/Toronto:20260109T190000
DTEND;TZID=America/Toronto:20260109T233000
DTSTAMP:20260421T152333
CREATED:20250915T180431Z
LAST-MODIFIED:20250915T180431Z
UID:7848-1767985200-1768001400@mapleleafacres.ca
SUMMARY:Poker
DESCRIPTION:
URL:https://mapleleafacres.ca/event/poker-2/2026-01-09/
CATEGORIES:Activities,Fireside Room
END:VEVENT
BEGIN:VEVENT
DTSTART;TZID=America/Toronto:20260102T190000
DTEND;TZID=America/Toronto:20260102T233000
DTSTAMP:20260421T152333
CREATED:20250915T180431Z
LAST-MODIFIED:20250915T180431Z
UID:7847-1767380400-1767396600@mapleleafacres.ca
SUMMARY:Poker
DESCRIPTION:
URL:https://mapleleafacres.ca/event/poker-2/2026-01-02/
CATEGORIES:Activities,Fireside Room
END:VEVENT
BEGIN:VEVENT
DTSTART;TZID=America/Toronto:20251226T190000
DTEND;TZID=America/Toronto:20251226T233000
DTSTAMP:20260421T152333
CREATED:20250915T180431Z
LAST-MODIFIED:20250915T180431Z
UID:7846-1766775600-1766791800@mapleleafacres.ca
SUMMARY:Poker
DESCRIPTION:
URL:https://mapleleafacres.ca/event/poker-2/2025-12-26/
CATEGORIES:Activities,Fireside Room
END:VEVENT
BEGIN:VEVENT
DTSTART;TZID=America/Toronto:20251219T190000
DTEND;TZID=America/Toronto:20251219T233000
DTSTAMP:20260421T152333
CREATED:20250915T180431Z
LAST-MODIFIED:20250915T180431Z
UID:7845-1766170800-1766187000@mapleleafacres.ca
SUMMARY:Poker
DESCRIPTION:
URL:https://mapleleafacres.ca/event/poker-2/2025-12-19/
CATEGORIES:Activities,Fireside Room
END:VEVENT
BEGIN:VEVENT
DTSTART;TZID=America/Toronto:20251212T190000
DTEND;TZID=America/Toronto:20251212T233000
DTSTAMP:20260421T152333
CREATED:20250915T180431Z
LAST-MODIFIED:20250915T180431Z
UID:7844-1765566000-1765582200@mapleleafacres.ca
SUMMARY:Poker
DESCRIPTION:
URL:https://mapleleafacres.ca/event/poker-2/2025-12-12/
CATEGORIES:Activities,Fireside Room
END:VEVENT
BEGIN:VEVENT
DTSTART;TZID=America/Toronto:20251205T190000
DTEND;TZID=America/Toronto:20251205T233000
DTSTAMP:20260421T152333
CREATED:20250915T180431Z
LAST-MODIFIED:20250915T180431Z
UID:7843-1764961200-1764977400@mapleleafacres.ca
SUMMARY:Poker
DESCRIPTION:
URL:https://mapleleafacres.ca/event/poker-2/2025-12-05/
CATEGORIES:Activities,Fireside Room
END:VEVENT
BEGIN:VEVENT
DTSTART;TZID=America/Toronto:20251128T190000
DTEND;TZID=America/Toronto:20251128T233000
DTSTAMP:20260421T152333
CREATED:20250915T180431Z
LAST-MODIFIED:20250915T180431Z
UID:7842-1764356400-1764372600@mapleleafacres.ca
SUMMARY:Poker
DESCRIPTION:
URL:https://mapleleafacres.ca/event/poker-2/2025-11-28/
CATEGORIES:Activities,Fireside Room
END:VEVENT
BEGIN:VEVENT
DTSTART;TZID=America/Toronto:20251121T190000
DTEND;TZID=America/Toronto:20251121T233000
DTSTAMP:20260421T152333
CREATED:20250915T180431Z
LAST-MODIFIED:20250915T180431Z
UID:7841-1763751600-1763767800@mapleleafacres.ca
SUMMARY:Poker
DESCRIPTION:
URL:https://mapleleafacres.ca/event/poker-2/2025-11-21/
CATEGORIES:Activities,Fireside Room
END:VEVENT
BEGIN:VEVENT
DTSTART;TZID=America/Toronto:20251114T190000
DTEND;TZID=America/Toronto:20251114T233000
DTSTAMP:20260421T152333
CREATED:20250915T180431Z
LAST-MODIFIED:20250915T180431Z
UID:7840-1763146800-1763163000@mapleleafacres.ca
SUMMARY:Poker
DESCRIPTION:
URL:https://mapleleafacres.ca/event/poker-2/2025-11-14/
CATEGORIES:Activities,Fireside Room
END:VEVENT
BEGIN:VEVENT
DTSTART;TZID=America/Toronto:20251107T190000
DTEND;TZID=America/Toronto:20251107T233000
DTSTAMP:20260421T152333
CREATED:20250915T180431Z
LAST-MODIFIED:20250915T180431Z
UID:7839-1762542000-1762558200@mapleleafacres.ca
SUMMARY:Poker
DESCRIPTION:
URL:https://mapleleafacres.ca/event/poker-2/2025-11-07/
CATEGORIES:Activities,Fireside Room
END:VEVENT
END:VCALENDAR