BEGIN:VCALENDAR
VERSION:2.0
PRODID:-//Maple Leaf Acres - ECPv6.15.18//NONSGML v1.0//EN
CALSCALE:GREGORIAN
METHOD:PUBLISH
X-WR-CALNAME:Maple Leaf Acres
X-ORIGINAL-URL:https://mapleleafacres.ca
X-WR-CALDESC:Events for Maple Leaf Acres
REFRESH-INTERVAL;VALUE=DURATION:PT1H
X-Robots-Tag:noindex
X-PUBLISHED-TTL:PT1H
BEGIN:VTIMEZONE
TZID:America/Toronto
BEGIN:DAYLIGHT
TZOFFSETFROM:-0500
TZOFFSETTO:-0400
TZNAME:EDT
DTSTART:20230312T070000
END:DAYLIGHT
BEGIN:STANDARD
TZOFFSETFROM:-0400
TZOFFSETTO:-0500
TZNAME:EST
DTSTART:20231105T060000
END:STANDARD
BEGIN:DAYLIGHT
TZOFFSETFROM:-0500
TZOFFSETTO:-0400
TZNAME:EDT
DTSTART:20240310T070000
END:DAYLIGHT
BEGIN:STANDARD
TZOFFSETFROM:-0400
TZOFFSETTO:-0500
TZNAME:EST
DTSTART:20241103T060000
END:STANDARD
BEGIN:DAYLIGHT
TZOFFSETFROM:-0500
TZOFFSETTO:-0400
TZNAME:EDT
DTSTART:20250309T070000
END:DAYLIGHT
BEGIN:STANDARD
TZOFFSETFROM:-0400
TZOFFSETTO:-0500
TZNAME:EST
DTSTART:20251102T060000
END:STANDARD
BEGIN:DAYLIGHT
TZOFFSETFROM:-0500
TZOFFSETTO:-0400
TZNAME:EDT
DTSTART:20260308T070000
END:DAYLIGHT
BEGIN:STANDARD
TZOFFSETFROM:-0400
TZOFFSETTO:-0500
TZNAME:EST
DTSTART:20261101T060000
END:STANDARD
END:VTIMEZONE
BEGIN:VEVENT
DTSTART;TZID=America/Toronto:20250103T133000
DTEND;TZID=America/Toronto:20250103T160000
DTSTAMP:20260420T034514
CREATED:20240131T185238Z
LAST-MODIFIED:20240131T185238Z
UID:5928-1735911000-1735920000@mapleleafacres.ca
SUMMARY:Shuffle Board
DESCRIPTION:
URL:https://mapleleafacres.ca/event/shuffle-board-51/2025-01-03/
CATEGORIES:Activities,Rec. Hall
END:VEVENT
BEGIN:VEVENT
DTSTART;TZID=America/Toronto:20241227T133000
DTEND;TZID=America/Toronto:20241227T160000
DTSTAMP:20260420T034514
CREATED:20240131T185238Z
LAST-MODIFIED:20240131T185238Z
UID:5927-1735306200-1735315200@mapleleafacres.ca
SUMMARY:Shuffle Board
DESCRIPTION:
URL:https://mapleleafacres.ca/event/shuffle-board-51/2024-12-27/
CATEGORIES:Activities,Rec. Hall
END:VEVENT
BEGIN:VEVENT
DTSTART;TZID=America/Toronto:20241220T133000
DTEND;TZID=America/Toronto:20241220T160000
DTSTAMP:20260420T034514
CREATED:20240131T185238Z
LAST-MODIFIED:20240131T185238Z
UID:5926-1734701400-1734710400@mapleleafacres.ca
SUMMARY:Shuffle Board
DESCRIPTION:
URL:https://mapleleafacres.ca/event/shuffle-board-51/2024-12-20/
CATEGORIES:Activities,Rec. Hall
END:VEVENT
BEGIN:VEVENT
DTSTART;TZID=America/Toronto:20241213T133000
DTEND;TZID=America/Toronto:20241213T160000
DTSTAMP:20260420T034514
CREATED:20240131T185238Z
LAST-MODIFIED:20240131T185238Z
UID:5925-1734096600-1734105600@mapleleafacres.ca
SUMMARY:Shuffle Board
DESCRIPTION:
URL:https://mapleleafacres.ca/event/shuffle-board-51/2024-12-13/
CATEGORIES:Activities,Rec. Hall
END:VEVENT
BEGIN:VEVENT
DTSTART;TZID=America/Toronto:20241206T133000
DTEND;TZID=America/Toronto:20241206T160000
DTSTAMP:20260420T034514
CREATED:20240131T185238Z
LAST-MODIFIED:20240131T185238Z
UID:5924-1733491800-1733500800@mapleleafacres.ca
SUMMARY:Shuffle Board
DESCRIPTION:
URL:https://mapleleafacres.ca/event/shuffle-board-51/2024-12-06/
CATEGORIES:Activities,Rec. Hall
END:VEVENT
BEGIN:VEVENT
DTSTART;TZID=America/Toronto:20241129T133000
DTEND;TZID=America/Toronto:20241129T160000
DTSTAMP:20260420T034514
CREATED:20240131T185238Z
LAST-MODIFIED:20240131T185238Z
UID:5923-1732887000-1732896000@mapleleafacres.ca
SUMMARY:Shuffle Board
DESCRIPTION:
URL:https://mapleleafacres.ca/event/shuffle-board-51/2024-11-29/
CATEGORIES:Activities,Rec. Hall
END:VEVENT
BEGIN:VEVENT
DTSTART;TZID=America/Toronto:20241122T133000
DTEND;TZID=America/Toronto:20241122T160000
DTSTAMP:20260420T034514
CREATED:20240131T185238Z
LAST-MODIFIED:20240131T185238Z
UID:5922-1732282200-1732291200@mapleleafacres.ca
SUMMARY:Shuffle Board
DESCRIPTION:
URL:https://mapleleafacres.ca/event/shuffle-board-51/2024-11-22/
CATEGORIES:Activities,Rec. Hall
END:VEVENT
BEGIN:VEVENT
DTSTART;TZID=America/Toronto:20241115T133000
DTEND;TZID=America/Toronto:20241115T160000
DTSTAMP:20260420T034514
CREATED:20240131T185238Z
LAST-MODIFIED:20240131T185238Z
UID:5921-1731677400-1731686400@mapleleafacres.ca
SUMMARY:Shuffle Board
DESCRIPTION:
URL:https://mapleleafacres.ca/event/shuffle-board-51/2024-11-15/
CATEGORIES:Activities,Rec. Hall
END:VEVENT
BEGIN:VEVENT
DTSTART;TZID=America/Toronto:20241108T133000
DTEND;TZID=America/Toronto:20241108T160000
DTSTAMP:20260420T034514
CREATED:20240131T185238Z
LAST-MODIFIED:20240131T185238Z
UID:5920-1731072600-1731081600@mapleleafacres.ca
SUMMARY:Shuffle Board
DESCRIPTION:
URL:https://mapleleafacres.ca/event/shuffle-board-51/2024-11-08/
CATEGORIES:Activities,Rec. Hall
END:VEVENT
BEGIN:VEVENT
DTSTART;TZID=America/Toronto:20241101T133000
DTEND;TZID=America/Toronto:20241101T160000
DTSTAMP:20260420T034514
CREATED:20240131T185238Z
LAST-MODIFIED:20240131T185238Z
UID:5919-1730467800-1730476800@mapleleafacres.ca
SUMMARY:Shuffle Board
DESCRIPTION:
URL:https://mapleleafacres.ca/event/shuffle-board-51/2024-11-01/
CATEGORIES:Activities,Rec. Hall
END:VEVENT
BEGIN:VEVENT
DTSTART;TZID=America/Toronto:20241025T133000
DTEND;TZID=America/Toronto:20241025T160000
DTSTAMP:20260420T034514
CREATED:20240131T185238Z
LAST-MODIFIED:20240131T185238Z
UID:5918-1729863000-1729872000@mapleleafacres.ca
SUMMARY:Shuffle Board
DESCRIPTION:
URL:https://mapleleafacres.ca/event/shuffle-board-51/2024-10-25/
CATEGORIES:Activities,Rec. Hall
END:VEVENT
BEGIN:VEVENT
DTSTART;TZID=America/Toronto:20241018T133000
DTEND;TZID=America/Toronto:20241018T160000
DTSTAMP:20260420T034514
CREATED:20240131T185238Z
LAST-MODIFIED:20240131T185238Z
UID:5917-1729258200-1729267200@mapleleafacres.ca
SUMMARY:Shuffle Board
DESCRIPTION:
URL:https://mapleleafacres.ca/event/shuffle-board-51/2024-10-18/
CATEGORIES:Activities,Rec. Hall
END:VEVENT
BEGIN:VEVENT
DTSTART;TZID=America/Toronto:20241011T133000
DTEND;TZID=America/Toronto:20241011T160000
DTSTAMP:20260420T034514
CREATED:20240131T185238Z
LAST-MODIFIED:20240131T185238Z
UID:5916-1728653400-1728662400@mapleleafacres.ca
SUMMARY:Shuffle Board
DESCRIPTION:
URL:https://mapleleafacres.ca/event/shuffle-board-51/2024-10-11/
CATEGORIES:Activities,Rec. Hall
END:VEVENT
BEGIN:VEVENT
DTSTART;TZID=America/Toronto:20241004T133000
DTEND;TZID=America/Toronto:20241004T160000
DTSTAMP:20260420T034514
CREATED:20240131T185238Z
LAST-MODIFIED:20240131T185238Z
UID:5915-1728048600-1728057600@mapleleafacres.ca
SUMMARY:Shuffle Board
DESCRIPTION:
URL:https://mapleleafacres.ca/event/shuffle-board-51/2024-10-04/
CATEGORIES:Activities,Rec. Hall
END:VEVENT
BEGIN:VEVENT
DTSTART;TZID=America/Toronto:20240927T133000
DTEND;TZID=America/Toronto:20240927T160000
DTSTAMP:20260420T034514
CREATED:20240131T185238Z
LAST-MODIFIED:20240131T185238Z
UID:5914-1727443800-1727452800@mapleleafacres.ca
SUMMARY:Shuffle Board
DESCRIPTION:
URL:https://mapleleafacres.ca/event/shuffle-board-51/2024-09-27/
CATEGORIES:Activities,Rec. Hall
END:VEVENT
BEGIN:VEVENT
DTSTART;TZID=America/Toronto:20240920T133000
DTEND;TZID=America/Toronto:20240920T160000
DTSTAMP:20260420T034514
CREATED:20240131T185238Z
LAST-MODIFIED:20240131T185238Z
UID:5913-1726839000-1726848000@mapleleafacres.ca
SUMMARY:Shuffle Board
DESCRIPTION:
URL:https://mapleleafacres.ca/event/shuffle-board-51/2024-09-20/
CATEGORIES:Activities,Rec. Hall
END:VEVENT
BEGIN:VEVENT
DTSTART;TZID=America/Toronto:20240913T133000
DTEND;TZID=America/Toronto:20240913T160000
DTSTAMP:20260420T034514
CREATED:20240131T185238Z
LAST-MODIFIED:20240131T185238Z
UID:5912-1726234200-1726243200@mapleleafacres.ca
SUMMARY:Shuffle Board
DESCRIPTION:
URL:https://mapleleafacres.ca/event/shuffle-board-51/2024-09-13/
CATEGORIES:Activities,Rec. Hall
END:VEVENT
BEGIN:VEVENT
DTSTART;TZID=America/Toronto:20240906T133000
DTEND;TZID=America/Toronto:20240906T160000
DTSTAMP:20260420T034514
CREATED:20240131T185238Z
LAST-MODIFIED:20240131T185238Z
UID:5911-1725629400-1725638400@mapleleafacres.ca
SUMMARY:Shuffle Board
DESCRIPTION:
URL:https://mapleleafacres.ca/event/shuffle-board-51/2024-09-06/
CATEGORIES:Activities,Rec. Hall
END:VEVENT
BEGIN:VEVENT
DTSTART;TZID=America/Toronto:20240830T133000
DTEND;TZID=America/Toronto:20240830T160000
DTSTAMP:20260420T034514
CREATED:20240131T185238Z
LAST-MODIFIED:20240131T185238Z
UID:5910-1725024600-1725033600@mapleleafacres.ca
SUMMARY:Shuffle Board
DESCRIPTION:
URL:https://mapleleafacres.ca/event/shuffle-board-51/2024-08-30/
CATEGORIES:Activities,Rec. Hall
END:VEVENT
BEGIN:VEVENT
DTSTART;TZID=America/Toronto:20240823T133000
DTEND;TZID=America/Toronto:20240823T160000
DTSTAMP:20260420T034514
CREATED:20240131T185238Z
LAST-MODIFIED:20240131T185238Z
UID:5909-1724419800-1724428800@mapleleafacres.ca
SUMMARY:Shuffle Board
DESCRIPTION:
URL:https://mapleleafacres.ca/event/shuffle-board-51/2024-08-23/
CATEGORIES:Activities,Rec. Hall
END:VEVENT
BEGIN:VEVENT
DTSTART;TZID=America/Toronto:20240816T133000
DTEND;TZID=America/Toronto:20240816T160000
DTSTAMP:20260420T034514
CREATED:20240131T185238Z
LAST-MODIFIED:20240131T185238Z
UID:5908-1723815000-1723824000@mapleleafacres.ca
SUMMARY:Shuffle Board
DESCRIPTION:
URL:https://mapleleafacres.ca/event/shuffle-board-51/2024-08-16/
CATEGORIES:Activities,Rec. Hall
END:VEVENT
BEGIN:VEVENT
DTSTART;TZID=America/Toronto:20240809T133000
DTEND;TZID=America/Toronto:20240809T160000
DTSTAMP:20260420T034514
CREATED:20240131T185238Z
LAST-MODIFIED:20240131T185238Z
UID:5907-1723210200-1723219200@mapleleafacres.ca
SUMMARY:Shuffle Board
DESCRIPTION:
URL:https://mapleleafacres.ca/event/shuffle-board-51/2024-08-09/
CATEGORIES:Activities,Rec. Hall
END:VEVENT
BEGIN:VEVENT
DTSTART;TZID=America/Toronto:20240802T133000
DTEND;TZID=America/Toronto:20240802T160000
DTSTAMP:20260420T034514
CREATED:20240131T185238Z
LAST-MODIFIED:20240131T185238Z
UID:5906-1722605400-1722614400@mapleleafacres.ca
SUMMARY:Shuffle Board
DESCRIPTION:
URL:https://mapleleafacres.ca/event/shuffle-board-51/2024-08-02/
CATEGORIES:Activities,Rec. Hall
END:VEVENT
BEGIN:VEVENT
DTSTART;TZID=America/Toronto:20240726T133000
DTEND;TZID=America/Toronto:20240726T160000
DTSTAMP:20260420T034514
CREATED:20240131T185238Z
LAST-MODIFIED:20240131T185238Z
UID:5905-1722000600-1722009600@mapleleafacres.ca
SUMMARY:Shuffle Board
DESCRIPTION:
URL:https://mapleleafacres.ca/event/shuffle-board-51/2024-07-26/
CATEGORIES:Activities,Rec. Hall
END:VEVENT
BEGIN:VEVENT
DTSTART;TZID=America/Toronto:20240719T133000
DTEND;TZID=America/Toronto:20240719T160000
DTSTAMP:20260420T034514
CREATED:20240131T185238Z
LAST-MODIFIED:20240131T185238Z
UID:5904-1721395800-1721404800@mapleleafacres.ca
SUMMARY:Shuffle Board
DESCRIPTION:
URL:https://mapleleafacres.ca/event/shuffle-board-51/2024-07-19/
CATEGORIES:Activities,Rec. Hall
END:VEVENT
BEGIN:VEVENT
DTSTART;TZID=America/Toronto:20240712T133000
DTEND;TZID=America/Toronto:20240712T160000
DTSTAMP:20260420T034514
CREATED:20240131T185238Z
LAST-MODIFIED:20240131T185238Z
UID:5903-1720791000-1720800000@mapleleafacres.ca
SUMMARY:Shuffle Board
DESCRIPTION:
URL:https://mapleleafacres.ca/event/shuffle-board-51/2024-07-12/
CATEGORIES:Activities,Rec. Hall
END:VEVENT
BEGIN:VEVENT
DTSTART;TZID=America/Toronto:20240705T133000
DTEND;TZID=America/Toronto:20240705T160000
DTSTAMP:20260420T034514
CREATED:20240131T185238Z
LAST-MODIFIED:20240131T185238Z
UID:5902-1720186200-1720195200@mapleleafacres.ca
SUMMARY:Shuffle Board
DESCRIPTION:
URL:https://mapleleafacres.ca/event/shuffle-board-51/2024-07-05/
CATEGORIES:Activities,Rec. Hall
END:VEVENT
BEGIN:VEVENT
DTSTART;TZID=America/Toronto:20240628T133000
DTEND;TZID=America/Toronto:20240628T160000
DTSTAMP:20260420T034514
CREATED:20240131T185238Z
LAST-MODIFIED:20240131T185238Z
UID:5901-1719581400-1719590400@mapleleafacres.ca
SUMMARY:Shuffle Board
DESCRIPTION:
URL:https://mapleleafacres.ca/event/shuffle-board-51/2024-06-28/
CATEGORIES:Activities,Rec. Hall
END:VEVENT
BEGIN:VEVENT
DTSTART;TZID=America/Toronto:20240621T133000
DTEND;TZID=America/Toronto:20240621T160000
DTSTAMP:20260420T034514
CREATED:20240131T185238Z
LAST-MODIFIED:20240131T185238Z
UID:5900-1718976600-1718985600@mapleleafacres.ca
SUMMARY:Shuffle Board
DESCRIPTION:
URL:https://mapleleafacres.ca/event/shuffle-board-51/2024-06-21/
CATEGORIES:Activities,Rec. Hall
END:VEVENT
BEGIN:VEVENT
DTSTART;TZID=America/Toronto:20240614T133000
DTEND;TZID=America/Toronto:20240614T160000
DTSTAMP:20260420T034514
CREATED:20240131T185238Z
LAST-MODIFIED:20240131T185238Z
UID:5899-1718371800-1718380800@mapleleafacres.ca
SUMMARY:Shuffle Board
DESCRIPTION:
URL:https://mapleleafacres.ca/event/shuffle-board-51/2024-06-14/
CATEGORIES:Activities,Rec. Hall
END:VEVENT
END:VCALENDAR