BEGIN:VCALENDAR
VERSION:2.0
PRODID:-//Maple Leaf Acres - ECPv6.15.18//NONSGML v1.0//EN
CALSCALE:GREGORIAN
METHOD:PUBLISH
X-ORIGINAL-URL:https://mapleleafacres.ca
X-WR-CALDESC:Events for Maple Leaf Acres
REFRESH-INTERVAL;VALUE=DURATION:PT1H
X-Robots-Tag:noindex
X-PUBLISHED-TTL:PT1H
BEGIN:VTIMEZONE
TZID:America/Toronto
BEGIN:DAYLIGHT
TZOFFSETFROM:-0500
TZOFFSETTO:-0400
TZNAME:EDT
DTSTART:20240310T070000
END:DAYLIGHT
BEGIN:STANDARD
TZOFFSETFROM:-0400
TZOFFSETTO:-0500
TZNAME:EST
DTSTART:20241103T060000
END:STANDARD
BEGIN:DAYLIGHT
TZOFFSETFROM:-0500
TZOFFSETTO:-0400
TZNAME:EDT
DTSTART:20250309T070000
END:DAYLIGHT
BEGIN:STANDARD
TZOFFSETFROM:-0400
TZOFFSETTO:-0500
TZNAME:EST
DTSTART:20251102T060000
END:STANDARD
BEGIN:DAYLIGHT
TZOFFSETFROM:-0500
TZOFFSETTO:-0400
TZNAME:EDT
DTSTART:20260308T070000
END:DAYLIGHT
BEGIN:STANDARD
TZOFFSETFROM:-0400
TZOFFSETTO:-0500
TZNAME:EST
DTSTART:20261101T060000
END:STANDARD
END:VTIMEZONE
BEGIN:VEVENT
DTSTART;TZID=America/Toronto:20251022T100000
DTEND;TZID=America/Toronto:20251022T110000
DTSTAMP:20260421T215205
CREATED:20250326T142359Z
LAST-MODIFIED:20250326T142359Z
UID:7273-1761127200-1761130800@mapleleafacres.ca
SUMMARY:Fitness Class
DESCRIPTION:
URL:https://mapleleafacres.ca/event/fitness-class-3/2025-10-22/
CATEGORIES:Activities,Rec. Hall
END:VEVENT
BEGIN:VEVENT
DTSTART;TZID=America/Toronto:20251022T130000
DTEND;TZID=America/Toronto:20251022T160000
DTSTAMP:20260421T215205
CREATED:20251003T132102Z
LAST-MODIFIED:20251003T132102Z
UID:8138-1761138000-1761148800@mapleleafacres.ca
SUMMARY:Cards
DESCRIPTION:
URL:https://mapleleafacres.ca/event/cards/2025-10-22/
CATEGORIES:Activities,Fireside Room
END:VEVENT
BEGIN:VEVENT
DTSTART;TZID=America/Toronto:20251022T180000
DTEND;TZID=America/Toronto:20251022T230000
DTSTAMP:20260421T215205
CREATED:20250915T174130Z
LAST-MODIFIED:20250915T174527Z
UID:7747-1761156000-1761174000@mapleleafacres.ca
SUMMARY:Darts
DESCRIPTION:
URL:https://mapleleafacres.ca/event/darts-49/2025-10-22/
CATEGORIES:Activities,Rec. Hall
END:VEVENT
END:VCALENDAR