BEGIN:VCALENDAR
VERSION:2.0
PRODID:-//Maple Leaf Acres - ECPv6.15.18//NONSGML v1.0//EN
CALSCALE:GREGORIAN
METHOD:PUBLISH
X-WR-CALNAME:Maple Leaf Acres
X-ORIGINAL-URL:https://mapleleafacres.ca
X-WR-CALDESC:Events for Maple Leaf Acres
REFRESH-INTERVAL;VALUE=DURATION:PT1H
X-Robots-Tag:noindex
X-PUBLISHED-TTL:PT1H
BEGIN:VTIMEZONE
TZID:America/Toronto
BEGIN:DAYLIGHT
TZOFFSETFROM:-0500
TZOFFSETTO:-0400
TZNAME:EDT
DTSTART:20250309T070000
END:DAYLIGHT
BEGIN:STANDARD
TZOFFSETFROM:-0400
TZOFFSETTO:-0500
TZNAME:EST
DTSTART:20251102T060000
END:STANDARD
BEGIN:DAYLIGHT
TZOFFSETFROM:-0500
TZOFFSETTO:-0400
TZNAME:EDT
DTSTART:20260308T070000
END:DAYLIGHT
BEGIN:STANDARD
TZOFFSETFROM:-0400
TZOFFSETTO:-0500
TZNAME:EST
DTSTART:20261101T060000
END:STANDARD
BEGIN:DAYLIGHT
TZOFFSETFROM:-0500
TZOFFSETTO:-0400
TZNAME:EDT
DTSTART:20270314T070000
END:DAYLIGHT
BEGIN:STANDARD
TZOFFSETFROM:-0400
TZOFFSETTO:-0500
TZNAME:EST
DTSTART:20271107T060000
END:STANDARD
END:VTIMEZONE
BEGIN:VEVENT
DTSTART;TZID=America/Toronto:20260506T100000
DTEND;TZID=America/Toronto:20261028T110000
DTSTAMP:20260421T100630
CREATED:20260413T183703Z
LAST-MODIFIED:20260413T183703Z
UID:8804-1778061600-1793185200@mapleleafacres.ca
SUMMARY:Fitness Class
DESCRIPTION:
URL:https://mapleleafacres.ca/event/fitness-class-4/2026-05-06/
CATEGORIES:Activities,Rec. Hall
END:VEVENT
BEGIN:VEVENT
DTSTART;TZID=America/Toronto:20260628T080000
DTEND;TZID=America/Toronto:20260628T110000
DTSTAMP:20260421T100630
CREATED:20251211T162636Z
LAST-MODIFIED:20251211T162636Z
UID:8393-1782633600-1782644400@mapleleafacres.ca
SUMMARY:Coffee Chat
DESCRIPTION:
URL:https://mapleleafacres.ca/event/coffee-chat-91/
CATEGORIES:Activities,Adult Hall
END:VEVENT
BEGIN:VEVENT
DTSTART;TZID=America/Toronto:20260628T100000
DTEND;TZID=America/Toronto:20260628T120000
DTSTAMP:20260421T100630
CREATED:20251209T161623Z
LAST-MODIFIED:20251209T161623Z
UID:8311-1782640800-1782648000@mapleleafacres.ca
SUMMARY:Horseshoe Tournament
DESCRIPTION:
URL:https://mapleleafacres.ca/event/horseshoe-tournament-10/
CATEGORIES:Activities
END:VEVENT
BEGIN:VEVENT
DTSTART;TZID=America/Toronto:20260628T100000
DTEND;TZID=America/Toronto:20260628T150000
DTSTAMP:20260421T100630
CREATED:20251209T161713Z
LAST-MODIFIED:20251209T161713Z
UID:8313-1782640800-1782658800@mapleleafacres.ca
SUMMARY:Scavenger Hunt
DESCRIPTION:
URL:https://mapleleafacres.ca/event/scavenger-hunt-3/
CATEGORIES:Activities,Rec. Hall
END:VEVENT
BEGIN:VEVENT
DTSTART;TZID=America/Toronto:20260628T110000
DTEND;TZID=America/Toronto:20260628T233000
DTSTAMP:20260421T100630
CREATED:20260413T183328Z
LAST-MODIFIED:20260413T183328Z
UID:8764-1782644400-1782689400@mapleleafacres.ca
SUMMARY:Private Party
DESCRIPTION:
URL:https://mapleleafacres.ca/event/private-party-150/
CATEGORIES:Activities,Fireside Room
END:VEVENT
BEGIN:VEVENT
DTSTART;TZID=America/Toronto:20260628T130000
DTEND;TZID=America/Toronto:20260628T160000
DTSTAMP:20260421T100630
CREATED:20260122T154759Z
LAST-MODIFIED:20260122T154759Z
UID:8457-1782651600-1782662400@mapleleafacres.ca
SUMMARY:Ramoli
DESCRIPTION:
URL:https://mapleleafacres.ca/event/ramoli/2026-06-28/
CATEGORIES:Activities,Fireside Room
END:VEVENT
BEGIN:VEVENT
DTSTART;TZID=America/Toronto:20260628T140000
DTEND;TZID=America/Toronto:20260628T160000
DTSTAMP:20260421T100630
CREATED:20251209T161800Z
LAST-MODIFIED:20251209T161800Z
UID:8315-1782655200-1782662400@mapleleafacres.ca
SUMMARY:Ice Cream Sundae
DESCRIPTION:
URL:https://mapleleafacres.ca/event/ice-cream-sundae-11/
CATEGORIES:Activities,Adult Hall
END:VEVENT
END:VCALENDAR