BEGIN:VCALENDAR
VERSION:2.0
PRODID:-//Maple Leaf Acres - ECPv6.15.18//NONSGML v1.0//EN
CALSCALE:GREGORIAN
METHOD:PUBLISH
X-ORIGINAL-URL:https://mapleleafacres.ca
X-WR-CALDESC:Events for Maple Leaf Acres
REFRESH-INTERVAL;VALUE=DURATION:PT1H
X-Robots-Tag:noindex
X-PUBLISHED-TTL:PT1H
BEGIN:VTIMEZONE
TZID:America/Toronto
BEGIN:DAYLIGHT
TZOFFSETFROM:-0500
TZOFFSETTO:-0400
TZNAME:EDT
DTSTART:20250309T070000
END:DAYLIGHT
BEGIN:STANDARD
TZOFFSETFROM:-0400
TZOFFSETTO:-0500
TZNAME:EST
DTSTART:20251102T060000
END:STANDARD
BEGIN:DAYLIGHT
TZOFFSETFROM:-0500
TZOFFSETTO:-0400
TZNAME:EDT
DTSTART:20260308T070000
END:DAYLIGHT
BEGIN:STANDARD
TZOFFSETFROM:-0400
TZOFFSETTO:-0500
TZNAME:EST
DTSTART:20261101T060000
END:STANDARD
BEGIN:DAYLIGHT
TZOFFSETFROM:-0500
TZOFFSETTO:-0400
TZNAME:EDT
DTSTART:20270314T070000
END:DAYLIGHT
BEGIN:STANDARD
TZOFFSETFROM:-0400
TZOFFSETTO:-0500
TZNAME:EST
DTSTART:20271107T060000
END:STANDARD
END:VTIMEZONE
BEGIN:VEVENT
DTSTART;TZID=America/Toronto:20260901T130000
DTEND;TZID=America/Toronto:20260901T160000
DTSTAMP:20260419T140901
CREATED:20260122T154920Z
LAST-MODIFIED:20260122T154920Z
UID:8503-1788267600-1788278400@mapleleafacres.ca
SUMMARY:Bid Euchre
DESCRIPTION:
URL:https://mapleleafacres.ca/event/bid-euchre-184/2026-09-01/
CATEGORIES:Activities,Fireside Room
END:VEVENT
BEGIN:VEVENT
DTSTART;TZID=America/Toronto:20260902T190000
DTEND;TZID=America/Toronto:20260902T220000
DTSTAMP:20260419T140901
CREATED:20260327T145840Z
LAST-MODIFIED:20260327T145840Z
UID:8726-1788375600-1788386400@mapleleafacres.ca
SUMMARY:Summer Darts
DESCRIPTION:
URL:https://mapleleafacres.ca/event/summer-darts/2026-09-02/
CATEGORIES:Activities,Rec. Hall
END:VEVENT
BEGIN:VEVENT
DTSTART;TZID=America/Toronto:20260903T100000
DTEND;TZID=America/Toronto:20260903T110000
DTSTAMP:20260419T140901
CREATED:20260413T183530Z
LAST-MODIFIED:20260413T183530Z
UID:8802-1788429600-1788433200@mapleleafacres.ca
SUMMARY:Tai Chi
DESCRIPTION:
URL:https://mapleleafacres.ca/event/tai-chi/2026-09-03/
CATEGORIES:Activities,Rec. Hall
END:VEVENT
BEGIN:VEVENT
DTSTART;TZID=America/Toronto:20260903T130000
DTEND;TZID=America/Toronto:20260903T160000
DTSTAMP:20260419T140901
CREATED:20250922T153259Z
LAST-MODIFIED:20250922T153259Z
UID:7999-1788440400-1788451200@mapleleafacres.ca
SUMMARY:Card Bingo
DESCRIPTION:
URL:https://mapleleafacres.ca/event/card-bingo-64/2026-09-03/
CATEGORIES:Activities,Adult Hall
END:VEVENT
BEGIN:VEVENT
DTSTART;TZID=America/Toronto:20260904T133000
DTEND;TZID=America/Toronto:20260904T160000
DTSTAMP:20260419T140901
CREATED:20250922T154348Z
LAST-MODIFIED:20250922T154348Z
UID:8059-1788528600-1788537600@mapleleafacres.ca
SUMMARY:Shuffle Board
DESCRIPTION:
URL:https://mapleleafacres.ca/event/shuffle-board-52/2026-09-04/
CATEGORIES:Activities,Rec. Hall
END:VEVENT
BEGIN:VEVENT
DTSTART;TZID=America/Toronto:20260904T200000
DTEND;TZID=America/Toronto:20260904T220000
DTSTAMP:20260419T140901
CREATED:20251209T161242Z
LAST-MODIFIED:20251209T161242Z
UID:8304-1788552000-1788559200@mapleleafacres.ca
SUMMARY:Bingo
DESCRIPTION:
URL:https://mapleleafacres.ca/event/bingo-26/2026-09-04/
CATEGORIES:Activities,Rec. Hall
END:VEVENT
BEGIN:VEVENT
DTSTART;VALUE=DATE:20260905
DTEND;VALUE=DATE:20260906
DTSTAMP:20260419T140901
CREATED:20250922T153936Z
LAST-MODIFIED:20250922T154218Z
UID:8021-1788566400-1788652799@mapleleafacres.ca
SUMMARY:Trinity end of Season Bash
DESCRIPTION:
URL:https://mapleleafacres.ca/event/trinity-end-of-season-bash/
CATEGORIES:Activities,Rec. Hall
END:VEVENT
BEGIN:VEVENT
DTSTART;TZID=America/Toronto:20260905T110000
DTEND;TZID=America/Toronto:20260905T140000
DTSTAMP:20260419T140901
CREATED:20251210T154624Z
LAST-MODIFIED:20251210T154624Z
UID:8349-1788606000-1788616800@mapleleafacres.ca
SUMMARY:Chocolate Bar Bingo
DESCRIPTION:
URL:https://mapleleafacres.ca/event/chocolate-bar-bingo-25/
CATEGORIES:Activities,Adult Hall
END:VEVENT
BEGIN:VEVENT
DTSTART;TZID=America/Toronto:20260906T000000
DTEND;TZID=America/Toronto:20260906T180000
DTSTAMP:20260419T140901
CREATED:20250922T153536Z
LAST-MODIFIED:20250922T153536Z
UID:8015-1788652800-1788717600@mapleleafacres.ca
SUMMARY:Horseshoe Tournament
DESCRIPTION:
URL:https://mapleleafacres.ca/event/horseshoe-tournament-8/
CATEGORIES:Activities,Adult Hall
END:VEVENT
BEGIN:VEVENT
DTSTART;TZID=America/Toronto:20260906T080000
DTEND;TZID=America/Toronto:20260906T110000
DTSTAMP:20260419T140901
CREATED:20251211T162903Z
LAST-MODIFIED:20251211T162903Z
UID:8403-1788681600-1788692400@mapleleafacres.ca
SUMMARY:Coffee Chat
DESCRIPTION:
URL:https://mapleleafacres.ca/event/coffee-chat-96/
CATEGORIES:Activities,Adult Hall
END:VEVENT
BEGIN:VEVENT
DTSTART;TZID=America/Toronto:20260906T120000
DTEND;TZID=America/Toronto:20260906T140000
DTSTAMP:20260419T140901
CREATED:20251210T154933Z
LAST-MODIFIED:20251210T154933Z
UID:8351-1788696000-1788703200@mapleleafacres.ca
SUMMARY:Kids Craft
DESCRIPTION:
URL:https://mapleleafacres.ca/event/kids-craft-12/
CATEGORIES:Activities
END:VEVENT
BEGIN:VEVENT
DTSTART;TZID=America/Toronto:20260906T130000
DTEND;TZID=America/Toronto:20260906T160000
DTSTAMP:20260419T140901
CREATED:20260122T154759Z
LAST-MODIFIED:20260122T154759Z
UID:8468-1788699600-1788710400@mapleleafacres.ca
SUMMARY:Ramoli
DESCRIPTION:
URL:https://mapleleafacres.ca/event/ramoli/2026-09-06/
CATEGORIES:Activities,Fireside Room
END:VEVENT
BEGIN:VEVENT
DTSTART;TZID=America/Toronto:20260907T100000
DTEND;TZID=America/Toronto:20260907T110000
DTSTAMP:20260419T140901
CREATED:20250922T153050Z
LAST-MODIFIED:20250922T153050Z
UID:7956-1788775200-1788778800@mapleleafacres.ca
SUMMARY:Line Dancing
DESCRIPTION:
URL:https://mapleleafacres.ca/event/line-dancing-48/2026-09-07/
CATEGORIES:Activities,Rec. Hall
END:VEVENT
BEGIN:VEVENT
DTSTART;TZID=America/Toronto:20260907T180000
DTEND;TZID=America/Toronto:20260907T213000
DTSTAMP:20260419T140901
CREATED:20260128T151826Z
LAST-MODIFIED:20260128T151826Z
UID:8585-1788804000-1788816600@mapleleafacres.ca
SUMMARY:Euchre
DESCRIPTION:
URL:https://mapleleafacres.ca/event/euchre-28/2026-09-07/
CATEGORIES:Activities,Adult Hall
END:VEVENT
BEGIN:VEVENT
DTSTART;TZID=America/Toronto:20260908T100000
DTEND;TZID=America/Toronto:20260908T110000
DTSTAMP:20260419T140901
CREATED:20260413T183530Z
LAST-MODIFIED:20260413T183530Z
UID:8803-1788861600-1788865200@mapleleafacres.ca
SUMMARY:Tai Chi
DESCRIPTION:
URL:https://mapleleafacres.ca/event/tai-chi/2026-09-08/
CATEGORIES:Activities,Rec. Hall
END:VEVENT
BEGIN:VEVENT
DTSTART;TZID=America/Toronto:20260908T130000
DTEND;TZID=America/Toronto:20260908T160000
DTSTAMP:20260419T140901
CREATED:20260122T154920Z
LAST-MODIFIED:20260122T154920Z
UID:8504-1788872400-1788883200@mapleleafacres.ca
SUMMARY:Bid Euchre
DESCRIPTION:
URL:https://mapleleafacres.ca/event/bid-euchre-184/2026-09-08/
CATEGORIES:Activities,Fireside Room
END:VEVENT
BEGIN:VEVENT
DTSTART;TZID=America/Toronto:20260909T190000
DTEND;TZID=America/Toronto:20260909T220000
DTSTAMP:20260419T140901
CREATED:20260327T145840Z
LAST-MODIFIED:20260327T145840Z
UID:8727-1788980400-1788991200@mapleleafacres.ca
SUMMARY:Summer Darts
DESCRIPTION:
URL:https://mapleleafacres.ca/event/summer-darts/2026-09-09/
CATEGORIES:Activities,Rec. Hall
END:VEVENT
BEGIN:VEVENT
DTSTART;TZID=America/Toronto:20260910T100000
DTEND;TZID=America/Toronto:20260910T110000
DTSTAMP:20260419T140901
CREATED:20260413T183530Z
LAST-MODIFIED:20260413T183530Z
UID:8805-1789034400-1789038000@mapleleafacres.ca
SUMMARY:Tai Chi
DESCRIPTION:
URL:https://mapleleafacres.ca/event/tai-chi/2026-09-10/
CATEGORIES:Activities,Rec. Hall
END:VEVENT
BEGIN:VEVENT
DTSTART;TZID=America/Toronto:20260910T130000
DTEND;TZID=America/Toronto:20260910T160000
DTSTAMP:20260419T140901
CREATED:20250922T153259Z
LAST-MODIFIED:20250922T153259Z
UID:8000-1789045200-1789056000@mapleleafacres.ca
SUMMARY:Card Bingo
DESCRIPTION:
URL:https://mapleleafacres.ca/event/card-bingo-64/2026-09-10/
CATEGORIES:Activities,Adult Hall
END:VEVENT
BEGIN:VEVENT
DTSTART;TZID=America/Toronto:20260911T133000
DTEND;TZID=America/Toronto:20260911T160000
DTSTAMP:20260419T140901
CREATED:20250922T154348Z
LAST-MODIFIED:20250922T154348Z
UID:8060-1789133400-1789142400@mapleleafacres.ca
SUMMARY:Shuffle Board
DESCRIPTION:
URL:https://mapleleafacres.ca/event/shuffle-board-52/2026-09-11/
CATEGORIES:Activities,Rec. Hall
END:VEVENT
BEGIN:VEVENT
DTSTART;TZID=America/Toronto:20260911T200000
DTEND;TZID=America/Toronto:20260911T220000
DTSTAMP:20260419T140901
CREATED:20251209T161242Z
LAST-MODIFIED:20251209T161242Z
UID:8305-1789156800-1789164000@mapleleafacres.ca
SUMMARY:Bingo
DESCRIPTION:
URL:https://mapleleafacres.ca/event/bingo-26/2026-09-11/
CATEGORIES:Activities,Rec. Hall
END:VEVENT
BEGIN:VEVENT
DTSTART;TZID=America/Toronto:20260912T200000
DTEND;TZID=America/Toronto:20260912T233000
DTSTAMP:20260419T140901
CREATED:20251210T155109Z
LAST-MODIFIED:20251210T172811Z
UID:8353-1789243200-1789255800@mapleleafacres.ca
SUMMARY:Dance - Jaxseat Driver
DESCRIPTION:
URL:https://mapleleafacres.ca/event/dance-jaxseat-driver/
CATEGORIES:Activities,Fireside Room,Rec. Hall
END:VEVENT
BEGIN:VEVENT
DTSTART;TZID=America/Toronto:20260913T130000
DTEND;TZID=America/Toronto:20260913T160000
DTSTAMP:20260419T140901
CREATED:20260122T154759Z
LAST-MODIFIED:20260122T154759Z
UID:8469-1789304400-1789315200@mapleleafacres.ca
SUMMARY:Ramoli
DESCRIPTION:
URL:https://mapleleafacres.ca/event/ramoli/2026-09-13/
CATEGORIES:Activities,Fireside Room
END:VEVENT
BEGIN:VEVENT
DTSTART;TZID=America/Toronto:20260914T100000
DTEND;TZID=America/Toronto:20260914T110000
DTSTAMP:20260419T140901
CREATED:20250922T153050Z
LAST-MODIFIED:20250922T153050Z
UID:7957-1789380000-1789383600@mapleleafacres.ca
SUMMARY:Line Dancing
DESCRIPTION:
URL:https://mapleleafacres.ca/event/line-dancing-48/2026-09-14/
CATEGORIES:Activities,Rec. Hall
END:VEVENT
BEGIN:VEVENT
DTSTART;TZID=America/Toronto:20260914T180000
DTEND;TZID=America/Toronto:20260914T213000
DTSTAMP:20260419T140901
CREATED:20260128T151826Z
LAST-MODIFIED:20260128T151826Z
UID:8586-1789408800-1789421400@mapleleafacres.ca
SUMMARY:Euchre
DESCRIPTION:
URL:https://mapleleafacres.ca/event/euchre-28/2026-09-14/
CATEGORIES:Activities,Adult Hall
END:VEVENT
BEGIN:VEVENT
DTSTART;TZID=America/Toronto:20260915T100000
DTEND;TZID=America/Toronto:20260915T110000
DTSTAMP:20260419T140901
CREATED:20260413T183530Z
LAST-MODIFIED:20260413T183530Z
UID:8806-1789466400-1789470000@mapleleafacres.ca
SUMMARY:Tai Chi
DESCRIPTION:
URL:https://mapleleafacres.ca/event/tai-chi/2026-09-15/
CATEGORIES:Activities,Rec. Hall
END:VEVENT
BEGIN:VEVENT
DTSTART;TZID=America/Toronto:20260915T130000
DTEND;TZID=America/Toronto:20260915T160000
DTSTAMP:20260419T140901
CREATED:20260122T154920Z
LAST-MODIFIED:20260122T154920Z
UID:8505-1789477200-1789488000@mapleleafacres.ca
SUMMARY:Bid Euchre
DESCRIPTION:
URL:https://mapleleafacres.ca/event/bid-euchre-184/2026-09-15/
CATEGORIES:Activities,Fireside Room
END:VEVENT
BEGIN:VEVENT
DTSTART;TZID=America/Toronto:20260916T190000
DTEND;TZID=America/Toronto:20260916T220000
DTSTAMP:20260419T140901
CREATED:20260327T145840Z
LAST-MODIFIED:20260327T145840Z
UID:8728-1789585200-1789596000@mapleleafacres.ca
SUMMARY:Summer Darts
DESCRIPTION:
URL:https://mapleleafacres.ca/event/summer-darts/2026-09-16/
CATEGORIES:Activities,Rec. Hall
END:VEVENT
BEGIN:VEVENT
DTSTART;TZID=America/Toronto:20260917T100000
DTEND;TZID=America/Toronto:20260917T110000
DTSTAMP:20260419T140901
CREATED:20260413T183530Z
LAST-MODIFIED:20260413T183530Z
UID:8807-1789639200-1789642800@mapleleafacres.ca
SUMMARY:Tai Chi
DESCRIPTION:
URL:https://mapleleafacres.ca/event/tai-chi/2026-09-17/
CATEGORIES:Activities,Rec. Hall
END:VEVENT
BEGIN:VEVENT
DTSTART;TZID=America/Toronto:20260917T130000
DTEND;TZID=America/Toronto:20260917T160000
DTSTAMP:20260419T140901
CREATED:20250922T153259Z
LAST-MODIFIED:20250922T153259Z
UID:8001-1789650000-1789660800@mapleleafacres.ca
SUMMARY:Card Bingo
DESCRIPTION:
URL:https://mapleleafacres.ca/event/card-bingo-64/2026-09-17/
CATEGORIES:Activities,Adult Hall
END:VEVENT
END:VCALENDAR