BEGIN:VCALENDAR
VERSION:2.0
PRODID:-//Maple Leaf Acres - ECPv6.15.18//NONSGML v1.0//EN
CALSCALE:GREGORIAN
METHOD:PUBLISH
X-ORIGINAL-URL:https://mapleleafacres.ca
X-WR-CALDESC:Events for Maple Leaf Acres
REFRESH-INTERVAL;VALUE=DURATION:PT1H
X-Robots-Tag:noindex
X-PUBLISHED-TTL:PT1H
BEGIN:VTIMEZONE
TZID:America/Toronto
BEGIN:DAYLIGHT
TZOFFSETFROM:-0500
TZOFFSETTO:-0400
TZNAME:EDT
DTSTART:20250309T070000
END:DAYLIGHT
BEGIN:STANDARD
TZOFFSETFROM:-0400
TZOFFSETTO:-0500
TZNAME:EST
DTSTART:20251102T060000
END:STANDARD
BEGIN:DAYLIGHT
TZOFFSETFROM:-0500
TZOFFSETTO:-0400
TZNAME:EDT
DTSTART:20260308T070000
END:DAYLIGHT
BEGIN:STANDARD
TZOFFSETFROM:-0400
TZOFFSETTO:-0500
TZNAME:EST
DTSTART:20261101T060000
END:STANDARD
BEGIN:DAYLIGHT
TZOFFSETFROM:-0500
TZOFFSETTO:-0400
TZNAME:EDT
DTSTART:20270314T070000
END:DAYLIGHT
BEGIN:STANDARD
TZOFFSETFROM:-0400
TZOFFSETTO:-0500
TZNAME:EST
DTSTART:20271107T060000
END:STANDARD
END:VTIMEZONE
BEGIN:VEVENT
DTSTART;TZID=America/Toronto:20260915T100000
DTEND;TZID=America/Toronto:20260915T110000
DTSTAMP:20260419T122952
CREATED:20260413T183530Z
LAST-MODIFIED:20260413T183530Z
UID:8806-1789466400-1789470000@mapleleafacres.ca
SUMMARY:Tai Chi
DESCRIPTION:
URL:https://mapleleafacres.ca/event/tai-chi/2026-09-15/
CATEGORIES:Activities,Rec. Hall
END:VEVENT
BEGIN:VEVENT
DTSTART;TZID=America/Toronto:20260915T130000
DTEND;TZID=America/Toronto:20260915T160000
DTSTAMP:20260419T122952
CREATED:20260122T154920Z
LAST-MODIFIED:20260122T154920Z
UID:8505-1789477200-1789488000@mapleleafacres.ca
SUMMARY:Bid Euchre
DESCRIPTION:
URL:https://mapleleafacres.ca/event/bid-euchre-184/2026-09-15/
CATEGORIES:Activities,Fireside Room
END:VEVENT
BEGIN:VEVENT
DTSTART;TZID=America/Toronto:20260916T190000
DTEND;TZID=America/Toronto:20260916T220000
DTSTAMP:20260419T122952
CREATED:20260327T145840Z
LAST-MODIFIED:20260327T145840Z
UID:8728-1789585200-1789596000@mapleleafacres.ca
SUMMARY:Summer Darts
DESCRIPTION:
URL:https://mapleleafacres.ca/event/summer-darts/2026-09-16/
CATEGORIES:Activities,Rec. Hall
END:VEVENT
BEGIN:VEVENT
DTSTART;TZID=America/Toronto:20260917T100000
DTEND;TZID=America/Toronto:20260917T110000
DTSTAMP:20260419T122952
CREATED:20260413T183530Z
LAST-MODIFIED:20260413T183530Z
UID:8807-1789639200-1789642800@mapleleafacres.ca
SUMMARY:Tai Chi
DESCRIPTION:
URL:https://mapleleafacres.ca/event/tai-chi/2026-09-17/
CATEGORIES:Activities,Rec. Hall
END:VEVENT
BEGIN:VEVENT
DTSTART;TZID=America/Toronto:20260917T130000
DTEND;TZID=America/Toronto:20260917T160000
DTSTAMP:20260419T122952
CREATED:20250922T153259Z
LAST-MODIFIED:20250922T153259Z
UID:8001-1789650000-1789660800@mapleleafacres.ca
SUMMARY:Card Bingo
DESCRIPTION:
URL:https://mapleleafacres.ca/event/card-bingo-64/2026-09-17/
CATEGORIES:Activities,Adult Hall
END:VEVENT
BEGIN:VEVENT
DTSTART;TZID=America/Toronto:20260918T133000
DTEND;TZID=America/Toronto:20260918T160000
DTSTAMP:20260419T122952
CREATED:20250922T154348Z
LAST-MODIFIED:20250922T154348Z
UID:8061-1789738200-1789747200@mapleleafacres.ca
SUMMARY:Shuffle Board
DESCRIPTION:
URL:https://mapleleafacres.ca/event/shuffle-board-52/2026-09-18/
CATEGORIES:Activities,Rec. Hall
END:VEVENT
BEGIN:VEVENT
DTSTART;TZID=America/Toronto:20260918T200000
DTEND;TZID=America/Toronto:20260918T220000
DTSTAMP:20260419T122952
CREATED:20251209T161242Z
LAST-MODIFIED:20251209T161242Z
UID:8306-1789761600-1789768800@mapleleafacres.ca
SUMMARY:Bingo
DESCRIPTION:
URL:https://mapleleafacres.ca/event/bingo-26/2026-09-18/
CATEGORIES:Activities,Rec. Hall
END:VEVENT
BEGIN:VEVENT
DTSTART;VALUE=DATE:20260919
DTEND;VALUE=DATE:20260920
DTSTAMP:20260419T122952
CREATED:20251210T160356Z
LAST-MODIFIED:20251210T160356Z
UID:8365-1789776000-1789862399@mapleleafacres.ca
SUMMARY:Sunga Party
DESCRIPTION:
URL:https://mapleleafacres.ca/event/sunga-party-2/
CATEGORIES:Activities,Rec. Hall
END:VEVENT
BEGIN:VEVENT
DTSTART;TZID=America/Toronto:20260919T130000
DTEND;TZID=America/Toronto:20260919T235900
DTSTAMP:20260419T122952
CREATED:20260327T154226Z
LAST-MODIFIED:20260406T140936Z
UID:8747-1789822800-1789862340@mapleleafacres.ca
SUMMARY:Golf Tournament
DESCRIPTION:
URL:https://mapleleafacres.ca/event/golf-tournament/
CATEGORIES:Activities,Rec. Hall
END:VEVENT
BEGIN:VEVENT
DTSTART;TZID=America/Toronto:20260920T080000
DTEND;TZID=America/Toronto:20260920T110000
DTSTAMP:20260419T122952
CREATED:20251211T162930Z
LAST-MODIFIED:20251211T162930Z
UID:8405-1789891200-1789902000@mapleleafacres.ca
SUMMARY:Coffee Chat
DESCRIPTION:
URL:https://mapleleafacres.ca/event/coffee-chat-97/
CATEGORIES:Activities,Adult Hall
END:VEVENT
BEGIN:VEVENT
DTSTART;TZID=America/Toronto:20260920T130000
DTEND;TZID=America/Toronto:20260920T160000
DTSTAMP:20260419T122952
CREATED:20260122T154759Z
LAST-MODIFIED:20260122T154759Z
UID:8470-1789909200-1789920000@mapleleafacres.ca
SUMMARY:Ramoli
DESCRIPTION:
URL:https://mapleleafacres.ca/event/ramoli/2026-09-20/
CATEGORIES:Activities,Fireside Room
END:VEVENT
BEGIN:VEVENT
DTSTART;TZID=America/Toronto:20260921T100000
DTEND;TZID=America/Toronto:20260921T110000
DTSTAMP:20260419T122952
CREATED:20250922T153050Z
LAST-MODIFIED:20250922T153050Z
UID:7958-1789984800-1789988400@mapleleafacres.ca
SUMMARY:Line Dancing
DESCRIPTION:
URL:https://mapleleafacres.ca/event/line-dancing-48/2026-09-21/
CATEGORIES:Activities,Rec. Hall
END:VEVENT
BEGIN:VEVENT
DTSTART;TZID=America/Toronto:20260921T180000
DTEND;TZID=America/Toronto:20260921T213000
DTSTAMP:20260419T122952
CREATED:20260128T151826Z
LAST-MODIFIED:20260128T151826Z
UID:8587-1790013600-1790026200@mapleleafacres.ca
SUMMARY:Euchre
DESCRIPTION:
URL:https://mapleleafacres.ca/event/euchre-28/2026-09-21/
CATEGORIES:Activities,Adult Hall
END:VEVENT
BEGIN:VEVENT
DTSTART;TZID=America/Toronto:20260922T100000
DTEND;TZID=America/Toronto:20260922T110000
DTSTAMP:20260419T122952
CREATED:20260413T183530Z
LAST-MODIFIED:20260413T183530Z
UID:8808-1790071200-1790074800@mapleleafacres.ca
SUMMARY:Tai Chi
DESCRIPTION:
URL:https://mapleleafacres.ca/event/tai-chi/2026-09-22/
CATEGORIES:Activities,Rec. Hall
END:VEVENT
BEGIN:VEVENT
DTSTART;TZID=America/Toronto:20260922T130000
DTEND;TZID=America/Toronto:20260922T160000
DTSTAMP:20260419T122952
CREATED:20260122T154920Z
LAST-MODIFIED:20260122T154920Z
UID:8506-1790082000-1790092800@mapleleafacres.ca
SUMMARY:Bid Euchre
DESCRIPTION:
URL:https://mapleleafacres.ca/event/bid-euchre-184/2026-09-22/
CATEGORIES:Activities,Fireside Room
END:VEVENT
BEGIN:VEVENT
DTSTART;TZID=America/Toronto:20260923T190000
DTEND;TZID=America/Toronto:20260923T220000
DTSTAMP:20260419T122952
CREATED:20260327T145840Z
LAST-MODIFIED:20260327T145840Z
UID:8729-1790190000-1790200800@mapleleafacres.ca
SUMMARY:Summer Darts
DESCRIPTION:
URL:https://mapleleafacres.ca/event/summer-darts/2026-09-23/
CATEGORIES:Activities,Rec. Hall
END:VEVENT
BEGIN:VEVENT
DTSTART;TZID=America/Toronto:20260924T100000
DTEND;TZID=America/Toronto:20260924T110000
DTSTAMP:20260419T122952
CREATED:20260413T183530Z
LAST-MODIFIED:20260413T183530Z
UID:8810-1790244000-1790247600@mapleleafacres.ca
SUMMARY:Tai Chi
DESCRIPTION:
URL:https://mapleleafacres.ca/event/tai-chi/2026-09-24/
CATEGORIES:Activities,Rec. Hall
END:VEVENT
BEGIN:VEVENT
DTSTART;TZID=America/Toronto:20260924T130000
DTEND;TZID=America/Toronto:20260924T160000
DTSTAMP:20260419T122952
CREATED:20250922T153259Z
LAST-MODIFIED:20250922T153259Z
UID:8002-1790254800-1790265600@mapleleafacres.ca
SUMMARY:Card Bingo
DESCRIPTION:
URL:https://mapleleafacres.ca/event/card-bingo-64/2026-09-24/
CATEGORIES:Activities,Adult Hall
END:VEVENT
BEGIN:VEVENT
DTSTART;TZID=America/Toronto:20260925T133000
DTEND;TZID=America/Toronto:20260925T160000
DTSTAMP:20260419T122952
CREATED:20250922T154348Z
LAST-MODIFIED:20250922T154348Z
UID:8062-1790343000-1790352000@mapleleafacres.ca
SUMMARY:Shuffle Board
DESCRIPTION:
URL:https://mapleleafacres.ca/event/shuffle-board-52/2026-09-25/
CATEGORIES:Activities,Rec. Hall
END:VEVENT
BEGIN:VEVENT
DTSTART;TZID=America/Toronto:20260925T200000
DTEND;TZID=America/Toronto:20260925T220000
DTSTAMP:20260419T122952
CREATED:20251209T161242Z
LAST-MODIFIED:20251209T161242Z
UID:8307-1790366400-1790373600@mapleleafacres.ca
SUMMARY:Bingo
DESCRIPTION:
URL:https://mapleleafacres.ca/event/bingo-26/2026-09-25/
CATEGORIES:Activities,Rec. Hall
END:VEVENT
BEGIN:VEVENT
DTSTART;TZID=America/Toronto:20260926T100000
DTEND;TZID=America/Toronto:20260926T120000
DTSTAMP:20260419T122952
CREATED:20251210T155157Z
LAST-MODIFIED:20251210T155157Z
UID:8355-1790416800-1790424000@mapleleafacres.ca
SUMMARY:Sports and Rec Meeting
DESCRIPTION:
URL:https://mapleleafacres.ca/event/sports-and-rec-meeting-4/
CATEGORIES:Activities,Adult Hall
END:VEVENT
BEGIN:VEVENT
DTSTART;TZID=America/Toronto:20260927T130000
DTEND;TZID=America/Toronto:20260927T160000
DTSTAMP:20260419T122952
CREATED:20260122T154759Z
LAST-MODIFIED:20260122T154759Z
UID:8471-1790514000-1790524800@mapleleafacres.ca
SUMMARY:Ramoli
DESCRIPTION:
URL:https://mapleleafacres.ca/event/ramoli/2026-09-27/
CATEGORIES:Activities,Fireside Room
END:VEVENT
BEGIN:VEVENT
DTSTART;TZID=America/Toronto:20260928T100000
DTEND;TZID=America/Toronto:20260928T110000
DTSTAMP:20260419T122952
CREATED:20250922T153050Z
LAST-MODIFIED:20250922T153050Z
UID:7959-1790589600-1790593200@mapleleafacres.ca
SUMMARY:Line Dancing
DESCRIPTION:
URL:https://mapleleafacres.ca/event/line-dancing-48/2026-09-28/
CATEGORIES:Activities,Rec. Hall
END:VEVENT
BEGIN:VEVENT
DTSTART;TZID=America/Toronto:20260928T180000
DTEND;TZID=America/Toronto:20260928T213000
DTSTAMP:20260419T122952
CREATED:20260128T151826Z
LAST-MODIFIED:20260128T151826Z
UID:8588-1790618400-1790631000@mapleleafacres.ca
SUMMARY:Euchre
DESCRIPTION:
URL:https://mapleleafacres.ca/event/euchre-28/2026-09-28/
CATEGORIES:Activities,Adult Hall
END:VEVENT
BEGIN:VEVENT
DTSTART;TZID=America/Toronto:20260929T100000
DTEND;TZID=America/Toronto:20260929T110000
DTSTAMP:20260419T122952
CREATED:20260413T183530Z
LAST-MODIFIED:20260413T183530Z
UID:8811-1790676000-1790679600@mapleleafacres.ca
SUMMARY:Tai Chi
DESCRIPTION:
URL:https://mapleleafacres.ca/event/tai-chi/2026-09-29/
CATEGORIES:Activities,Rec. Hall
END:VEVENT
BEGIN:VEVENT
DTSTART;TZID=America/Toronto:20260929T130000
DTEND;TZID=America/Toronto:20260929T160000
DTSTAMP:20260419T122952
CREATED:20260122T154920Z
LAST-MODIFIED:20260122T154920Z
UID:8507-1790686800-1790697600@mapleleafacres.ca
SUMMARY:Bid Euchre
DESCRIPTION:
URL:https://mapleleafacres.ca/event/bid-euchre-184/2026-09-29/
CATEGORIES:Activities,Fireside Room
END:VEVENT
BEGIN:VEVENT
DTSTART;TZID=America/Toronto:20260930T190000
DTEND;TZID=America/Toronto:20260930T220000
DTSTAMP:20260419T122952
CREATED:20260327T145840Z
LAST-MODIFIED:20260327T145840Z
UID:8730-1790794800-1790805600@mapleleafacres.ca
SUMMARY:Summer Darts
DESCRIPTION:
URL:https://mapleleafacres.ca/event/summer-darts/2026-09-30/
CATEGORIES:Activities,Rec. Hall
END:VEVENT
BEGIN:VEVENT
DTSTART;TZID=America/Toronto:20261001T100000
DTEND;TZID=America/Toronto:20261001T110000
DTSTAMP:20260419T122952
CREATED:20260413T183530Z
LAST-MODIFIED:20260413T183530Z
UID:8812-1790848800-1790852400@mapleleafacres.ca
SUMMARY:Tai Chi
DESCRIPTION:
URL:https://mapleleafacres.ca/event/tai-chi/2026-10-01/
CATEGORIES:Activities,Rec. Hall
END:VEVENT
BEGIN:VEVENT
DTSTART;TZID=America/Toronto:20261001T130000
DTEND;TZID=America/Toronto:20261001T160000
DTSTAMP:20260419T122952
CREATED:20250922T153259Z
LAST-MODIFIED:20250922T153259Z
UID:8003-1790859600-1790870400@mapleleafacres.ca
SUMMARY:Card Bingo
DESCRIPTION:
URL:https://mapleleafacres.ca/event/card-bingo-64/2026-10-01/
CATEGORIES:Activities,Adult Hall
END:VEVENT
BEGIN:VEVENT
DTSTART;TZID=America/Toronto:20261002T133000
DTEND;TZID=America/Toronto:20261002T160000
DTSTAMP:20260419T122952
CREATED:20250922T154348Z
LAST-MODIFIED:20250922T154348Z
UID:8063-1790947800-1790956800@mapleleafacres.ca
SUMMARY:Shuffle Board
DESCRIPTION:
URL:https://mapleleafacres.ca/event/shuffle-board-52/2026-10-02/
CATEGORIES:Activities,Rec. Hall
END:VEVENT
END:VCALENDAR