BEGIN:VCALENDAR
VERSION:2.0
PRODID:-//Maple Leaf Acres - ECPv6.15.18//NONSGML v1.0//EN
CALSCALE:GREGORIAN
METHOD:PUBLISH
X-WR-CALNAME:Maple Leaf Acres
X-ORIGINAL-URL:https://mapleleafacres.ca
X-WR-CALDESC:Events for Maple Leaf Acres
REFRESH-INTERVAL;VALUE=DURATION:PT1H
X-Robots-Tag:noindex
X-PUBLISHED-TTL:PT1H
BEGIN:VTIMEZONE
TZID:America/Toronto
BEGIN:DAYLIGHT
TZOFFSETFROM:-0500
TZOFFSETTO:-0400
TZNAME:EDT
DTSTART:20250309T070000
END:DAYLIGHT
BEGIN:STANDARD
TZOFFSETFROM:-0400
TZOFFSETTO:-0500
TZNAME:EST
DTSTART:20251102T060000
END:STANDARD
BEGIN:DAYLIGHT
TZOFFSETFROM:-0500
TZOFFSETTO:-0400
TZNAME:EDT
DTSTART:20260308T070000
END:DAYLIGHT
BEGIN:STANDARD
TZOFFSETFROM:-0400
TZOFFSETTO:-0500
TZNAME:EST
DTSTART:20261101T060000
END:STANDARD
BEGIN:DAYLIGHT
TZOFFSETFROM:-0500
TZOFFSETTO:-0400
TZNAME:EDT
DTSTART:20270314T070000
END:DAYLIGHT
BEGIN:STANDARD
TZOFFSETFROM:-0400
TZOFFSETTO:-0500
TZNAME:EST
DTSTART:20271107T060000
END:STANDARD
BEGIN:DAYLIGHT
TZOFFSETFROM:-0500
TZOFFSETTO:-0400
TZNAME:EDT
DTSTART:20280312T070000
END:DAYLIGHT
BEGIN:STANDARD
TZOFFSETFROM:-0400
TZOFFSETTO:-0500
TZNAME:EST
DTSTART:20281105T060000
END:STANDARD
END:VTIMEZONE
BEGIN:VEVENT
DTSTART;TZID=America/Toronto:20261227T130000
DTEND;TZID=America/Toronto:20261227T160000
DTSTAMP:20260421T204545
CREATED:20260122T154759Z
LAST-MODIFIED:20260122T154759Z
UID:8484-1798376400-1798387200@mapleleafacres.ca
SUMMARY:Ramoli
DESCRIPTION:
URL:https://mapleleafacres.ca/event/ramoli/2026-12-27/
CATEGORIES:Activities,Fireside Room
END:VEVENT
BEGIN:VEVENT
DTSTART;TZID=America/Toronto:20261228T180000
DTEND;TZID=America/Toronto:20261228T213000
DTSTAMP:20260421T204545
CREATED:20260128T151826Z
LAST-MODIFIED:20260128T151826Z
UID:8601-1798480800-1798493400@mapleleafacres.ca
SUMMARY:Euchre
DESCRIPTION:
URL:https://mapleleafacres.ca/event/euchre-28/2026-12-28/
CATEGORIES:Activities,Adult Hall
END:VEVENT
BEGIN:VEVENT
DTSTART;TZID=America/Toronto:20261229T130000
DTEND;TZID=America/Toronto:20261229T160000
DTSTAMP:20260421T204545
CREATED:20260122T154920Z
LAST-MODIFIED:20260122T154920Z
UID:8520-1798549200-1798560000@mapleleafacres.ca
SUMMARY:Bid Euchre
DESCRIPTION:
URL:https://mapleleafacres.ca/event/bid-euchre-184/2026-12-29/
CATEGORIES:Activities,Fireside Room
END:VEVENT
BEGIN:VEVENT
DTSTART;VALUE=DATE:20261231
DTEND;VALUE=DATE:20270101
DTSTAMP:20260421T204545
CREATED:20251210T155504Z
LAST-MODIFIED:20251210T155504Z
UID:8361-1798675200-1798761599@mapleleafacres.ca
SUMMARY:New Years Eve
DESCRIPTION:
URL:https://mapleleafacres.ca/event/new-years-eve-3/
CATEGORIES:Activities,Fireside Room,Rec. Hall
END:VEVENT
BEGIN:VEVENT
DTSTART;TZID=America/Toronto:20270101T133000
DTEND;TZID=America/Toronto:20270101T160000
DTSTAMP:20260421T204545
CREATED:20250922T154348Z
LAST-MODIFIED:20250922T154348Z
UID:8076-1798810200-1798819200@mapleleafacres.ca
SUMMARY:Shuffle Board
DESCRIPTION:
URL:https://mapleleafacres.ca/event/shuffle-board-52/2027-01-01/
CATEGORIES:Activities,Rec. Hall
END:VEVENT
BEGIN:VEVENT
DTSTART;TZID=America/Toronto:20270108T133000
DTEND;TZID=America/Toronto:20270108T160000
DTSTAMP:20260421T204545
CREATED:20250922T154348Z
LAST-MODIFIED:20250922T154348Z
UID:8077-1799415000-1799424000@mapleleafacres.ca
SUMMARY:Shuffle Board
DESCRIPTION:
URL:https://mapleleafacres.ca/event/shuffle-board-52/2027-01-08/
CATEGORIES:Activities,Rec. Hall
END:VEVENT
BEGIN:VEVENT
DTSTART;TZID=America/Toronto:20270115T133000
DTEND;TZID=America/Toronto:20270115T160000
DTSTAMP:20260421T204545
CREATED:20250922T154348Z
LAST-MODIFIED:20250922T154348Z
UID:8078-1800019800-1800028800@mapleleafacres.ca
SUMMARY:Shuffle Board
DESCRIPTION:
URL:https://mapleleafacres.ca/event/shuffle-board-52/2027-01-15/
CATEGORIES:Activities,Rec. Hall
END:VEVENT
BEGIN:VEVENT
DTSTART;TZID=America/Toronto:20270122T133000
DTEND;TZID=America/Toronto:20270122T160000
DTSTAMP:20260421T204545
CREATED:20250922T154348Z
LAST-MODIFIED:20250922T154348Z
UID:8079-1800624600-1800633600@mapleleafacres.ca
SUMMARY:Shuffle Board
DESCRIPTION:
URL:https://mapleleafacres.ca/event/shuffle-board-52/2027-01-22/
CATEGORIES:Activities,Rec. Hall
END:VEVENT
BEGIN:VEVENT
DTSTART;TZID=America/Toronto:20270129T133000
DTEND;TZID=America/Toronto:20270129T160000
DTSTAMP:20260421T204545
CREATED:20250922T154348Z
LAST-MODIFIED:20250922T154348Z
UID:8080-1801229400-1801238400@mapleleafacres.ca
SUMMARY:Shuffle Board
DESCRIPTION:
URL:https://mapleleafacres.ca/event/shuffle-board-52/2027-01-29/
CATEGORIES:Activities,Rec. Hall
END:VEVENT
BEGIN:VEVENT
DTSTART;TZID=America/Toronto:20270205T133000
DTEND;TZID=America/Toronto:20270205T160000
DTSTAMP:20260421T204545
CREATED:20250922T154348Z
LAST-MODIFIED:20250922T154348Z
UID:8081-1801834200-1801843200@mapleleafacres.ca
SUMMARY:Shuffle Board
DESCRIPTION:
URL:https://mapleleafacres.ca/event/shuffle-board-52/2027-02-05/
CATEGORIES:Activities,Rec. Hall
END:VEVENT
BEGIN:VEVENT
DTSTART;TZID=America/Toronto:20270212T133000
DTEND;TZID=America/Toronto:20270212T160000
DTSTAMP:20260421T204545
CREATED:20250922T154348Z
LAST-MODIFIED:20250922T154348Z
UID:8082-1802439000-1802448000@mapleleafacres.ca
SUMMARY:Shuffle Board
DESCRIPTION:
URL:https://mapleleafacres.ca/event/shuffle-board-52/2027-02-12/
CATEGORIES:Activities,Rec. Hall
END:VEVENT
BEGIN:VEVENT
DTSTART;TZID=America/Toronto:20270219T133000
DTEND;TZID=America/Toronto:20270219T160000
DTSTAMP:20260421T204545
CREATED:20250922T154348Z
LAST-MODIFIED:20250922T154348Z
UID:8083-1803043800-1803052800@mapleleafacres.ca
SUMMARY:Shuffle Board
DESCRIPTION:
URL:https://mapleleafacres.ca/event/shuffle-board-52/2027-02-19/
CATEGORIES:Activities,Rec. Hall
END:VEVENT
BEGIN:VEVENT
DTSTART;TZID=America/Toronto:20270226T133000
DTEND;TZID=America/Toronto:20270226T160000
DTSTAMP:20260421T204545
CREATED:20250922T154348Z
LAST-MODIFIED:20250922T154348Z
UID:8084-1803648600-1803657600@mapleleafacres.ca
SUMMARY:Shuffle Board
DESCRIPTION:
URL:https://mapleleafacres.ca/event/shuffle-board-52/2027-02-26/
CATEGORIES:Activities,Rec. Hall
END:VEVENT
BEGIN:VEVENT
DTSTART;TZID=America/Toronto:20270305T133000
DTEND;TZID=America/Toronto:20270305T160000
DTSTAMP:20260421T204545
CREATED:20250922T154348Z
LAST-MODIFIED:20250922T154348Z
UID:8085-1804253400-1804262400@mapleleafacres.ca
SUMMARY:Shuffle Board
DESCRIPTION:
URL:https://mapleleafacres.ca/event/shuffle-board-52/2027-03-05/
CATEGORIES:Activities,Rec. Hall
END:VEVENT
BEGIN:VEVENT
DTSTART;TZID=America/Toronto:20270312T133000
DTEND;TZID=America/Toronto:20270312T160000
DTSTAMP:20260421T204545
CREATED:20250922T154348Z
LAST-MODIFIED:20250922T154348Z
UID:8086-1804858200-1804867200@mapleleafacres.ca
SUMMARY:Shuffle Board
DESCRIPTION:
URL:https://mapleleafacres.ca/event/shuffle-board-52/2027-03-12/
CATEGORIES:Activities,Rec. Hall
END:VEVENT
BEGIN:VEVENT
DTSTART;TZID=America/Toronto:20270319T133000
DTEND;TZID=America/Toronto:20270319T160000
DTSTAMP:20260421T204545
CREATED:20250922T154348Z
LAST-MODIFIED:20250922T154348Z
UID:8087-1805463000-1805472000@mapleleafacres.ca
SUMMARY:Shuffle Board
DESCRIPTION:
URL:https://mapleleafacres.ca/event/shuffle-board-52/2027-03-19/
CATEGORIES:Activities,Rec. Hall
END:VEVENT
BEGIN:VEVENT
DTSTART;TZID=America/Toronto:20270326T133000
DTEND;TZID=America/Toronto:20270326T160000
DTSTAMP:20260421T204545
CREATED:20250922T154348Z
LAST-MODIFIED:20250922T154348Z
UID:8088-1806067800-1806076800@mapleleafacres.ca
SUMMARY:Shuffle Board
DESCRIPTION:
URL:https://mapleleafacres.ca/event/shuffle-board-52/2027-03-26/
CATEGORIES:Activities,Rec. Hall
END:VEVENT
BEGIN:VEVENT
DTSTART;TZID=America/Toronto:20270402T133000
DTEND;TZID=America/Toronto:20270402T160000
DTSTAMP:20260421T204545
CREATED:20250922T154348Z
LAST-MODIFIED:20250922T154348Z
UID:8089-1806672600-1806681600@mapleleafacres.ca
SUMMARY:Shuffle Board
DESCRIPTION:
URL:https://mapleleafacres.ca/event/shuffle-board-52/2027-04-02/
CATEGORIES:Activities,Rec. Hall
END:VEVENT
BEGIN:VEVENT
DTSTART;TZID=America/Toronto:20270409T133000
DTEND;TZID=America/Toronto:20270409T160000
DTSTAMP:20260421T204545
CREATED:20250922T154348Z
LAST-MODIFIED:20250922T154348Z
UID:8090-1807277400-1807286400@mapleleafacres.ca
SUMMARY:Shuffle Board
DESCRIPTION:
URL:https://mapleleafacres.ca/event/shuffle-board-52/2027-04-09/
CATEGORIES:Activities,Rec. Hall
END:VEVENT
BEGIN:VEVENT
DTSTART;TZID=America/Toronto:20270416T133000
DTEND;TZID=America/Toronto:20270416T160000
DTSTAMP:20260421T204545
CREATED:20250922T154348Z
LAST-MODIFIED:20250922T154348Z
UID:8091-1807882200-1807891200@mapleleafacres.ca
SUMMARY:Shuffle Board
DESCRIPTION:
URL:https://mapleleafacres.ca/event/shuffle-board-52/2027-04-16/
CATEGORIES:Activities,Rec. Hall
END:VEVENT
BEGIN:VEVENT
DTSTART;TZID=America/Toronto:20270423T133000
DTEND;TZID=America/Toronto:20270423T160000
DTSTAMP:20260421T204545
CREATED:20250922T154348Z
LAST-MODIFIED:20250922T154348Z
UID:8092-1808487000-1808496000@mapleleafacres.ca
SUMMARY:Shuffle Board
DESCRIPTION:
URL:https://mapleleafacres.ca/event/shuffle-board-52/2027-04-23/
CATEGORIES:Activities,Rec. Hall
END:VEVENT
BEGIN:VEVENT
DTSTART;TZID=America/Toronto:20270430T133000
DTEND;TZID=America/Toronto:20270430T160000
DTSTAMP:20260421T204545
CREATED:20250922T154348Z
LAST-MODIFIED:20250922T154348Z
UID:8093-1809091800-1809100800@mapleleafacres.ca
SUMMARY:Shuffle Board
DESCRIPTION:
URL:https://mapleleafacres.ca/event/shuffle-board-52/2027-04-30/
CATEGORIES:Activities,Rec. Hall
END:VEVENT
BEGIN:VEVENT
DTSTART;TZID=America/Toronto:20270507T133000
DTEND;TZID=America/Toronto:20270507T160000
DTSTAMP:20260421T204545
CREATED:20250922T154348Z
LAST-MODIFIED:20250922T154348Z
UID:8094-1809696600-1809705600@mapleleafacres.ca
SUMMARY:Shuffle Board
DESCRIPTION:
URL:https://mapleleafacres.ca/event/shuffle-board-52/2027-05-07/
CATEGORIES:Activities,Rec. Hall
END:VEVENT
BEGIN:VEVENT
DTSTART;TZID=America/Toronto:20270514T133000
DTEND;TZID=America/Toronto:20270514T160000
DTSTAMP:20260421T204545
CREATED:20250922T154348Z
LAST-MODIFIED:20250922T154348Z
UID:8095-1810301400-1810310400@mapleleafacres.ca
SUMMARY:Shuffle Board
DESCRIPTION:
URL:https://mapleleafacres.ca/event/shuffle-board-52/2027-05-14/
CATEGORIES:Activities,Rec. Hall
END:VEVENT
BEGIN:VEVENT
DTSTART;TZID=America/Toronto:20270521T133000
DTEND;TZID=America/Toronto:20270521T160000
DTSTAMP:20260421T204545
CREATED:20250922T154348Z
LAST-MODIFIED:20250922T154348Z
UID:8096-1810906200-1810915200@mapleleafacres.ca
SUMMARY:Shuffle Board
DESCRIPTION:
URL:https://mapleleafacres.ca/event/shuffle-board-52/2027-05-21/
CATEGORIES:Activities,Rec. Hall
END:VEVENT
BEGIN:VEVENT
DTSTART;TZID=America/Toronto:20270528T133000
DTEND;TZID=America/Toronto:20270528T160000
DTSTAMP:20260421T204545
CREATED:20250922T154348Z
LAST-MODIFIED:20250922T154348Z
UID:8097-1811511000-1811520000@mapleleafacres.ca
SUMMARY:Shuffle Board
DESCRIPTION:
URL:https://mapleleafacres.ca/event/shuffle-board-52/2027-05-28/
CATEGORIES:Activities,Rec. Hall
END:VEVENT
BEGIN:VEVENT
DTSTART;TZID=America/Toronto:20270604T133000
DTEND;TZID=America/Toronto:20270604T160000
DTSTAMP:20260421T204545
CREATED:20250922T154348Z
LAST-MODIFIED:20250922T154348Z
UID:8098-1812115800-1812124800@mapleleafacres.ca
SUMMARY:Shuffle Board
DESCRIPTION:
URL:https://mapleleafacres.ca/event/shuffle-board-52/2027-06-04/
CATEGORIES:Activities,Rec. Hall
END:VEVENT
BEGIN:VEVENT
DTSTART;TZID=America/Toronto:20270611T133000
DTEND;TZID=America/Toronto:20270611T160000
DTSTAMP:20260421T204545
CREATED:20250922T154348Z
LAST-MODIFIED:20250922T154348Z
UID:8099-1812720600-1812729600@mapleleafacres.ca
SUMMARY:Shuffle Board
DESCRIPTION:
URL:https://mapleleafacres.ca/event/shuffle-board-52/2027-06-11/
CATEGORIES:Activities,Rec. Hall
END:VEVENT
BEGIN:VEVENT
DTSTART;TZID=America/Toronto:20270618T133000
DTEND;TZID=America/Toronto:20270618T160000
DTSTAMP:20260421T204545
CREATED:20250922T154348Z
LAST-MODIFIED:20250922T154348Z
UID:8100-1813325400-1813334400@mapleleafacres.ca
SUMMARY:Shuffle Board
DESCRIPTION:
URL:https://mapleleafacres.ca/event/shuffle-board-52/2027-06-18/
CATEGORIES:Activities,Rec. Hall
END:VEVENT
BEGIN:VEVENT
DTSTART;TZID=America/Toronto:20270625T133000
DTEND;TZID=America/Toronto:20270625T160000
DTSTAMP:20260421T204545
CREATED:20250922T154348Z
LAST-MODIFIED:20250922T154348Z
UID:8101-1813930200-1813939200@mapleleafacres.ca
SUMMARY:Shuffle Board
DESCRIPTION:
URL:https://mapleleafacres.ca/event/shuffle-board-52/2027-06-25/
CATEGORIES:Activities,Rec. Hall
END:VEVENT
END:VCALENDAR