BEGIN:VCALENDAR
VERSION:2.0
PRODID:-//Maple Leaf Acres - ECPv6.15.18//NONSGML v1.0//EN
CALSCALE:GREGORIAN
METHOD:PUBLISH
X-ORIGINAL-URL:https://mapleleafacres.ca
X-WR-CALDESC:Events for Maple Leaf Acres
REFRESH-INTERVAL;VALUE=DURATION:PT1H
X-Robots-Tag:noindex
X-PUBLISHED-TTL:PT1H
BEGIN:VTIMEZONE
TZID:America/Toronto
BEGIN:DAYLIGHT
TZOFFSETFROM:-0500
TZOFFSETTO:-0400
TZNAME:EDT
DTSTART:20250309T070000
END:DAYLIGHT
BEGIN:STANDARD
TZOFFSETFROM:-0400
TZOFFSETTO:-0500
TZNAME:EST
DTSTART:20251102T060000
END:STANDARD
BEGIN:DAYLIGHT
TZOFFSETFROM:-0500
TZOFFSETTO:-0400
TZNAME:EDT
DTSTART:20260308T070000
END:DAYLIGHT
BEGIN:STANDARD
TZOFFSETFROM:-0400
TZOFFSETTO:-0500
TZNAME:EST
DTSTART:20261101T060000
END:STANDARD
BEGIN:DAYLIGHT
TZOFFSETFROM:-0500
TZOFFSETTO:-0400
TZNAME:EDT
DTSTART:20270314T070000
END:DAYLIGHT
BEGIN:STANDARD
TZOFFSETFROM:-0400
TZOFFSETTO:-0500
TZNAME:EST
DTSTART:20271107T060000
END:STANDARD
END:VTIMEZONE
BEGIN:VEVENT
DTSTART;TZID=America/Toronto:20261120T133000
DTEND;TZID=America/Toronto:20261120T160000
DTSTAMP:20260419T133114
CREATED:20250922T154348Z
LAST-MODIFIED:20250922T154348Z
UID:8070-1795181400-1795190400@mapleleafacres.ca
SUMMARY:Shuffle Board
DESCRIPTION:
URL:https://mapleleafacres.ca/event/shuffle-board-52/2026-11-20/
CATEGORIES:Activities,Rec. Hall
END:VEVENT
BEGIN:VEVENT
DTSTART;TZID=America/Toronto:20261122T130000
DTEND;TZID=America/Toronto:20261122T160000
DTSTAMP:20260419T133114
CREATED:20260122T154759Z
LAST-MODIFIED:20260122T154759Z
UID:8479-1795352400-1795363200@mapleleafacres.ca
SUMMARY:Ramoli
DESCRIPTION:
URL:https://mapleleafacres.ca/event/ramoli/2026-11-22/
CATEGORIES:Activities,Fireside Room
END:VEVENT
BEGIN:VEVENT
DTSTART;TZID=America/Toronto:20261123T180000
DTEND;TZID=America/Toronto:20261123T213000
DTSTAMP:20260419T133114
CREATED:20260128T151826Z
LAST-MODIFIED:20260128T151826Z
UID:8596-1795456800-1795469400@mapleleafacres.ca
SUMMARY:Euchre
DESCRIPTION:
URL:https://mapleleafacres.ca/event/euchre-28/2026-11-23/
CATEGORIES:Activities,Adult Hall
END:VEVENT
BEGIN:VEVENT
DTSTART;TZID=America/Toronto:20261124T130000
DTEND;TZID=America/Toronto:20261124T160000
DTSTAMP:20260419T133114
CREATED:20260122T154920Z
LAST-MODIFIED:20260122T154920Z
UID:8515-1795525200-1795536000@mapleleafacres.ca
SUMMARY:Bid Euchre
DESCRIPTION:
URL:https://mapleleafacres.ca/event/bid-euchre-184/2026-11-24/
CATEGORIES:Activities,Fireside Room
END:VEVENT
BEGIN:VEVENT
DTSTART;TZID=America/Toronto:20261126T130000
DTEND;TZID=America/Toronto:20261126T160000
DTSTAMP:20260419T133114
CREATED:20250922T153259Z
LAST-MODIFIED:20250922T153259Z
UID:8011-1795698000-1795708800@mapleleafacres.ca
SUMMARY:Card Bingo
DESCRIPTION:
URL:https://mapleleafacres.ca/event/card-bingo-64/2026-11-26/
CATEGORIES:Activities,Adult Hall
END:VEVENT
BEGIN:VEVENT
DTSTART;TZID=America/Toronto:20261127T133000
DTEND;TZID=America/Toronto:20261127T160000
DTSTAMP:20260419T133114
CREATED:20250922T154348Z
LAST-MODIFIED:20250922T154348Z
UID:8071-1795786200-1795795200@mapleleafacres.ca
SUMMARY:Shuffle Board
DESCRIPTION:
URL:https://mapleleafacres.ca/event/shuffle-board-52/2026-11-27/
CATEGORIES:Activities,Rec. Hall
END:VEVENT
BEGIN:VEVENT
DTSTART;TZID=America/Toronto:20261129T080000
DTEND;TZID=America/Toronto:20261129T110000
DTSTAMP:20260419T133114
CREATED:20251211T165726Z
LAST-MODIFIED:20251211T165726Z
UID:8415-1795939200-1795950000@mapleleafacres.ca
SUMMARY:Coffee Chat
DESCRIPTION:
URL:https://mapleleafacres.ca/event/coffee-chat-102/
CATEGORIES:Activities,Adult Hall
END:VEVENT
BEGIN:VEVENT
DTSTART;TZID=America/Toronto:20261129T130000
DTEND;TZID=America/Toronto:20261129T160000
DTSTAMP:20260419T133114
CREATED:20260122T154759Z
LAST-MODIFIED:20260122T154759Z
UID:8480-1795957200-1795968000@mapleleafacres.ca
SUMMARY:Ramoli
DESCRIPTION:
URL:https://mapleleafacres.ca/event/ramoli/2026-11-29/
CATEGORIES:Activities,Fireside Room
END:VEVENT
BEGIN:VEVENT
DTSTART;TZID=America/Toronto:20261130T180000
DTEND;TZID=America/Toronto:20261130T213000
DTSTAMP:20260419T133114
CREATED:20260128T151826Z
LAST-MODIFIED:20260128T151826Z
UID:8597-1796061600-1796074200@mapleleafacres.ca
SUMMARY:Euchre
DESCRIPTION:
URL:https://mapleleafacres.ca/event/euchre-28/2026-11-30/
CATEGORIES:Activities,Adult Hall
END:VEVENT
BEGIN:VEVENT
DTSTART;TZID=America/Toronto:20261201T130000
DTEND;TZID=America/Toronto:20261201T160000
DTSTAMP:20260419T133114
CREATED:20260122T154920Z
LAST-MODIFIED:20260122T154920Z
UID:8516-1796130000-1796140800@mapleleafacres.ca
SUMMARY:Bid Euchre
DESCRIPTION:
URL:https://mapleleafacres.ca/event/bid-euchre-184/2026-12-01/
CATEGORIES:Activities,Fireside Room
END:VEVENT
BEGIN:VEVENT
DTSTART;TZID=America/Toronto:20261203T130000
DTEND;TZID=America/Toronto:20261203T160000
DTSTAMP:20260419T133114
CREATED:20250922T153259Z
LAST-MODIFIED:20250922T153259Z
UID:8012-1796302800-1796313600@mapleleafacres.ca
SUMMARY:Card Bingo
DESCRIPTION:
URL:https://mapleleafacres.ca/event/card-bingo-64/2026-12-03/
CATEGORIES:Activities,Adult Hall
END:VEVENT
BEGIN:VEVENT
DTSTART;TZID=America/Toronto:20261204T133000
DTEND;TZID=America/Toronto:20261204T160000
DTSTAMP:20260419T133114
CREATED:20250922T154348Z
LAST-MODIFIED:20250922T154348Z
UID:8072-1796391000-1796400000@mapleleafacres.ca
SUMMARY:Shuffle Board
DESCRIPTION:
URL:https://mapleleafacres.ca/event/shuffle-board-52/2026-12-04/
CATEGORIES:Activities,Rec. Hall
END:VEVENT
BEGIN:VEVENT
DTSTART;TZID=America/Toronto:20261206T130000
DTEND;TZID=America/Toronto:20261206T160000
DTSTAMP:20260419T133114
CREATED:20260122T154759Z
LAST-MODIFIED:20260122T154759Z
UID:8481-1796562000-1796572800@mapleleafacres.ca
SUMMARY:Ramoli
DESCRIPTION:
URL:https://mapleleafacres.ca/event/ramoli/2026-12-06/
CATEGORIES:Activities,Fireside Room
END:VEVENT
BEGIN:VEVENT
DTSTART;TZID=America/Toronto:20261207T180000
DTEND;TZID=America/Toronto:20261207T213000
DTSTAMP:20260419T133114
CREATED:20260128T151826Z
LAST-MODIFIED:20260128T151826Z
UID:8598-1796666400-1796679000@mapleleafacres.ca
SUMMARY:Euchre
DESCRIPTION:
URL:https://mapleleafacres.ca/event/euchre-28/2026-12-07/
CATEGORIES:Activities,Adult Hall
END:VEVENT
BEGIN:VEVENT
DTSTART;TZID=America/Toronto:20261208T130000
DTEND;TZID=America/Toronto:20261208T160000
DTSTAMP:20260419T133114
CREATED:20260122T154920Z
LAST-MODIFIED:20260122T154920Z
UID:8517-1796734800-1796745600@mapleleafacres.ca
SUMMARY:Bid Euchre
DESCRIPTION:
URL:https://mapleleafacres.ca/event/bid-euchre-184/2026-12-08/
CATEGORIES:Activities,Fireside Room
END:VEVENT
BEGIN:VEVENT
DTSTART;TZID=America/Toronto:20261210T130000
DTEND;TZID=America/Toronto:20261210T160000
DTSTAMP:20260419T133114
CREATED:20250922T153259Z
LAST-MODIFIED:20250922T153259Z
UID:8013-1796907600-1796918400@mapleleafacres.ca
SUMMARY:Card Bingo
DESCRIPTION:
URL:https://mapleleafacres.ca/event/card-bingo-64/2026-12-10/
CATEGORIES:Activities,Adult Hall
END:VEVENT
BEGIN:VEVENT
DTSTART;TZID=America/Toronto:20261211T133000
DTEND;TZID=America/Toronto:20261211T160000
DTSTAMP:20260419T133114
CREATED:20250922T154348Z
LAST-MODIFIED:20250922T154348Z
UID:8073-1796995800-1797004800@mapleleafacres.ca
SUMMARY:Shuffle Board
DESCRIPTION:
URL:https://mapleleafacres.ca/event/shuffle-board-52/2026-12-11/
CATEGORIES:Activities,Rec. Hall
END:VEVENT
BEGIN:VEVENT
DTSTART;TZID=America/Toronto:20261213T080000
DTEND;TZID=America/Toronto:20261213T110000
DTSTAMP:20260419T133114
CREATED:20251211T165759Z
LAST-MODIFIED:20251211T165759Z
UID:8417-1797148800-1797159600@mapleleafacres.ca
SUMMARY:Coffee Chat
DESCRIPTION:
URL:https://mapleleafacres.ca/event/coffee-chat-103/
CATEGORIES:Activities,Adult Hall
END:VEVENT
BEGIN:VEVENT
DTSTART;TZID=America/Toronto:20261213T130000
DTEND;TZID=America/Toronto:20261213T160000
DTSTAMP:20260419T133114
CREATED:20260122T154759Z
LAST-MODIFIED:20260122T154759Z
UID:8482-1797166800-1797177600@mapleleafacres.ca
SUMMARY:Ramoli
DESCRIPTION:
URL:https://mapleleafacres.ca/event/ramoli/2026-12-13/
CATEGORIES:Activities,Fireside Room
END:VEVENT
BEGIN:VEVENT
DTSTART;TZID=America/Toronto:20261214T180000
DTEND;TZID=America/Toronto:20261214T213000
DTSTAMP:20260419T133114
CREATED:20260128T151826Z
LAST-MODIFIED:20260128T151826Z
UID:8599-1797271200-1797283800@mapleleafacres.ca
SUMMARY:Euchre
DESCRIPTION:
URL:https://mapleleafacres.ca/event/euchre-28/2026-12-14/
CATEGORIES:Activities,Adult Hall
END:VEVENT
BEGIN:VEVENT
DTSTART;TZID=America/Toronto:20261215T130000
DTEND;TZID=America/Toronto:20261215T160000
DTSTAMP:20260419T133114
CREATED:20260122T154920Z
LAST-MODIFIED:20260122T154920Z
UID:8518-1797339600-1797350400@mapleleafacres.ca
SUMMARY:Bid Euchre
DESCRIPTION:
URL:https://mapleleafacres.ca/event/bid-euchre-184/2026-12-15/
CATEGORIES:Activities,Fireside Room
END:VEVENT
BEGIN:VEVENT
DTSTART;TZID=America/Toronto:20261217T130000
DTEND;TZID=America/Toronto:20261217T160000
DTSTAMP:20260419T133114
CREATED:20250922T153259Z
LAST-MODIFIED:20250922T153259Z
UID:8014-1797512400-1797523200@mapleleafacres.ca
SUMMARY:Card Bingo
DESCRIPTION:
URL:https://mapleleafacres.ca/event/card-bingo-64/2026-12-17/
CATEGORIES:Activities,Adult Hall
END:VEVENT
BEGIN:VEVENT
DTSTART;TZID=America/Toronto:20261218T133000
DTEND;TZID=America/Toronto:20261218T160000
DTSTAMP:20260419T133114
CREATED:20250922T154348Z
LAST-MODIFIED:20250922T154348Z
UID:8074-1797600600-1797609600@mapleleafacres.ca
SUMMARY:Shuffle Board
DESCRIPTION:
URL:https://mapleleafacres.ca/event/shuffle-board-52/2026-12-18/
CATEGORIES:Activities,Rec. Hall
END:VEVENT
BEGIN:VEVENT
DTSTART;VALUE=DATE:20261219
DTEND;VALUE=DATE:20261220
DTSTAMP:20260419T133114
CREATED:20260122T155505Z
LAST-MODIFIED:20260122T155505Z
UID:8523-1797638400-1797724799@mapleleafacres.ca
SUMMARY:Private party
DESCRIPTION:
URL:https://mapleleafacres.ca/event/private-party-142/
CATEGORIES:Activities,Adult Hall
END:VEVENT
BEGIN:VEVENT
DTSTART;VALUE=DATE:20261220
DTEND;VALUE=DATE:20261221
DTSTAMP:20260419T133114
CREATED:20260122T155541Z
LAST-MODIFIED:20260122T155541Z
UID:8525-1797724800-1797811199@mapleleafacres.ca
SUMMARY:Private Party
DESCRIPTION:
URL:https://mapleleafacres.ca/event/private-party-143/
CATEGORIES:Activities,Adult Hall
END:VEVENT
BEGIN:VEVENT
DTSTART;TZID=America/Toronto:20261220T130000
DTEND;TZID=America/Toronto:20261220T160000
DTSTAMP:20260419T133114
CREATED:20260122T154759Z
LAST-MODIFIED:20260122T154759Z
UID:8483-1797771600-1797782400@mapleleafacres.ca
SUMMARY:Ramoli
DESCRIPTION:
URL:https://mapleleafacres.ca/event/ramoli/2026-12-20/
CATEGORIES:Activities,Fireside Room
END:VEVENT
BEGIN:VEVENT
DTSTART;TZID=America/Toronto:20261221T180000
DTEND;TZID=America/Toronto:20261221T213000
DTSTAMP:20260419T133114
CREATED:20260128T151826Z
LAST-MODIFIED:20260128T151826Z
UID:8600-1797876000-1797888600@mapleleafacres.ca
SUMMARY:Euchre
DESCRIPTION:
URL:https://mapleleafacres.ca/event/euchre-28/2026-12-21/
CATEGORIES:Activities,Adult Hall
END:VEVENT
BEGIN:VEVENT
DTSTART;TZID=America/Toronto:20261222T130000
DTEND;TZID=America/Toronto:20261222T160000
DTSTAMP:20260419T133114
CREATED:20260122T154920Z
LAST-MODIFIED:20260122T154920Z
UID:8519-1797944400-1797955200@mapleleafacres.ca
SUMMARY:Bid Euchre
DESCRIPTION:
URL:https://mapleleafacres.ca/event/bid-euchre-184/2026-12-22/
CATEGORIES:Activities,Fireside Room
END:VEVENT
BEGIN:VEVENT
DTSTART;TZID=America/Toronto:20261224T190000
DTEND;TZID=America/Toronto:20261224T220000
DTSTAMP:20260419T133114
CREATED:20260327T150407Z
LAST-MODIFIED:20260327T150407Z
UID:8737-1798138800-1798149600@mapleleafacres.ca
SUMMARY:Christmas Carols
DESCRIPTION:
URL:https://mapleleafacres.ca/event/christmas-carols-2/
CATEGORIES:Activities,Fireside Room
END:VEVENT
BEGIN:VEVENT
DTSTART;TZID=America/Toronto:20261225T133000
DTEND;TZID=America/Toronto:20261225T160000
DTSTAMP:20260419T133114
CREATED:20250922T154348Z
LAST-MODIFIED:20250922T154348Z
UID:8075-1798205400-1798214400@mapleleafacres.ca
SUMMARY:Shuffle Board
DESCRIPTION:
URL:https://mapleleafacres.ca/event/shuffle-board-52/2026-12-25/
CATEGORIES:Activities,Rec. Hall
END:VEVENT
END:VCALENDAR