BEGIN:VCALENDAR
VERSION:2.0
PRODID:-//Maple Leaf Acres - ECPv6.15.18//NONSGML v1.0//EN
CALSCALE:GREGORIAN
METHOD:PUBLISH
X-WR-CALNAME:Maple Leaf Acres
X-ORIGINAL-URL:https://mapleleafacres.ca
X-WR-CALDESC:Events for Maple Leaf Acres
REFRESH-INTERVAL;VALUE=DURATION:PT1H
X-Robots-Tag:noindex
X-PUBLISHED-TTL:PT1H
BEGIN:VTIMEZONE
TZID:America/Toronto
BEGIN:DAYLIGHT
TZOFFSETFROM:-0500
TZOFFSETTO:-0400
TZNAME:EDT
DTSTART:20270314T070000
END:DAYLIGHT
BEGIN:STANDARD
TZOFFSETFROM:-0400
TZOFFSETTO:-0500
TZNAME:EST
DTSTART:20271107T060000
END:STANDARD
BEGIN:DAYLIGHT
TZOFFSETFROM:-0500
TZOFFSETTO:-0400
TZNAME:EDT
DTSTART:20280312T070000
END:DAYLIGHT
BEGIN:STANDARD
TZOFFSETFROM:-0400
TZOFFSETTO:-0500
TZNAME:EST
DTSTART:20281105T060000
END:STANDARD
BEGIN:DAYLIGHT
TZOFFSETFROM:-0500
TZOFFSETTO:-0400
TZNAME:EDT
DTSTART:20290311T070000
END:DAYLIGHT
BEGIN:STANDARD
TZOFFSETFROM:-0400
TZOFFSETTO:-0500
TZNAME:EST
DTSTART:20291104T060000
END:STANDARD
END:VTIMEZONE
BEGIN:VEVENT
DTSTART;TZID=America/Toronto:20280310T133000
DTEND;TZID=America/Toronto:20280310T160000
DTSTAMP:20260419T184149
CREATED:20250922T154348Z
LAST-MODIFIED:20250922T154348Z
UID:8640-1836307800-1836316800@mapleleafacres.ca
SUMMARY:Shuffle Board
DESCRIPTION:
URL:https://mapleleafacres.ca/event/shuffle-board-52/2028-03-10/
CATEGORIES:Activities,Rec. Hall
END:VEVENT
BEGIN:VEVENT
DTSTART;TZID=America/Toronto:20280317T133000
DTEND;TZID=America/Toronto:20280317T160000
DTSTAMP:20260419T184149
CREATED:20250922T154348Z
LAST-MODIFIED:20250922T154348Z
UID:8672-1836912600-1836921600@mapleleafacres.ca
SUMMARY:Shuffle Board
DESCRIPTION:
URL:https://mapleleafacres.ca/event/shuffle-board-52/2028-03-17/
CATEGORIES:Activities,Rec. Hall
END:VEVENT
BEGIN:VEVENT
DTSTART;TZID=America/Toronto:20280324T133000
DTEND;TZID=America/Toronto:20280324T160000
DTSTAMP:20260419T184149
CREATED:20250922T154348Z
LAST-MODIFIED:20250922T154348Z
UID:8695-1837517400-1837526400@mapleleafacres.ca
SUMMARY:Shuffle Board
DESCRIPTION:
URL:https://mapleleafacres.ca/event/shuffle-board-52/2028-03-24/
CATEGORIES:Activities,Rec. Hall
END:VEVENT
BEGIN:VEVENT
DTSTART;TZID=America/Toronto:20280331T133000
DTEND;TZID=America/Toronto:20280331T160000
DTSTAMP:20260419T184149
CREATED:20250922T154348Z
LAST-MODIFIED:20250922T154348Z
UID:8756-1838122200-1838131200@mapleleafacres.ca
SUMMARY:Shuffle Board
DESCRIPTION:
URL:https://mapleleafacres.ca/event/shuffle-board-52/2028-03-31/
CATEGORIES:Activities,Rec. Hall
END:VEVENT
BEGIN:VEVENT
DTSTART;TZID=America/Toronto:20280407T133000
DTEND;TZID=America/Toronto:20280407T160000
DTSTAMP:20260419T184149
CREATED:20250922T154348Z
LAST-MODIFIED:20250922T154348Z
UID:8763-1838727000-1838736000@mapleleafacres.ca
SUMMARY:Shuffle Board
DESCRIPTION:
URL:https://mapleleafacres.ca/event/shuffle-board-52/2028-04-07/
CATEGORIES:Activities,Rec. Hall
END:VEVENT
BEGIN:VEVENT
DTSTART;TZID=America/Toronto:20280414T133000
DTEND;TZID=America/Toronto:20280414T160000
DTSTAMP:20260419T184149
CREATED:20250922T154348Z
LAST-MODIFIED:20250922T154348Z
UID:8821-1839331800-1839340800@mapleleafacres.ca
SUMMARY:Shuffle Board
DESCRIPTION:
URL:https://mapleleafacres.ca/event/shuffle-board-52/2028-04-14/
CATEGORIES:Activities,Rec. Hall
END:VEVENT
END:VCALENDAR