BEGIN:VCALENDAR
VERSION:2.0
PRODID:-//Maple Leaf Acres - ECPv6.15.18//NONSGML v1.0//EN
CALSCALE:GREGORIAN
METHOD:PUBLISH
X-ORIGINAL-URL:https://mapleleafacres.ca
X-WR-CALDESC:Events for Maple Leaf Acres
REFRESH-INTERVAL;VALUE=DURATION:PT1H
X-Robots-Tag:noindex
X-PUBLISHED-TTL:PT1H
BEGIN:VTIMEZONE
TZID:America/Toronto
BEGIN:DAYLIGHT
TZOFFSETFROM:-0500
TZOFFSETTO:-0400
TZNAME:EDT
DTSTART:20230312T070000
END:DAYLIGHT
BEGIN:STANDARD
TZOFFSETFROM:-0400
TZOFFSETTO:-0500
TZNAME:EST
DTSTART:20231105T060000
END:STANDARD
BEGIN:DAYLIGHT
TZOFFSETFROM:-0500
TZOFFSETTO:-0400
TZNAME:EDT
DTSTART:20240310T070000
END:DAYLIGHT
BEGIN:STANDARD
TZOFFSETFROM:-0400
TZOFFSETTO:-0500
TZNAME:EST
DTSTART:20241103T060000
END:STANDARD
BEGIN:DAYLIGHT
TZOFFSETFROM:-0500
TZOFFSETTO:-0400
TZNAME:EDT
DTSTART:20250309T070000
END:DAYLIGHT
BEGIN:STANDARD
TZOFFSETFROM:-0400
TZOFFSETTO:-0500
TZNAME:EST
DTSTART:20251102T060000
END:STANDARD
END:VTIMEZONE
BEGIN:VEVENT
DTSTART;TZID=America/Toronto:20240801T130000
DTEND;TZID=America/Toronto:20240801T160000
DTSTAMP:20260425T230228
CREATED:20240411T171035Z
LAST-MODIFIED:20240411T171035Z
UID:6336-1722517200-1722528000@mapleleafacres.ca
SUMMARY:Card Bingo
DESCRIPTION:
URL:https://mapleleafacres.ca/event/card-bingo-62/2024-08-01/
CATEGORIES:Adult Hall
END:VEVENT
BEGIN:VEVENT
DTSTART;TZID=America/Toronto:20240805T190000
DTEND;TZID=America/Toronto:20240805T220000
DTSTAMP:20260425T230228
CREATED:20240528T131849Z
LAST-MODIFIED:20240528T131849Z
UID:6465-1722884400-1722895200@mapleleafacres.ca
SUMMARY:Euchre Night
DESCRIPTION:
URL:https://mapleleafacres.ca/event/euchre-night/2024-08-05/
CATEGORIES:Activities,Adult Hall
END:VEVENT
BEGIN:VEVENT
DTSTART;TZID=America/Toronto:20240808T130000
DTEND;TZID=America/Toronto:20240808T160000
DTSTAMP:20260425T230228
CREATED:20240411T171035Z
LAST-MODIFIED:20240411T171035Z
UID:6337-1723122000-1723132800@mapleleafacres.ca
SUMMARY:Card Bingo
DESCRIPTION:
URL:https://mapleleafacres.ca/event/card-bingo-62/2024-08-08/
CATEGORIES:Adult Hall
END:VEVENT
BEGIN:VEVENT
DTSTART;TZID=America/Toronto:20240811T090000
DTEND;TZID=America/Toronto:20240811T110000
DTSTAMP:20260425T230228
CREATED:20240411T201522Z
LAST-MODIFIED:20240411T201522Z
UID:6394-1723366800-1723374000@mapleleafacres.ca
SUMMARY:Coffee Chat
DESCRIPTION:
URL:https://mapleleafacres.ca/event/coffee-chat-52/
CATEGORIES:Adult Hall
END:VEVENT
BEGIN:VEVENT
DTSTART;TZID=America/Toronto:20240812T190000
DTEND;TZID=America/Toronto:20240812T220000
DTSTAMP:20260425T230228
CREATED:20240528T131849Z
LAST-MODIFIED:20240528T131849Z
UID:6466-1723489200-1723500000@mapleleafacres.ca
SUMMARY:Euchre Night
DESCRIPTION:
URL:https://mapleleafacres.ca/event/euchre-night/2024-08-12/
CATEGORIES:Activities,Adult Hall
END:VEVENT
BEGIN:VEVENT
DTSTART;TZID=America/Toronto:20240815T130000
DTEND;TZID=America/Toronto:20240815T160000
DTSTAMP:20260425T230228
CREATED:20240411T171035Z
LAST-MODIFIED:20240411T171035Z
UID:6338-1723726800-1723737600@mapleleafacres.ca
SUMMARY:Card Bingo
DESCRIPTION:
URL:https://mapleleafacres.ca/event/card-bingo-62/2024-08-15/
CATEGORIES:Adult Hall
END:VEVENT
BEGIN:VEVENT
DTSTART;VALUE=DATE:20240817
DTEND;VALUE=DATE:20240818
DTSTAMP:20260425T230228
CREATED:20240411T201727Z
LAST-MODIFIED:20240411T201727Z
UID:6398-1723852800-1723939199@mapleleafacres.ca
SUMMARY:Private Party
DESCRIPTION:
URL:https://mapleleafacres.ca/event/private-party-100/
CATEGORIES:Adult Hall
END:VEVENT
BEGIN:VEVENT
DTSTART;TZID=America/Toronto:20240819T190000
DTEND;TZID=America/Toronto:20240819T220000
DTSTAMP:20260425T230228
CREATED:20240528T131849Z
LAST-MODIFIED:20240528T131849Z
UID:6468-1724094000-1724104800@mapleleafacres.ca
SUMMARY:Euchre Night
DESCRIPTION:
URL:https://mapleleafacres.ca/event/euchre-night/2024-08-19/
CATEGORIES:Activities,Adult Hall
END:VEVENT
BEGIN:VEVENT
DTSTART;TZID=America/Toronto:20240822T130000
DTEND;TZID=America/Toronto:20240822T160000
DTSTAMP:20260425T230228
CREATED:20240411T171035Z
LAST-MODIFIED:20240411T171035Z
UID:6339-1724331600-1724342400@mapleleafacres.ca
SUMMARY:Card Bingo
DESCRIPTION:
URL:https://mapleleafacres.ca/event/card-bingo-62/2024-08-22/
CATEGORIES:Adult Hall
END:VEVENT
BEGIN:VEVENT
DTSTART;TZID=America/Toronto:20240825T090000
DTEND;TZID=America/Toronto:20240825T110000
DTSTAMP:20260425T230228
CREATED:20240411T201600Z
LAST-MODIFIED:20240411T201600Z
UID:6396-1724576400-1724583600@mapleleafacres.ca
SUMMARY:Coffee Chat
DESCRIPTION:
URL:https://mapleleafacres.ca/event/coffee-chat-53/
CATEGORIES:Adult Hall
END:VEVENT
BEGIN:VEVENT
DTSTART;TZID=America/Toronto:20240825T140000
DTEND;TZID=America/Toronto:20240825T160000
DTSTAMP:20260425T230228
CREATED:20240111T160340Z
LAST-MODIFIED:20240111T160340Z
UID:5813-1724594400-1724601600@mapleleafacres.ca
SUMMARY:Ice Cream Sundae
DESCRIPTION:
URL:https://mapleleafacres.ca/event/ice-cream-sundae-4/
CATEGORIES:Activities,Adult Hall
END:VEVENT
BEGIN:VEVENT
DTSTART;TZID=America/Toronto:20240826T190000
DTEND;TZID=America/Toronto:20240826T220000
DTSTAMP:20260425T230228
CREATED:20240528T131849Z
LAST-MODIFIED:20240528T131849Z
UID:6469-1724698800-1724709600@mapleleafacres.ca
SUMMARY:Euchre Night
DESCRIPTION:
URL:https://mapleleafacres.ca/event/euchre-night/2024-08-26/
CATEGORIES:Activities,Adult Hall
END:VEVENT
BEGIN:VEVENT
DTSTART;TZID=America/Toronto:20240829T130000
DTEND;TZID=America/Toronto:20240829T160000
DTSTAMP:20260425T230228
CREATED:20240411T171035Z
LAST-MODIFIED:20240411T171035Z
UID:6340-1724936400-1724947200@mapleleafacres.ca
SUMMARY:Card Bingo
DESCRIPTION:
URL:https://mapleleafacres.ca/event/card-bingo-62/2024-08-29/
CATEGORIES:Adult Hall
END:VEVENT
END:VCALENDAR