BEGIN:VCALENDAR
VERSION:2.0
PRODID:-//Maple Leaf Acres - ECPv6.15.18//NONSGML v1.0//EN
CALSCALE:GREGORIAN
METHOD:PUBLISH
X-WR-CALNAME:Maple Leaf Acres
X-ORIGINAL-URL:https://mapleleafacres.ca
X-WR-CALDESC:Events for Maple Leaf Acres
REFRESH-INTERVAL;VALUE=DURATION:PT1H
X-Robots-Tag:noindex
X-PUBLISHED-TTL:PT1H
BEGIN:VTIMEZONE
TZID:America/Toronto
BEGIN:DAYLIGHT
TZOFFSETFROM:-0500
TZOFFSETTO:-0400
TZNAME:EDT
DTSTART:20230312T070000
END:DAYLIGHT
BEGIN:STANDARD
TZOFFSETFROM:-0400
TZOFFSETTO:-0500
TZNAME:EST
DTSTART:20231105T060000
END:STANDARD
BEGIN:DAYLIGHT
TZOFFSETFROM:-0500
TZOFFSETTO:-0400
TZNAME:EDT
DTSTART:20240310T070000
END:DAYLIGHT
BEGIN:STANDARD
TZOFFSETFROM:-0400
TZOFFSETTO:-0500
TZNAME:EST
DTSTART:20241103T060000
END:STANDARD
BEGIN:DAYLIGHT
TZOFFSETFROM:-0500
TZOFFSETTO:-0400
TZNAME:EDT
DTSTART:20250309T070000
END:DAYLIGHT
BEGIN:STANDARD
TZOFFSETFROM:-0400
TZOFFSETTO:-0500
TZNAME:EST
DTSTART:20251102T060000
END:STANDARD
END:VTIMEZONE
BEGIN:VEVENT
DTSTART;TZID=America/Toronto:20240901T130000
DTEND;TZID=America/Toronto:20240901T150000
DTSTAMP:20260425T200016
CREATED:20240116T185124Z
LAST-MODIFIED:20240116T185124Z
UID:5867-1725195600-1725202800@mapleleafacres.ca
SUMMARY:Kids Craft
DESCRIPTION:
URL:https://mapleleafacres.ca/event/kids-craft-5/
CATEGORIES:Activities,Adult Hall
END:VEVENT
BEGIN:VEVENT
DTSTART;TZID=America/Toronto:20240902T190000
DTEND;TZID=America/Toronto:20240902T220000
DTSTAMP:20260425T200016
CREATED:20240528T131849Z
LAST-MODIFIED:20240528T131849Z
UID:6470-1725303600-1725314400@mapleleafacres.ca
SUMMARY:Euchre Night
DESCRIPTION:
URL:https://mapleleafacres.ca/event/euchre-night/2024-09-02/
CATEGORIES:Activities,Adult Hall
END:VEVENT
BEGIN:VEVENT
DTSTART;TZID=America/Toronto:20240905T130000
DTEND;TZID=America/Toronto:20240905T160000
DTSTAMP:20260425T200016
CREATED:20240411T171035Z
LAST-MODIFIED:20240411T171035Z
UID:6341-1725541200-1725552000@mapleleafacres.ca
SUMMARY:Card Bingo
DESCRIPTION:
URL:https://mapleleafacres.ca/event/card-bingo-62/2024-09-05/
CATEGORIES:Adult Hall
END:VEVENT
BEGIN:VEVENT
DTSTART;TZID=America/Toronto:20240907T170000
DTEND;TZID=America/Toronto:20240907T210000
DTSTAMP:20260425T200016
CREATED:20240116T185240Z
LAST-MODIFIED:20240116T185240Z
UID:5869-1725728400-1725742800@mapleleafacres.ca
SUMMARY:Mexican Stack'um Dinner
DESCRIPTION:
URL:https://mapleleafacres.ca/event/mexican-stackum-dinner/
CATEGORIES:Activities,Adult Hall
END:VEVENT
BEGIN:VEVENT
DTSTART;TZID=America/Toronto:20240908T090000
DTEND;TZID=America/Toronto:20240908T110000
DTSTAMP:20260425T200016
CREATED:20240528T132232Z
LAST-MODIFIED:20240528T132232Z
UID:6480-1725786000-1725793200@mapleleafacres.ca
SUMMARY:Coffee Chat
DESCRIPTION:
URL:https://mapleleafacres.ca/event/coffee-chat-54/
CATEGORIES:Activities,Adult Hall
END:VEVENT
BEGIN:VEVENT
DTSTART;TZID=America/Toronto:20240909T190000
DTEND;TZID=America/Toronto:20240909T220000
DTSTAMP:20260425T200016
CREATED:20240528T131849Z
LAST-MODIFIED:20240528T131849Z
UID:6471-1725908400-1725919200@mapleleafacres.ca
SUMMARY:Euchre Night
DESCRIPTION:
URL:https://mapleleafacres.ca/event/euchre-night/2024-09-09/
CATEGORIES:Activities,Adult Hall
END:VEVENT
BEGIN:VEVENT
DTSTART;TZID=America/Toronto:20240912T130000
DTEND;TZID=America/Toronto:20240912T160000
DTSTAMP:20260425T200016
CREATED:20240411T171035Z
LAST-MODIFIED:20240411T171035Z
UID:6342-1726146000-1726156800@mapleleafacres.ca
SUMMARY:Card Bingo
DESCRIPTION:
URL:https://mapleleafacres.ca/event/card-bingo-62/2024-09-12/
CATEGORIES:Adult Hall
END:VEVENT
BEGIN:VEVENT
DTSTART;TZID=America/Toronto:20240916T190000
DTEND;TZID=America/Toronto:20240916T220000
DTSTAMP:20260425T200017
CREATED:20240528T131849Z
LAST-MODIFIED:20240528T131849Z
UID:6472-1726513200-1726524000@mapleleafacres.ca
SUMMARY:Euchre Night
DESCRIPTION:
URL:https://mapleleafacres.ca/event/euchre-night/2024-09-16/
CATEGORIES:Activities,Adult Hall
END:VEVENT
BEGIN:VEVENT
DTSTART;TZID=America/Toronto:20240919T130000
DTEND;TZID=America/Toronto:20240919T160000
DTSTAMP:20260425T200017
CREATED:20240411T171035Z
LAST-MODIFIED:20240411T171035Z
UID:6343-1726750800-1726761600@mapleleafacres.ca
SUMMARY:Card Bingo
DESCRIPTION:
URL:https://mapleleafacres.ca/event/card-bingo-62/2024-09-19/
CATEGORIES:Adult Hall
END:VEVENT
BEGIN:VEVENT
DTSTART;TZID=America/Toronto:20240921T100000
DTEND;TZID=America/Toronto:20240921T120000
DTSTAMP:20260425T200017
CREATED:20240116T185334Z
LAST-MODIFIED:20240116T185348Z
UID:5871-1726912800-1726920000@mapleleafacres.ca
SUMMARY:Sports & Rec Meeting
DESCRIPTION:
URL:https://mapleleafacres.ca/event/sports-rec-meeting-8/
CATEGORIES:Activities,Adult Hall
END:VEVENT
BEGIN:VEVENT
DTSTART;TZID=America/Toronto:20240922T090000
DTEND;TZID=America/Toronto:20240922T110000
DTSTAMP:20260425T200017
CREATED:20240528T132314Z
LAST-MODIFIED:20240528T132314Z
UID:6482-1726995600-1727002800@mapleleafacres.ca
SUMMARY:Coffee Chat
DESCRIPTION:
URL:https://mapleleafacres.ca/event/coffee-chat-55/
CATEGORIES:Activities,Adult Hall
END:VEVENT
BEGIN:VEVENT
DTSTART;TZID=America/Toronto:20240923T190000
DTEND;TZID=America/Toronto:20240923T220000
DTSTAMP:20260425T200017
CREATED:20240528T131849Z
LAST-MODIFIED:20240528T131849Z
UID:6473-1727118000-1727128800@mapleleafacres.ca
SUMMARY:Euchre Night
DESCRIPTION:
URL:https://mapleleafacres.ca/event/euchre-night/2024-09-23/
CATEGORIES:Activities,Adult Hall
END:VEVENT
BEGIN:VEVENT
DTSTART;TZID=America/Toronto:20240926T130000
DTEND;TZID=America/Toronto:20240926T160000
DTSTAMP:20260425T200017
CREATED:20240411T171035Z
LAST-MODIFIED:20240411T171035Z
UID:6344-1727355600-1727366400@mapleleafacres.ca
SUMMARY:Card Bingo
DESCRIPTION:
URL:https://mapleleafacres.ca/event/card-bingo-62/2024-09-26/
CATEGORIES:Adult Hall
END:VEVENT
BEGIN:VEVENT
DTSTART;TZID=America/Toronto:20240929T140000
DTEND;TZID=America/Toronto:20240929T160000
DTSTAMP:20260425T200017
CREATED:20240111T160425Z
LAST-MODIFIED:20240111T160425Z
UID:5815-1727618400-1727625600@mapleleafacres.ca
SUMMARY:Ice Cream Sundae
DESCRIPTION:
URL:https://mapleleafacres.ca/event/ice-cream-sundae-5/
CATEGORIES:Activities,Adult Hall
END:VEVENT
BEGIN:VEVENT
DTSTART;TZID=America/Toronto:20240930T190000
DTEND;TZID=America/Toronto:20240930T220000
DTSTAMP:20260425T200017
CREATED:20240528T131849Z
LAST-MODIFIED:20240528T131849Z
UID:6474-1727722800-1727733600@mapleleafacres.ca
SUMMARY:Euchre Night
DESCRIPTION:
URL:https://mapleleafacres.ca/event/euchre-night/2024-09-30/
CATEGORIES:Activities,Adult Hall
END:VEVENT
END:VCALENDAR