BEGIN:VCALENDAR
VERSION:2.0
PRODID:-//Maple Leaf Acres - ECPv6.15.18//NONSGML v1.0//EN
CALSCALE:GREGORIAN
METHOD:PUBLISH
X-WR-CALNAME:Maple Leaf Acres
X-ORIGINAL-URL:https://mapleleafacres.ca
X-WR-CALDESC:Events for Maple Leaf Acres
REFRESH-INTERVAL;VALUE=DURATION:PT1H
X-Robots-Tag:noindex
X-PUBLISHED-TTL:PT1H
BEGIN:VTIMEZONE
TZID:America/Toronto
BEGIN:DAYLIGHT
TZOFFSETFROM:-0500
TZOFFSETTO:-0400
TZNAME:EDT
DTSTART:20240310T070000
END:DAYLIGHT
BEGIN:STANDARD
TZOFFSETFROM:-0400
TZOFFSETTO:-0500
TZNAME:EST
DTSTART:20241103T060000
END:STANDARD
BEGIN:DAYLIGHT
TZOFFSETFROM:-0500
TZOFFSETTO:-0400
TZNAME:EDT
DTSTART:20250309T070000
END:DAYLIGHT
BEGIN:STANDARD
TZOFFSETFROM:-0400
TZOFFSETTO:-0500
TZNAME:EST
DTSTART:20251102T060000
END:STANDARD
BEGIN:DAYLIGHT
TZOFFSETFROM:-0500
TZOFFSETTO:-0400
TZNAME:EDT
DTSTART:20260308T070000
END:DAYLIGHT
BEGIN:STANDARD
TZOFFSETFROM:-0400
TZOFFSETTO:-0500
TZNAME:EST
DTSTART:20261101T060000
END:STANDARD
END:VTIMEZONE
BEGIN:VEVENT
DTSTART;TZID=America/Toronto:20251102T090000
DTEND;TZID=America/Toronto:20251102T110000
DTSTAMP:20260422T115406
CREATED:20250915T182052Z
LAST-MODIFIED:20250915T182052Z
UID:7887-1762074000-1762081200@mapleleafacres.ca
SUMMARY:Coffee Chat
DESCRIPTION:
URL:https://mapleleafacres.ca/event/coffee-chat-74/
CATEGORIES:Activities,Adult Hall
END:VEVENT
BEGIN:VEVENT
DTSTART;TZID=America/Toronto:20251103T180000
DTEND;TZID=America/Toronto:20251103T210000
DTSTAMP:20260422T115406
CREATED:20250318T144106Z
LAST-MODIFIED:20250318T144106Z
UID:7129-1762192800-1762203600@mapleleafacres.ca
SUMMARY:Euchre
DESCRIPTION:
URL:https://mapleleafacres.ca/event/euchre-27/2025-11-03/
CATEGORIES:Activities,Adult Hall
END:VEVENT
BEGIN:VEVENT
DTSTART;TZID=America/Toronto:20251106T120000
DTEND;TZID=America/Toronto:20251106T160000
DTSTAMP:20260422T115406
CREATED:20250318T144233Z
LAST-MODIFIED:20250318T144233Z
UID:7489-1762430400-1762444800@mapleleafacres.ca
SUMMARY:Card Bingo
DESCRIPTION:
URL:https://mapleleafacres.ca/event/card-bingo-63/2025-11-06/
CATEGORIES:Activities,Adult Hall
END:VEVENT
BEGIN:VEVENT
DTSTART;VALUE=DATE:20251108
DTEND;VALUE=DATE:20251109
DTSTAMP:20260422T115406
CREATED:20251023T144552Z
LAST-MODIFIED:20251023T144552Z
UID:8181-1762560000-1762646399@mapleleafacres.ca
SUMMARY:Trinity
DESCRIPTION:
URL:https://mapleleafacres.ca/event/trinity-5/
CATEGORIES:Activities,Adult Hall
END:VEVENT
BEGIN:VEVENT
DTSTART;TZID=America/Toronto:20251110T180000
DTEND;TZID=America/Toronto:20251110T210000
DTSTAMP:20260422T115406
CREATED:20250318T144106Z
LAST-MODIFIED:20250318T144106Z
UID:7130-1762797600-1762808400@mapleleafacres.ca
SUMMARY:Euchre
DESCRIPTION:
URL:https://mapleleafacres.ca/event/euchre-27/2025-11-10/
CATEGORIES:Activities,Adult Hall
END:VEVENT
BEGIN:VEVENT
DTSTART;TZID=America/Toronto:20251113T120000
DTEND;TZID=America/Toronto:20251113T160000
DTSTAMP:20260422T115406
CREATED:20250318T144233Z
LAST-MODIFIED:20250318T144233Z
UID:7490-1763035200-1763049600@mapleleafacres.ca
SUMMARY:Card Bingo
DESCRIPTION:
URL:https://mapleleafacres.ca/event/card-bingo-63/2025-11-13/
CATEGORIES:Activities,Adult Hall
END:VEVENT
BEGIN:VEVENT
DTSTART;TZID=America/Toronto:20251116T090000
DTEND;TZID=America/Toronto:20251116T113000
DTSTAMP:20260422T115406
CREATED:20250915T182120Z
LAST-MODIFIED:20250915T182120Z
UID:7889-1763283600-1763292600@mapleleafacres.ca
SUMMARY:Coffee Chat
DESCRIPTION:
URL:https://mapleleafacres.ca/event/coffee-chat-75/
CATEGORIES:Activities,Adult Hall
END:VEVENT
BEGIN:VEVENT
DTSTART;TZID=America/Toronto:20251117T180000
DTEND;TZID=America/Toronto:20251117T210000
DTSTAMP:20260422T115406
CREATED:20250318T144106Z
LAST-MODIFIED:20250318T144106Z
UID:7131-1763402400-1763413200@mapleleafacres.ca
SUMMARY:Euchre
DESCRIPTION:
URL:https://mapleleafacres.ca/event/euchre-27/2025-11-17/
CATEGORIES:Activities,Adult Hall
END:VEVENT
BEGIN:VEVENT
DTSTART;TZID=America/Toronto:20251120T120000
DTEND;TZID=America/Toronto:20251120T160000
DTSTAMP:20260422T115406
CREATED:20250318T144233Z
LAST-MODIFIED:20250318T144233Z
UID:7491-1763640000-1763654400@mapleleafacres.ca
SUMMARY:Card Bingo
DESCRIPTION:
URL:https://mapleleafacres.ca/event/card-bingo-63/2025-11-20/
CATEGORIES:Activities,Adult Hall
END:VEVENT
BEGIN:VEVENT
DTSTART;TZID=America/Toronto:20251124T180000
DTEND;TZID=America/Toronto:20251124T210000
DTSTAMP:20260422T115406
CREATED:20250318T144106Z
LAST-MODIFIED:20250318T144106Z
UID:7132-1764007200-1764018000@mapleleafacres.ca
SUMMARY:Euchre
DESCRIPTION:
URL:https://mapleleafacres.ca/event/euchre-27/2025-11-24/
CATEGORIES:Activities,Adult Hall
END:VEVENT
BEGIN:VEVENT
DTSTART;TZID=America/Toronto:20251127T120000
DTEND;TZID=America/Toronto:20251127T160000
DTSTAMP:20260422T115406
CREATED:20250318T144233Z
LAST-MODIFIED:20250318T144233Z
UID:7492-1764244800-1764259200@mapleleafacres.ca
SUMMARY:Card Bingo
DESCRIPTION:
URL:https://mapleleafacres.ca/event/card-bingo-63/2025-11-27/
CATEGORIES:Activities,Adult Hall
END:VEVENT
BEGIN:VEVENT
DTSTART;TZID=America/Toronto:20251129T160000
DTEND;TZID=America/Toronto:20251129T233000
DTSTAMP:20260422T115406
CREATED:20251016T200653Z
LAST-MODIFIED:20251016T200653Z
UID:8178-1764432000-1764459000@mapleleafacres.ca
SUMMARY:Private Party
DESCRIPTION:
URL:https://mapleleafacres.ca/event/private-party-135/
CATEGORIES:Activities,Adult Hall
END:VEVENT
BEGIN:VEVENT
DTSTART;TZID=America/Toronto:20251130T090000
DTEND;TZID=America/Toronto:20251130T110000
DTSTAMP:20260422T115406
CREATED:20250915T182155Z
LAST-MODIFIED:20250915T182155Z
UID:7891-1764493200-1764500400@mapleleafacres.ca
SUMMARY:Coffee Chat
DESCRIPTION:
URL:https://mapleleafacres.ca/event/coffee-chat-76/
CATEGORIES:Activities,Adult Hall
END:VEVENT
END:VCALENDAR