BEGIN:VCALENDAR
VERSION:2.0
PRODID:-//Maple Leaf Acres - ECPv6.15.18//NONSGML v1.0//EN
CALSCALE:GREGORIAN
METHOD:PUBLISH
X-WR-CALNAME:Maple Leaf Acres
X-ORIGINAL-URL:https://mapleleafacres.ca
X-WR-CALDESC:Events for Maple Leaf Acres
REFRESH-INTERVAL;VALUE=DURATION:PT1H
X-Robots-Tag:noindex
X-PUBLISHED-TTL:PT1H
BEGIN:VTIMEZONE
TZID:America/Toronto
BEGIN:DAYLIGHT
TZOFFSETFROM:-0500
TZOFFSETTO:-0400
TZNAME:EDT
DTSTART:20240310T070000
END:DAYLIGHT
BEGIN:STANDARD
TZOFFSETFROM:-0400
TZOFFSETTO:-0500
TZNAME:EST
DTSTART:20241103T060000
END:STANDARD
BEGIN:DAYLIGHT
TZOFFSETFROM:-0500
TZOFFSETTO:-0400
TZNAME:EDT
DTSTART:20250309T070000
END:DAYLIGHT
BEGIN:STANDARD
TZOFFSETFROM:-0400
TZOFFSETTO:-0500
TZNAME:EST
DTSTART:20251102T060000
END:STANDARD
BEGIN:DAYLIGHT
TZOFFSETFROM:-0500
TZOFFSETTO:-0400
TZNAME:EDT
DTSTART:20260308T070000
END:DAYLIGHT
BEGIN:STANDARD
TZOFFSETFROM:-0400
TZOFFSETTO:-0500
TZNAME:EST
DTSTART:20261101T060000
END:STANDARD
END:VTIMEZONE
BEGIN:VEVENT
DTSTART;TZID=America/Toronto:20250420T090000
DTEND;TZID=America/Toronto:20250420T110000
DTSTAMP:20260425T230622
CREATED:20250318T144526Z
LAST-MODIFIED:20250318T144526Z
UID:7183-1745139600-1745146800@mapleleafacres.ca
SUMMARY:Coffee Chat
DESCRIPTION:
URL:https://mapleleafacres.ca/event/coffee-chat-65/
CATEGORIES:Activities,Adult Hall
END:VEVENT
BEGIN:VEVENT
DTSTART;TZID=America/Toronto:20250421T180000
DTEND;TZID=America/Toronto:20250421T210000
DTSTAMP:20260425T230622
CREATED:20250318T144106Z
LAST-MODIFIED:20250318T144106Z
UID:7100-1745258400-1745269200@mapleleafacres.ca
SUMMARY:Euchre
DESCRIPTION:
URL:https://mapleleafacres.ca/event/euchre-27/2025-04-21/
CATEGORIES:Activities,Adult Hall
END:VEVENT
BEGIN:VEVENT
DTSTART;TZID=America/Toronto:20250424T120000
DTEND;TZID=America/Toronto:20250424T160000
DTSTAMP:20260425T230622
CREATED:20250318T144233Z
LAST-MODIFIED:20250318T144233Z
UID:7461-1745496000-1745510400@mapleleafacres.ca
SUMMARY:Card Bingo
DESCRIPTION:
URL:https://mapleleafacres.ca/event/card-bingo-63/2025-04-24/
CATEGORIES:Activities,Adult Hall
END:VEVENT
BEGIN:VEVENT
DTSTART;TZID=America/Toronto:20250428T180000
DTEND;TZID=America/Toronto:20250428T210000
DTSTAMP:20260425T230622
CREATED:20250318T144106Z
LAST-MODIFIED:20250318T144106Z
UID:7101-1745863200-1745874000@mapleleafacres.ca
SUMMARY:Euchre
DESCRIPTION:
URL:https://mapleleafacres.ca/event/euchre-27/2025-04-28/
CATEGORIES:Activities,Adult Hall
END:VEVENT
BEGIN:VEVENT
DTSTART;TZID=America/Toronto:20250501T120000
DTEND;TZID=America/Toronto:20250501T160000
DTSTAMP:20260425T230622
CREATED:20250318T144233Z
LAST-MODIFIED:20250318T144233Z
UID:7462-1746100800-1746115200@mapleleafacres.ca
SUMMARY:Card Bingo
DESCRIPTION:
URL:https://mapleleafacres.ca/event/card-bingo-63/2025-05-01/
CATEGORIES:Activities,Adult Hall
END:VEVENT
BEGIN:VEVENT
DTSTART;TZID=America/Toronto:20250504T090000
DTEND;TZID=America/Toronto:20250504T110000
DTSTAMP:20260425T230622
CREATED:20250318T144812Z
LAST-MODIFIED:20250318T144812Z
UID:7195-1746349200-1746356400@mapleleafacres.ca
SUMMARY:Coffee Chat
DESCRIPTION:
URL:https://mapleleafacres.ca/event/coffee-chat-66/
CATEGORIES:Activities,Adult Hall
END:VEVENT
BEGIN:VEVENT
DTSTART;TZID=America/Toronto:20250505T180000
DTEND;TZID=America/Toronto:20250505T210000
DTSTAMP:20260425T230622
CREATED:20250318T144106Z
LAST-MODIFIED:20250318T144106Z
UID:7102-1746468000-1746478800@mapleleafacres.ca
SUMMARY:Euchre
DESCRIPTION:
URL:https://mapleleafacres.ca/event/euchre-27/2025-05-05/
CATEGORIES:Activities,Adult Hall
END:VEVENT
BEGIN:VEVENT
DTSTART;TZID=America/Toronto:20250506T110000
DTEND;TZID=America/Toronto:20250506T140000
DTSTAMP:20260425T230622
CREATED:20250429T132028Z
LAST-MODIFIED:20250429T140448Z
UID:6846-1746529200-1746540000@mapleleafacres.ca
SUMMARY:Soup & Sandwich-CANCELLED
DESCRIPTION:
URL:https://mapleleafacres.ca/event/soup-sandwich-3/
CATEGORIES:Activities,Adult Hall
END:VEVENT
BEGIN:VEVENT
DTSTART;TZID=America/Toronto:20250508T120000
DTEND;TZID=America/Toronto:20250508T160000
DTSTAMP:20260425T230622
CREATED:20250318T144233Z
LAST-MODIFIED:20250318T144233Z
UID:7463-1746705600-1746720000@mapleleafacres.ca
SUMMARY:Card Bingo
DESCRIPTION:
URL:https://mapleleafacres.ca/event/card-bingo-63/2025-05-08/
CATEGORIES:Activities,Adult Hall
END:VEVENT
BEGIN:VEVENT
DTSTART;VALUE=DATE:20250510
DTEND;VALUE=DATE:20250511
DTSTAMP:20260425T230622
CREATED:20250318T144737Z
LAST-MODIFIED:20250318T144737Z
UID:7193-1746835200-1746921599@mapleleafacres.ca
SUMMARY:Private Function
DESCRIPTION:
URL:https://mapleleafacres.ca/event/private-function-11/
CATEGORIES:Activities,Adult Hall
END:VEVENT
BEGIN:VEVENT
DTSTART;TZID=America/Toronto:20250512T180000
DTEND;TZID=America/Toronto:20250512T210000
DTSTAMP:20260425T230622
CREATED:20250318T144106Z
LAST-MODIFIED:20250318T144106Z
UID:7103-1747072800-1747083600@mapleleafacres.ca
SUMMARY:Euchre
DESCRIPTION:
URL:https://mapleleafacres.ca/event/euchre-27/2025-05-12/
CATEGORIES:Activities,Adult Hall
END:VEVENT
BEGIN:VEVENT
DTSTART;TZID=America/Toronto:20250515T120000
DTEND;TZID=America/Toronto:20250515T160000
DTSTAMP:20260425T230622
CREATED:20250318T144233Z
LAST-MODIFIED:20250318T144233Z
UID:7464-1747310400-1747324800@mapleleafacres.ca
SUMMARY:Card Bingo
DESCRIPTION:
URL:https://mapleleafacres.ca/event/card-bingo-63/2025-05-15/
CATEGORIES:Activities,Adult Hall
END:VEVENT
BEGIN:VEVENT
DTSTART;TZID=America/Toronto:20250517T100000
DTEND;TZID=America/Toronto:20250517T120000
DTSTAMP:20260425T230622
CREATED:20241031T142123Z
LAST-MODIFIED:20241031T142123Z
UID:6848-1747476000-1747483200@mapleleafacres.ca
SUMMARY:Sports & Rec Meeting
DESCRIPTION:
URL:https://mapleleafacres.ca/event/sports-rec-meeting-9/
CATEGORIES:Activities,Adult Hall
END:VEVENT
BEGIN:VEVENT
DTSTART;TZID=America/Toronto:20250518T130000
DTEND;TZID=America/Toronto:20250518T150000
DTSTAMP:20260425T230622
CREATED:20241031T142317Z
LAST-MODIFIED:20241031T142317Z
UID:6850-1747573200-1747580400@mapleleafacres.ca
SUMMARY:Teen Training - New Summer Program
DESCRIPTION:
URL:https://mapleleafacres.ca/event/teen-training-new-summer-program/
CATEGORIES:Activities,Adult Hall
END:VEVENT
BEGIN:VEVENT
DTSTART;TZID=America/Toronto:20250519T180000
DTEND;TZID=America/Toronto:20250519T210000
DTSTAMP:20260425T230622
CREATED:20250318T144106Z
LAST-MODIFIED:20250318T144106Z
UID:7104-1747677600-1747688400@mapleleafacres.ca
SUMMARY:Euchre
DESCRIPTION:
URL:https://mapleleafacres.ca/event/euchre-27/2025-05-19/
CATEGORIES:Activities,Adult Hall
END:VEVENT
BEGIN:VEVENT
DTSTART;TZID=America/Toronto:20250522T120000
DTEND;TZID=America/Toronto:20250522T160000
DTSTAMP:20260425T230622
CREATED:20250318T144233Z
LAST-MODIFIED:20250318T144233Z
UID:7465-1747915200-1747929600@mapleleafacres.ca
SUMMARY:Card Bingo
DESCRIPTION:
URL:https://mapleleafacres.ca/event/card-bingo-63/2025-05-22/
CATEGORIES:Activities,Adult Hall
END:VEVENT
BEGIN:VEVENT
DTSTART;TZID=America/Toronto:20250525T140000
DTEND;TZID=America/Toronto:20250525T160000
DTSTAMP:20260425T230622
CREATED:20241031T142611Z
LAST-MODIFIED:20241031T142611Z
UID:6856-1748181600-1748188800@mapleleafacres.ca
SUMMARY:Ice Cream Sundae
DESCRIPTION:
URL:https://mapleleafacres.ca/event/ice-cream-sundae-6/
CATEGORIES:Activities,Adult Hall
END:VEVENT
BEGIN:VEVENT
DTSTART;TZID=America/Toronto:20250526T180000
DTEND;TZID=America/Toronto:20250526T210000
DTSTAMP:20260425T230622
CREATED:20250318T144106Z
LAST-MODIFIED:20250318T144106Z
UID:7105-1748282400-1748293200@mapleleafacres.ca
SUMMARY:Euchre
DESCRIPTION:
URL:https://mapleleafacres.ca/event/euchre-27/2025-05-26/
CATEGORIES:Activities,Adult Hall
END:VEVENT
BEGIN:VEVENT
DTSTART;TZID=America/Toronto:20250529T120000
DTEND;TZID=America/Toronto:20250529T160000
DTSTAMP:20260425T230622
CREATED:20250318T144233Z
LAST-MODIFIED:20250318T144233Z
UID:7466-1748520000-1748534400@mapleleafacres.ca
SUMMARY:Card Bingo
DESCRIPTION:
URL:https://mapleleafacres.ca/event/card-bingo-63/2025-05-29/
CATEGORIES:Activities,Adult Hall
END:VEVENT
BEGIN:VEVENT
DTSTART;TZID=America/Toronto:20250530T200000
DTEND;TZID=America/Toronto:20250530T233000
DTSTAMP:20260425T230622
CREATED:20241031T142708Z
LAST-MODIFIED:20241031T142708Z
UID:6858-1748635200-1748647800@mapleleafacres.ca
SUMMARY:Music Trivia Night
DESCRIPTION:
URL:https://mapleleafacres.ca/event/music-trivia-night-3/
CATEGORIES:Activities,Adult Hall
END:VEVENT
BEGIN:VEVENT
DTSTART;TZID=America/Toronto:20250601T090000
DTEND;TZID=America/Toronto:20250601T110000
DTSTAMP:20260425T230622
CREATED:20250318T145134Z
LAST-MODIFIED:20250318T145134Z
UID:7203-1748768400-1748775600@mapleleafacres.ca
SUMMARY:Coffee Chat
DESCRIPTION:
URL:https://mapleleafacres.ca/event/coffee-chat-68/
CATEGORIES:Activities,Adult Hall
END:VEVENT
BEGIN:VEVENT
DTSTART;TZID=America/Toronto:20250602T180000
DTEND;TZID=America/Toronto:20250602T210000
DTSTAMP:20260425T230622
CREATED:20250318T144106Z
LAST-MODIFIED:20250318T144106Z
UID:7107-1748887200-1748898000@mapleleafacres.ca
SUMMARY:Euchre
DESCRIPTION:
URL:https://mapleleafacres.ca/event/euchre-27/2025-06-02/
CATEGORIES:Activities,Adult Hall
END:VEVENT
BEGIN:VEVENT
DTSTART;TZID=America/Toronto:20250605T120000
DTEND;TZID=America/Toronto:20250605T160000
DTSTAMP:20260425T230622
CREATED:20250318T144233Z
LAST-MODIFIED:20250318T144233Z
UID:7467-1749124800-1749139200@mapleleafacres.ca
SUMMARY:Card Bingo
DESCRIPTION:
URL:https://mapleleafacres.ca/event/card-bingo-63/2025-06-05/
CATEGORIES:Activities,Adult Hall
END:VEVENT
BEGIN:VEVENT
DTSTART;TZID=America/Toronto:20250609T180000
DTEND;TZID=America/Toronto:20250609T210000
DTSTAMP:20260425T230622
CREATED:20250318T144106Z
LAST-MODIFIED:20250318T144106Z
UID:7108-1749492000-1749502800@mapleleafacres.ca
SUMMARY:Euchre
DESCRIPTION:
URL:https://mapleleafacres.ca/event/euchre-27/2025-06-09/
CATEGORIES:Activities,Adult Hall
END:VEVENT
BEGIN:VEVENT
DTSTART;TZID=America/Toronto:20250612T120000
DTEND;TZID=America/Toronto:20250612T160000
DTSTAMP:20260425T230622
CREATED:20250318T144233Z
LAST-MODIFIED:20250318T144233Z
UID:7468-1749729600-1749744000@mapleleafacres.ca
SUMMARY:Card Bingo
DESCRIPTION:
URL:https://mapleleafacres.ca/event/card-bingo-63/2025-06-12/
CATEGORIES:Activities,Adult Hall
END:VEVENT
BEGIN:VEVENT
DTSTART;TZID=America/Toronto:20250615T090000
DTEND;TZID=America/Toronto:20250615T110000
DTSTAMP:20260425T230622
CREATED:20250318T145206Z
LAST-MODIFIED:20250318T145248Z
UID:7205-1749978000-1749985200@mapleleafacres.ca
SUMMARY:Coffee Chat
DESCRIPTION:
URL:https://mapleleafacres.ca/event/coffee-chat-69/
CATEGORIES:Activities,Adult Hall
END:VEVENT
BEGIN:VEVENT
DTSTART;TZID=America/Toronto:20250616T180000
DTEND;TZID=America/Toronto:20250616T210000
DTSTAMP:20260425T230622
CREATED:20250318T144106Z
LAST-MODIFIED:20250318T144106Z
UID:7109-1750096800-1750107600@mapleleafacres.ca
SUMMARY:Euchre
DESCRIPTION:
URL:https://mapleleafacres.ca/event/euchre-27/2025-06-16/
CATEGORIES:Activities,Adult Hall
END:VEVENT
BEGIN:VEVENT
DTSTART;TZID=America/Toronto:20250619T120000
DTEND;TZID=America/Toronto:20250619T160000
DTSTAMP:20260425T230622
CREATED:20250318T144233Z
LAST-MODIFIED:20250318T144233Z
UID:7469-1750334400-1750348800@mapleleafacres.ca
SUMMARY:Card Bingo
DESCRIPTION:
URL:https://mapleleafacres.ca/event/card-bingo-63/2025-06-19/
CATEGORIES:Activities,Adult Hall
END:VEVENT
BEGIN:VEVENT
DTSTART;TZID=America/Toronto:20250623T180000
DTEND;TZID=America/Toronto:20250623T210000
DTSTAMP:20260425T230622
CREATED:20250318T144106Z
LAST-MODIFIED:20250318T144106Z
UID:7110-1750701600-1750712400@mapleleafacres.ca
SUMMARY:Euchre
DESCRIPTION:
URL:https://mapleleafacres.ca/event/euchre-27/2025-06-23/
CATEGORIES:Activities,Adult Hall
END:VEVENT
BEGIN:VEVENT
DTSTART;TZID=America/Toronto:20250626T120000
DTEND;TZID=America/Toronto:20250626T160000
DTSTAMP:20260425T230622
CREATED:20250318T144233Z
LAST-MODIFIED:20250318T144233Z
UID:7470-1750939200-1750953600@mapleleafacres.ca
SUMMARY:Card Bingo
DESCRIPTION:
URL:https://mapleleafacres.ca/event/card-bingo-63/2025-06-26/
CATEGORIES:Activities,Adult Hall
END:VEVENT
END:VCALENDAR