BEGIN:VCALENDAR
VERSION:2.0
PRODID:-//Maple Leaf Acres - ECPv6.15.18//NONSGML v1.0//EN
CALSCALE:GREGORIAN
METHOD:PUBLISH
X-WR-CALNAME:Maple Leaf Acres
X-ORIGINAL-URL:https://mapleleafacres.ca
X-WR-CALDESC:Events for Maple Leaf Acres
REFRESH-INTERVAL;VALUE=DURATION:PT1H
X-Robots-Tag:noindex
X-PUBLISHED-TTL:PT1H
BEGIN:VTIMEZONE
TZID:America/Toronto
BEGIN:DAYLIGHT
TZOFFSETFROM:-0500
TZOFFSETTO:-0400
TZNAME:EDT
DTSTART:20240310T070000
END:DAYLIGHT
BEGIN:STANDARD
TZOFFSETFROM:-0400
TZOFFSETTO:-0500
TZNAME:EST
DTSTART:20241103T060000
END:STANDARD
BEGIN:DAYLIGHT
TZOFFSETFROM:-0500
TZOFFSETTO:-0400
TZNAME:EDT
DTSTART:20250309T070000
END:DAYLIGHT
BEGIN:STANDARD
TZOFFSETFROM:-0400
TZOFFSETTO:-0500
TZNAME:EST
DTSTART:20251102T060000
END:STANDARD
BEGIN:DAYLIGHT
TZOFFSETFROM:-0500
TZOFFSETTO:-0400
TZNAME:EDT
DTSTART:20260308T070000
END:DAYLIGHT
BEGIN:STANDARD
TZOFFSETFROM:-0400
TZOFFSETTO:-0500
TZNAME:EST
DTSTART:20261101T060000
END:STANDARD
END:VTIMEZONE
BEGIN:VEVENT
DTSTART;TZID=America/Toronto:20250721T180000
DTEND;TZID=America/Toronto:20250721T210000
DTSTAMP:20260425T194730
CREATED:20250318T144106Z
LAST-MODIFIED:20250318T144106Z
UID:7114-1753120800-1753131600@mapleleafacres.ca
SUMMARY:Euchre
DESCRIPTION:
URL:https://mapleleafacres.ca/event/euchre-27/2025-07-21/
CATEGORIES:Activities,Adult Hall
END:VEVENT
BEGIN:VEVENT
DTSTART;TZID=America/Toronto:20250724T120000
DTEND;TZID=America/Toronto:20250724T160000
DTSTAMP:20260425T194730
CREATED:20250318T144233Z
LAST-MODIFIED:20250318T144233Z
UID:7474-1753358400-1753372800@mapleleafacres.ca
SUMMARY:Card Bingo
DESCRIPTION:
URL:https://mapleleafacres.ca/event/card-bingo-63/2025-07-24/
CATEGORIES:Activities,Adult Hall
END:VEVENT
BEGIN:VEVENT
DTSTART;TZID=America/Toronto:20250726T100000
DTEND;TZID=America/Toronto:20250726T120000
DTSTAMP:20260425T194730
CREATED:20241101T175231Z
LAST-MODIFIED:20241101T175231Z
UID:6888-1753524000-1753531200@mapleleafacres.ca
SUMMARY:Sports & Rec Meeting
DESCRIPTION:
URL:https://mapleleafacres.ca/event/sports-rec-meeting-10/
CATEGORIES:Activities,Adult Hall
END:VEVENT
BEGIN:VEVENT
DTSTART;TZID=America/Toronto:20250727T140000
DTEND;TZID=America/Toronto:20250727T160000
DTSTAMP:20260425T194730
CREATED:20241101T175322Z
LAST-MODIFIED:20241101T175322Z
UID:6890-1753624800-1753632000@mapleleafacres.ca
SUMMARY:Ice Cream Sundae
DESCRIPTION:
URL:https://mapleleafacres.ca/event/ice-cream-sundae-8/
CATEGORIES:Activities,Adult Hall
END:VEVENT
BEGIN:VEVENT
DTSTART;TZID=America/Toronto:20250728T180000
DTEND;TZID=America/Toronto:20250728T210000
DTSTAMP:20260425T194730
CREATED:20250318T144106Z
LAST-MODIFIED:20250318T144106Z
UID:7115-1753725600-1753736400@mapleleafacres.ca
SUMMARY:Euchre
DESCRIPTION:
URL:https://mapleleafacres.ca/event/euchre-27/2025-07-28/
CATEGORIES:Activities,Adult Hall
END:VEVENT
BEGIN:VEVENT
DTSTART;TZID=America/Toronto:20250731T120000
DTEND;TZID=America/Toronto:20250731T160000
DTSTAMP:20260425T194730
CREATED:20250318T144233Z
LAST-MODIFIED:20250318T144233Z
UID:7475-1753963200-1753977600@mapleleafacres.ca
SUMMARY:Card Bingo
DESCRIPTION:
URL:https://mapleleafacres.ca/event/card-bingo-63/2025-07-31/
CATEGORIES:Activities,Adult Hall
END:VEVENT
BEGIN:VEVENT
DTSTART;TZID=America/Toronto:20250804T180000
DTEND;TZID=America/Toronto:20250804T210000
DTSTAMP:20260425T194730
CREATED:20250318T144106Z
LAST-MODIFIED:20250318T144106Z
UID:7116-1754330400-1754341200@mapleleafacres.ca
SUMMARY:Euchre
DESCRIPTION:
URL:https://mapleleafacres.ca/event/euchre-27/2025-08-04/
CATEGORIES:Activities,Adult Hall
END:VEVENT
BEGIN:VEVENT
DTSTART;TZID=America/Toronto:20250807T120000
DTEND;TZID=America/Toronto:20250807T160000
DTSTAMP:20260425T194730
CREATED:20250318T144233Z
LAST-MODIFIED:20250318T144233Z
UID:7476-1754568000-1754582400@mapleleafacres.ca
SUMMARY:Card Bingo
DESCRIPTION:
URL:https://mapleleafacres.ca/event/card-bingo-63/2025-08-07/
CATEGORIES:Activities,Adult Hall
END:VEVENT
BEGIN:VEVENT
DTSTART;VALUE=DATE:20250809
DTEND;VALUE=DATE:20250810
DTSTAMP:20260425T194730
CREATED:20250318T145533Z
LAST-MODIFIED:20250318T145533Z
UID:7209-1754697600-1754783999@mapleleafacres.ca
SUMMARY:Private Function
DESCRIPTION:
URL:https://mapleleafacres.ca/event/private-function-12/
CATEGORIES:Activities,Adult Hall
END:VEVENT
BEGIN:VEVENT
DTSTART;TZID=America/Toronto:20250811T180000
DTEND;TZID=America/Toronto:20250811T210000
DTSTAMP:20260425T194730
CREATED:20250318T144106Z
LAST-MODIFIED:20250318T144106Z
UID:7117-1754935200-1754946000@mapleleafacres.ca
SUMMARY:Euchre
DESCRIPTION:
URL:https://mapleleafacres.ca/event/euchre-27/2025-08-11/
CATEGORIES:Activities,Adult Hall
END:VEVENT
BEGIN:VEVENT
DTSTART;TZID=America/Toronto:20250814T120000
DTEND;TZID=America/Toronto:20250814T160000
DTSTAMP:20260425T194730
CREATED:20250318T144233Z
LAST-MODIFIED:20250318T144233Z
UID:7477-1755172800-1755187200@mapleleafacres.ca
SUMMARY:Card Bingo
DESCRIPTION:
URL:https://mapleleafacres.ca/event/card-bingo-63/2025-08-14/
CATEGORIES:Activities,Adult Hall
END:VEVENT
BEGIN:VEVENT
DTSTART;TZID=America/Toronto:20250816T200000
DTEND;TZID=America/Toronto:20250816T233000
DTSTAMP:20260425T194730
CREATED:20241105T184512Z
LAST-MODIFIED:20241105T184512Z
UID:6903-1755374400-1755387000@mapleleafacres.ca
SUMMARY:Music Trivia
DESCRIPTION:
URL:https://mapleleafacres.ca/event/music-trivia-2/
CATEGORIES:Activities,Adult Hall
END:VEVENT
BEGIN:VEVENT
DTSTART;TZID=America/Toronto:20250818T180000
DTEND;TZID=America/Toronto:20250818T210000
DTSTAMP:20260425T194730
CREATED:20250318T144106Z
LAST-MODIFIED:20250318T144106Z
UID:7118-1755540000-1755550800@mapleleafacres.ca
SUMMARY:Euchre
DESCRIPTION:
URL:https://mapleleafacres.ca/event/euchre-27/2025-08-18/
CATEGORIES:Activities,Adult Hall
END:VEVENT
BEGIN:VEVENT
DTSTART;TZID=America/Toronto:20250821T120000
DTEND;TZID=America/Toronto:20250821T160000
DTSTAMP:20260425T194730
CREATED:20250318T144233Z
LAST-MODIFIED:20250318T144233Z
UID:7478-1755777600-1755792000@mapleleafacres.ca
SUMMARY:Card Bingo
DESCRIPTION:
URL:https://mapleleafacres.ca/event/card-bingo-63/2025-08-21/
CATEGORIES:Activities,Adult Hall
END:VEVENT
BEGIN:VEVENT
DTSTART;TZID=America/Toronto:20250822T140000
DTEND;TZID=America/Toronto:20250822T230000
DTSTAMP:20260425T194730
CREATED:20250318T145619Z
LAST-MODIFIED:20250318T145619Z
UID:7211-1755871200-1755903600@mapleleafacres.ca
SUMMARY:Private Function
DESCRIPTION:
URL:https://mapleleafacres.ca/event/private-function-13/
CATEGORIES:Activities,Adult Hall
END:VEVENT
BEGIN:VEVENT
DTSTART;TZID=America/Toronto:20250823T090000
DTEND;TZID=America/Toronto:20250823T130000
DTSTAMP:20260425T194730
CREATED:20250318T145654Z
LAST-MODIFIED:20250318T145654Z
UID:7213-1755939600-1755954000@mapleleafacres.ca
SUMMARY:Private Function
DESCRIPTION:
URL:https://mapleleafacres.ca/event/private-function-14/
CATEGORIES:Activities,Adult Hall
END:VEVENT
BEGIN:VEVENT
DTSTART;TZID=America/Toronto:20250823T140000
DTEND;TZID=America/Toronto:20250823T230000
DTSTAMP:20260425T194730
CREATED:20250318T145723Z
LAST-MODIFIED:20250318T145723Z
UID:7215-1755957600-1755990000@mapleleafacres.ca
SUMMARY:Private Function
DESCRIPTION:
URL:https://mapleleafacres.ca/event/private-function-15/
CATEGORIES:Activities,Adult Hall
END:VEVENT
BEGIN:VEVENT
DTSTART;TZID=America/Toronto:20250825T180000
DTEND;TZID=America/Toronto:20250825T210000
DTSTAMP:20260425T194730
CREATED:20250318T144106Z
LAST-MODIFIED:20250318T144106Z
UID:7119-1756144800-1756155600@mapleleafacres.ca
SUMMARY:Euchre
DESCRIPTION:
URL:https://mapleleafacres.ca/event/euchre-27/2025-08-25/
CATEGORIES:Activities,Adult Hall
END:VEVENT
BEGIN:VEVENT
DTSTART;TZID=America/Toronto:20250828T120000
DTEND;TZID=America/Toronto:20250828T160000
DTSTAMP:20260425T194730
CREATED:20250318T144233Z
LAST-MODIFIED:20250318T144233Z
UID:7479-1756382400-1756396800@mapleleafacres.ca
SUMMARY:Card Bingo
DESCRIPTION:
URL:https://mapleleafacres.ca/event/card-bingo-63/2025-08-28/
CATEGORIES:Activities,Adult Hall
END:VEVENT
BEGIN:VEVENT
DTSTART;TZID=America/Toronto:20250831T130000
DTEND;TZID=America/Toronto:20250831T150000
DTSTAMP:20260425T194730
CREATED:20241105T185315Z
LAST-MODIFIED:20241105T185315Z
UID:6911-1756645200-1756652400@mapleleafacres.ca
SUMMARY:Kids Craft
DESCRIPTION:
URL:https://mapleleafacres.ca/event/kids-craft-8/
CATEGORIES:Activities,Adult Hall
END:VEVENT
BEGIN:VEVENT
DTSTART;TZID=America/Toronto:20250901T180000
DTEND;TZID=America/Toronto:20250901T210000
DTSTAMP:20260425T194730
CREATED:20250318T144106Z
LAST-MODIFIED:20250318T144106Z
UID:7120-1756749600-1756760400@mapleleafacres.ca
SUMMARY:Euchre
DESCRIPTION:
URL:https://mapleleafacres.ca/event/euchre-27/2025-09-01/
CATEGORIES:Activities,Adult Hall
END:VEVENT
BEGIN:VEVENT
DTSTART;TZID=America/Toronto:20250904T120000
DTEND;TZID=America/Toronto:20250904T160000
DTSTAMP:20260425T194730
CREATED:20250318T144233Z
LAST-MODIFIED:20250318T144233Z
UID:7480-1756987200-1757001600@mapleleafacres.ca
SUMMARY:Card Bingo
DESCRIPTION:
URL:https://mapleleafacres.ca/event/card-bingo-63/2025-09-04/
CATEGORIES:Activities,Adult Hall
END:VEVENT
BEGIN:VEVENT
DTSTART;TZID=America/Toronto:20250908T180000
DTEND;TZID=America/Toronto:20250908T210000
DTSTAMP:20260425T194730
CREATED:20250318T144106Z
LAST-MODIFIED:20250318T144106Z
UID:7121-1757354400-1757365200@mapleleafacres.ca
SUMMARY:Euchre
DESCRIPTION:
URL:https://mapleleafacres.ca/event/euchre-27/2025-09-08/
CATEGORIES:Activities,Adult Hall
END:VEVENT
BEGIN:VEVENT
DTSTART;TZID=America/Toronto:20250911T120000
DTEND;TZID=America/Toronto:20250911T160000
DTSTAMP:20260425T194730
CREATED:20250318T144233Z
LAST-MODIFIED:20250318T144233Z
UID:7481-1757592000-1757606400@mapleleafacres.ca
SUMMARY:Card Bingo
DESCRIPTION:
URL:https://mapleleafacres.ca/event/card-bingo-63/2025-09-11/
CATEGORIES:Activities,Adult Hall
END:VEVENT
BEGIN:VEVENT
DTSTART;TZID=America/Toronto:20250915T180000
DTEND;TZID=America/Toronto:20250915T210000
DTSTAMP:20260425T194730
CREATED:20250318T144106Z
LAST-MODIFIED:20250318T144106Z
UID:7122-1757959200-1757970000@mapleleafacres.ca
SUMMARY:Euchre
DESCRIPTION:
URL:https://mapleleafacres.ca/event/euchre-27/2025-09-15/
CATEGORIES:Activities,Adult Hall
END:VEVENT
BEGIN:VEVENT
DTSTART;TZID=America/Toronto:20250918T120000
DTEND;TZID=America/Toronto:20250918T160000
DTSTAMP:20260425T194730
CREATED:20250318T144233Z
LAST-MODIFIED:20250318T144233Z
UID:7482-1758196800-1758211200@mapleleafacres.ca
SUMMARY:Card Bingo
DESCRIPTION:
URL:https://mapleleafacres.ca/event/card-bingo-63/2025-09-18/
CATEGORIES:Activities,Adult Hall
END:VEVENT
BEGIN:VEVENT
DTSTART;TZID=America/Toronto:20250920T100000
DTEND;TZID=America/Toronto:20250920T120000
DTSTAMP:20260425T194730
CREATED:20241105T193345Z
LAST-MODIFIED:20241105T193345Z
UID:6917-1758362400-1758369600@mapleleafacres.ca
SUMMARY:Sports & Rec Meeting
DESCRIPTION:
URL:https://mapleleafacres.ca/event/sports-rec-meeting-11/
CATEGORIES:Activities,Adult Hall
END:VEVENT
BEGIN:VEVENT
DTSTART;TZID=America/Toronto:20250921T000000
DTEND;TZID=America/Toronto:20250921T170000
DTSTAMP:20260425T194730
CREATED:20250915T180645Z
LAST-MODIFIED:20250915T180645Z
UID:7867-1758412800-1758474000@mapleleafacres.ca
SUMMARY:Private Party
DESCRIPTION:
URL:https://mapleleafacres.ca/event/private-party-118/
CATEGORIES:Activities,Adult Hall
END:VEVENT
BEGIN:VEVENT
DTSTART;TZID=America/Toronto:20250921T090000
DTEND;TZID=America/Toronto:20250921T230000
DTSTAMP:20260425T194730
CREATED:20250915T180553Z
LAST-MODIFIED:20250915T180553Z
UID:7865-1758445200-1758495600@mapleleafacres.ca
SUMMARY:Coffee Chat
DESCRIPTION:
URL:https://mapleleafacres.ca/event/coffee-chat-71/
CATEGORIES:Activities,Adult Hall
END:VEVENT
BEGIN:VEVENT
DTSTART;TZID=America/Toronto:20250922T180000
DTEND;TZID=America/Toronto:20250922T210000
DTSTAMP:20260425T194730
CREATED:20250318T144106Z
LAST-MODIFIED:20250318T144106Z
UID:7123-1758564000-1758574800@mapleleafacres.ca
SUMMARY:Euchre
DESCRIPTION:
URL:https://mapleleafacres.ca/event/euchre-27/2025-09-22/
CATEGORIES:Activities,Adult Hall
END:VEVENT
END:VCALENDAR