BEGIN:VCALENDAR
VERSION:2.0
PRODID:-//Maple Leaf Acres - ECPv6.15.18//NONSGML v1.0//EN
CALSCALE:GREGORIAN
METHOD:PUBLISH
X-WR-CALNAME:Maple Leaf Acres
X-ORIGINAL-URL:https://mapleleafacres.ca
X-WR-CALDESC:Events for Maple Leaf Acres
REFRESH-INTERVAL;VALUE=DURATION:PT1H
X-Robots-Tag:noindex
X-PUBLISHED-TTL:PT1H
BEGIN:VTIMEZONE
TZID:America/Toronto
BEGIN:DAYLIGHT
TZOFFSETFROM:-0500
TZOFFSETTO:-0400
TZNAME:EDT
DTSTART:20250309T070000
END:DAYLIGHT
BEGIN:STANDARD
TZOFFSETFROM:-0400
TZOFFSETTO:-0500
TZNAME:EST
DTSTART:20251102T060000
END:STANDARD
BEGIN:DAYLIGHT
TZOFFSETFROM:-0500
TZOFFSETTO:-0400
TZNAME:EDT
DTSTART:20260308T070000
END:DAYLIGHT
BEGIN:STANDARD
TZOFFSETFROM:-0400
TZOFFSETTO:-0500
TZNAME:EST
DTSTART:20261101T060000
END:STANDARD
BEGIN:DAYLIGHT
TZOFFSETFROM:-0500
TZOFFSETTO:-0400
TZNAME:EDT
DTSTART:20270314T070000
END:DAYLIGHT
BEGIN:STANDARD
TZOFFSETFROM:-0400
TZOFFSETTO:-0500
TZNAME:EST
DTSTART:20271107T060000
END:STANDARD
END:VTIMEZONE
BEGIN:VEVENT
DTSTART;TZID=America/Toronto:20260305T130000
DTEND;TZID=America/Toronto:20260305T160000
DTSTAMP:20260423T012322
CREATED:20250922T153259Z
LAST-MODIFIED:20250922T153259Z
UID:7972-1772715600-1772726400@mapleleafacres.ca
SUMMARY:Card Bingo
DESCRIPTION:
URL:https://mapleleafacres.ca/event/card-bingo-64/2026-03-05/
CATEGORIES:Activities,Adult Hall
END:VEVENT
BEGIN:VEVENT
DTSTART;TZID=America/Toronto:20260308T080000
DTEND;TZID=America/Toronto:20260308T110000
DTSTAMP:20260423T012322
CREATED:20251211T161942Z
LAST-MODIFIED:20251211T161942Z
UID:8377-1772956800-1772967600@mapleleafacres.ca
SUMMARY:Coffee Chat
DESCRIPTION:
URL:https://mapleleafacres.ca/event/coffee-chat-83/
CATEGORIES:Activities,Adult Hall
END:VEVENT
BEGIN:VEVENT
DTSTART;TZID=America/Toronto:20260309T180000
DTEND;TZID=America/Toronto:20260309T213000
DTSTAMP:20260423T012322
CREATED:20260128T151826Z
LAST-MODIFIED:20260128T151826Z
UID:8559-1773079200-1773091800@mapleleafacres.ca
SUMMARY:Euchre
DESCRIPTION:
URL:https://mapleleafacres.ca/event/euchre-28/2026-03-09/
CATEGORIES:Activities,Adult Hall
END:VEVENT
BEGIN:VEVENT
DTSTART;TZID=America/Toronto:20260312T130000
DTEND;TZID=America/Toronto:20260312T160000
DTSTAMP:20260423T012322
CREATED:20250922T153259Z
LAST-MODIFIED:20250922T153259Z
UID:7973-1773320400-1773331200@mapleleafacres.ca
SUMMARY:Card Bingo
DESCRIPTION:
URL:https://mapleleafacres.ca/event/card-bingo-64/2026-03-12/
CATEGORIES:Activities,Adult Hall
END:VEVENT
BEGIN:VEVENT
DTSTART;TZID=America/Toronto:20260316T180000
DTEND;TZID=America/Toronto:20260316T213000
DTSTAMP:20260423T012322
CREATED:20260128T151826Z
LAST-MODIFIED:20260128T151826Z
UID:8560-1773684000-1773696600@mapleleafacres.ca
SUMMARY:Euchre
DESCRIPTION:
URL:https://mapleleafacres.ca/event/euchre-28/2026-03-16/
CATEGORIES:Activities,Adult Hall
END:VEVENT
BEGIN:VEVENT
DTSTART;TZID=America/Toronto:20260319T130000
DTEND;TZID=America/Toronto:20260319T160000
DTSTAMP:20260423T012322
CREATED:20250922T153259Z
LAST-MODIFIED:20250922T153259Z
UID:7974-1773925200-1773936000@mapleleafacres.ca
SUMMARY:Card Bingo
DESCRIPTION:
URL:https://mapleleafacres.ca/event/card-bingo-64/2026-03-19/
CATEGORIES:Activities,Adult Hall
END:VEVENT
BEGIN:VEVENT
DTSTART;TZID=America/Toronto:20260322T080000
DTEND;TZID=America/Toronto:20260322T110000
DTSTAMP:20260423T012322
CREATED:20251211T162010Z
LAST-MODIFIED:20251211T162010Z
UID:8379-1774166400-1774177200@mapleleafacres.ca
SUMMARY:Coffee Chat
DESCRIPTION:
URL:https://mapleleafacres.ca/event/coffee-chat-84/
CATEGORIES:Activities,Adult Hall
END:VEVENT
BEGIN:VEVENT
DTSTART;TZID=America/Toronto:20260323T180000
DTEND;TZID=America/Toronto:20260323T213000
DTSTAMP:20260423T012322
CREATED:20260128T151826Z
LAST-MODIFIED:20260128T151826Z
UID:8561-1774288800-1774301400@mapleleafacres.ca
SUMMARY:Euchre
DESCRIPTION:
URL:https://mapleleafacres.ca/event/euchre-28/2026-03-23/
CATEGORIES:Activities,Adult Hall
END:VEVENT
BEGIN:VEVENT
DTSTART;TZID=America/Toronto:20260326T130000
DTEND;TZID=America/Toronto:20260326T160000
DTSTAMP:20260423T012322
CREATED:20250922T153259Z
LAST-MODIFIED:20250922T153259Z
UID:7976-1774530000-1774540800@mapleleafacres.ca
SUMMARY:Card Bingo
DESCRIPTION:
URL:https://mapleleafacres.ca/event/card-bingo-64/2026-03-26/
CATEGORIES:Activities,Adult Hall
END:VEVENT
BEGIN:VEVENT
DTSTART;TZID=America/Toronto:20260330T180000
DTEND;TZID=America/Toronto:20260330T213000
DTSTAMP:20260423T012322
CREATED:20260128T151826Z
LAST-MODIFIED:20260128T151826Z
UID:8562-1774893600-1774906200@mapleleafacres.ca
SUMMARY:Euchre
DESCRIPTION:
URL:https://mapleleafacres.ca/event/euchre-28/2026-03-30/
CATEGORIES:Activities,Adult Hall
END:VEVENT
BEGIN:VEVENT
DTSTART;TZID=America/Toronto:20260402T130000
DTEND;TZID=America/Toronto:20260402T160000
DTSTAMP:20260423T012322
CREATED:20250922T153259Z
LAST-MODIFIED:20250922T153259Z
UID:7977-1775134800-1775145600@mapleleafacres.ca
SUMMARY:Card Bingo
DESCRIPTION:
URL:https://mapleleafacres.ca/event/card-bingo-64/2026-04-02/
CATEGORIES:Activities,Adult Hall
END:VEVENT
BEGIN:VEVENT
DTSTART;TZID=America/Toronto:20260404T120000
DTEND;TZID=America/Toronto:20260404T170000
DTSTAMP:20260423T012322
CREATED:20260327T150505Z
LAST-MODIFIED:20260327T150505Z
UID:8739-1775304000-1775322000@mapleleafacres.ca
SUMMARY:Celebration of Life for Patrick Duffy
DESCRIPTION:
URL:https://mapleleafacres.ca/event/celebration-of-life-for-patrick-duffy/
CATEGORIES:Activities,Adult Hall
END:VEVENT
BEGIN:VEVENT
DTSTART;TZID=America/Toronto:20260405T080000
DTEND;TZID=America/Toronto:20260405T110000
DTSTAMP:20260423T012322
CREATED:20251211T162039Z
LAST-MODIFIED:20251211T162039Z
UID:8381-1775376000-1775386800@mapleleafacres.ca
SUMMARY:Coffee Chat
DESCRIPTION:
URL:https://mapleleafacres.ca/event/coffee-chat-85/
CATEGORIES:Activities,Adult Hall
END:VEVENT
BEGIN:VEVENT
DTSTART;TZID=America/Toronto:20260406T180000
DTEND;TZID=America/Toronto:20260406T213000
DTSTAMP:20260423T012322
CREATED:20260128T151826Z
LAST-MODIFIED:20260128T151826Z
UID:8563-1775498400-1775511000@mapleleafacres.ca
SUMMARY:Euchre
DESCRIPTION:
URL:https://mapleleafacres.ca/event/euchre-28/2026-04-06/
CATEGORIES:Activities,Adult Hall
END:VEVENT
BEGIN:VEVENT
DTSTART;TZID=America/Toronto:20260409T130000
DTEND;TZID=America/Toronto:20260409T160000
DTSTAMP:20260423T012322
CREATED:20250922T153259Z
LAST-MODIFIED:20250922T153259Z
UID:7978-1775739600-1775750400@mapleleafacres.ca
SUMMARY:Card Bingo
DESCRIPTION:
URL:https://mapleleafacres.ca/event/card-bingo-64/2026-04-09/
CATEGORIES:Activities,Adult Hall
END:VEVENT
BEGIN:VEVENT
DTSTART;VALUE=DATE:20260411
DTEND;VALUE=DATE:20260412
DTSTAMP:20260423T012322
CREATED:20251210T160545Z
LAST-MODIFIED:20251210T160545Z
UID:8367-1775865600-1775951999@mapleleafacres.ca
SUMMARY:Private Party
DESCRIPTION:
URL:https://mapleleafacres.ca/event/private-party-138/
CATEGORIES:Activities,Adult Hall
END:VEVENT
BEGIN:VEVENT
DTSTART;TZID=America/Toronto:20260413T180000
DTEND;TZID=America/Toronto:20260413T213000
DTSTAMP:20260423T012322
CREATED:20260128T151826Z
LAST-MODIFIED:20260128T151826Z
UID:8564-1776103200-1776115800@mapleleafacres.ca
SUMMARY:Euchre
DESCRIPTION:
URL:https://mapleleafacres.ca/event/euchre-28/2026-04-13/
CATEGORIES:Activities,Adult Hall
END:VEVENT
BEGIN:VEVENT
DTSTART;TZID=America/Toronto:20260416T130000
DTEND;TZID=America/Toronto:20260416T160000
DTSTAMP:20260423T012322
CREATED:20250922T153259Z
LAST-MODIFIED:20250922T153259Z
UID:7979-1776344400-1776355200@mapleleafacres.ca
SUMMARY:Card Bingo
DESCRIPTION:
URL:https://mapleleafacres.ca/event/card-bingo-64/2026-04-16/
CATEGORIES:Activities,Adult Hall
END:VEVENT
BEGIN:VEVENT
DTSTART;TZID=America/Toronto:20260419T080000
DTEND;TZID=America/Toronto:20260419T110000
DTSTAMP:20260423T012322
CREATED:20251211T162108Z
LAST-MODIFIED:20251211T162108Z
UID:8383-1776585600-1776596400@mapleleafacres.ca
SUMMARY:Coffee Chat
DESCRIPTION:
URL:https://mapleleafacres.ca/event/coffee-chat-86/
CATEGORIES:Activities,Adult Hall
END:VEVENT
BEGIN:VEVENT
DTSTART;TZID=America/Toronto:20260420T180000
DTEND;TZID=America/Toronto:20260420T213000
DTSTAMP:20260423T012322
CREATED:20260128T151826Z
LAST-MODIFIED:20260128T151826Z
UID:8565-1776708000-1776720600@mapleleafacres.ca
SUMMARY:Euchre
DESCRIPTION:
URL:https://mapleleafacres.ca/event/euchre-28/2026-04-20/
CATEGORIES:Activities,Adult Hall
END:VEVENT
BEGIN:VEVENT
DTSTART;TZID=America/Toronto:20260423T130000
DTEND;TZID=America/Toronto:20260423T160000
DTSTAMP:20260423T012322
CREATED:20250922T153259Z
LAST-MODIFIED:20250922T153259Z
UID:7980-1776949200-1776960000@mapleleafacres.ca
SUMMARY:Card Bingo
DESCRIPTION:
URL:https://mapleleafacres.ca/event/card-bingo-64/2026-04-23/
CATEGORIES:Activities,Adult Hall
END:VEVENT
BEGIN:VEVENT
DTSTART;VALUE=DATE:20260425
DTEND;VALUE=DATE:20260426
DTSTAMP:20260423T012322
CREATED:20260327T150542Z
LAST-MODIFIED:20260327T150542Z
UID:8741-1777075200-1777161599@mapleleafacres.ca
SUMMARY:Private Party
DESCRIPTION:
URL:https://mapleleafacres.ca/event/private-party-147/
CATEGORIES:Activities,Adult Hall
END:VEVENT
BEGIN:VEVENT
DTSTART;TZID=America/Toronto:20260427T180000
DTEND;TZID=America/Toronto:20260427T213000
DTSTAMP:20260423T012322
CREATED:20260128T151826Z
LAST-MODIFIED:20260128T151826Z
UID:8566-1777312800-1777325400@mapleleafacres.ca
SUMMARY:Euchre
DESCRIPTION:
URL:https://mapleleafacres.ca/event/euchre-28/2026-04-27/
CATEGORIES:Activities,Adult Hall
END:VEVENT
BEGIN:VEVENT
DTSTART;TZID=America/Toronto:20260430T130000
DTEND;TZID=America/Toronto:20260430T160000
DTSTAMP:20260423T012322
CREATED:20250922T153259Z
LAST-MODIFIED:20250922T153259Z
UID:7981-1777554000-1777564800@mapleleafacres.ca
SUMMARY:Card Bingo
DESCRIPTION:
URL:https://mapleleafacres.ca/event/card-bingo-64/2026-04-30/
CATEGORIES:Activities,Adult Hall
END:VEVENT
BEGIN:VEVENT
DTSTART;TZID=America/Toronto:20260503T080000
DTEND;TZID=America/Toronto:20260503T110000
DTSTAMP:20260423T012322
CREATED:20251211T162450Z
LAST-MODIFIED:20251211T162450Z
UID:8385-1777795200-1777806000@mapleleafacres.ca
SUMMARY:Coffee Chat
DESCRIPTION:
URL:https://mapleleafacres.ca/event/coffee-chat-87/
CATEGORIES:Activities,Adult Hall
END:VEVENT
BEGIN:VEVENT
DTSTART;TZID=America/Toronto:20260504T180000
DTEND;TZID=America/Toronto:20260504T213000
DTSTAMP:20260423T012322
CREATED:20260128T151826Z
LAST-MODIFIED:20260128T151826Z
UID:8567-1777917600-1777930200@mapleleafacres.ca
SUMMARY:Euchre
DESCRIPTION:
URL:https://mapleleafacres.ca/event/euchre-28/2026-05-04/
CATEGORIES:Activities,Adult Hall
END:VEVENT
BEGIN:VEVENT
DTSTART;TZID=America/Toronto:20260507T130000
DTEND;TZID=America/Toronto:20260507T160000
DTSTAMP:20260423T012322
CREATED:20250922T153259Z
LAST-MODIFIED:20250922T153259Z
UID:7982-1778158800-1778169600@mapleleafacres.ca
SUMMARY:Card Bingo
DESCRIPTION:
URL:https://mapleleafacres.ca/event/card-bingo-64/2026-05-07/
CATEGORIES:Activities,Adult Hall
END:VEVENT
BEGIN:VEVENT
DTSTART;TZID=America/Toronto:20260511T180000
DTEND;TZID=America/Toronto:20260511T213000
DTSTAMP:20260423T012322
CREATED:20260128T151826Z
LAST-MODIFIED:20260128T151826Z
UID:8568-1778522400-1778535000@mapleleafacres.ca
SUMMARY:Euchre
DESCRIPTION:
URL:https://mapleleafacres.ca/event/euchre-28/2026-05-11/
CATEGORIES:Activities,Adult Hall
END:VEVENT
BEGIN:VEVENT
DTSTART;TZID=America/Toronto:20260514T130000
DTEND;TZID=America/Toronto:20260514T160000
DTSTAMP:20260423T012322
CREATED:20250922T153259Z
LAST-MODIFIED:20250922T153259Z
UID:7983-1778763600-1778774400@mapleleafacres.ca
SUMMARY:Card Bingo
DESCRIPTION:
URL:https://mapleleafacres.ca/event/card-bingo-64/2026-05-14/
CATEGORIES:Activities,Adult Hall
END:VEVENT
BEGIN:VEVENT
DTSTART;TZID=America/Toronto:20260517T080000
DTEND;TZID=America/Toronto:20260517T110000
DTSTAMP:20260423T012322
CREATED:20251211T162512Z
LAST-MODIFIED:20251211T162512Z
UID:8387-1779004800-1779015600@mapleleafacres.ca
SUMMARY:Coffee Chat
DESCRIPTION:
URL:https://mapleleafacres.ca/event/coffee-chat-88/
CATEGORIES:Activities,Adult Hall
END:VEVENT
END:VCALENDAR