BEGIN:VCALENDAR
VERSION:2.0
PRODID:-//Maple Leaf Acres - ECPv6.15.18//NONSGML v1.0//EN
CALSCALE:GREGORIAN
METHOD:PUBLISH
X-WR-CALNAME:Maple Leaf Acres
X-ORIGINAL-URL:https://mapleleafacres.ca
X-WR-CALDESC:Events for Maple Leaf Acres
REFRESH-INTERVAL;VALUE=DURATION:PT1H
X-Robots-Tag:noindex
X-PUBLISHED-TTL:PT1H
BEGIN:VTIMEZONE
TZID:America/Toronto
BEGIN:DAYLIGHT
TZOFFSETFROM:-0500
TZOFFSETTO:-0400
TZNAME:EDT
DTSTART:20250309T070000
END:DAYLIGHT
BEGIN:STANDARD
TZOFFSETFROM:-0400
TZOFFSETTO:-0500
TZNAME:EST
DTSTART:20251102T060000
END:STANDARD
BEGIN:DAYLIGHT
TZOFFSETFROM:-0500
TZOFFSETTO:-0400
TZNAME:EDT
DTSTART:20260308T070000
END:DAYLIGHT
BEGIN:STANDARD
TZOFFSETFROM:-0400
TZOFFSETTO:-0500
TZNAME:EST
DTSTART:20261101T060000
END:STANDARD
BEGIN:DAYLIGHT
TZOFFSETFROM:-0500
TZOFFSETTO:-0400
TZNAME:EDT
DTSTART:20270314T070000
END:DAYLIGHT
BEGIN:STANDARD
TZOFFSETFROM:-0400
TZOFFSETTO:-0500
TZNAME:EST
DTSTART:20271107T060000
END:STANDARD
END:VTIMEZONE
BEGIN:VEVENT
DTSTART;TZID=America/Toronto:20260529T200000
DTEND;TZID=America/Toronto:20260529T220000
DTSTAMP:20260422T180208
CREATED:20251209T155949Z
LAST-MODIFIED:20251209T155949Z
UID:8244-1780084800-1780092000@mapleleafacres.ca
SUMMARY:Music Trivia
DESCRIPTION:
URL:https://mapleleafacres.ca/event/music-trivia-3/
CATEGORIES:Activities,Adult Hall
END:VEVENT
BEGIN:VEVENT
DTSTART;VALUE=DATE:20260530
DTEND;VALUE=DATE:20260531
DTSTAMP:20260422T180208
CREATED:20260327T150718Z
LAST-MODIFIED:20260327T150718Z
UID:8745-1780099200-1780185599@mapleleafacres.ca
SUMMARY:Private Party
DESCRIPTION:
URL:https://mapleleafacres.ca/event/private-party-149/
CATEGORIES:Activities,Adult Hall
END:VEVENT
BEGIN:VEVENT
DTSTART;TZID=America/Toronto:20260531T080000
DTEND;TZID=America/Toronto:20260531T110000
DTSTAMP:20260422T180208
CREATED:20251211T162543Z
LAST-MODIFIED:20251211T162543Z
UID:8389-1780214400-1780225200@mapleleafacres.ca
SUMMARY:Coffee Chat
DESCRIPTION:
URL:https://mapleleafacres.ca/event/coffee-chat-89/
CATEGORIES:Activities,Adult Hall
END:VEVENT
BEGIN:VEVENT
DTSTART;TZID=America/Toronto:20260531T140000
DTEND;TZID=America/Toronto:20260531T160000
DTSTAMP:20260422T180208
CREATED:20251209T160037Z
LAST-MODIFIED:20251209T160037Z
UID:8246-1780236000-1780243200@mapleleafacres.ca
SUMMARY:Ice Cream Sundae
DESCRIPTION:
URL:https://mapleleafacres.ca/event/ice-cream-sundae-10/
CATEGORIES:Activities,Adult Hall
END:VEVENT
BEGIN:VEVENT
DTSTART;TZID=America/Toronto:20260601T180000
DTEND;TZID=America/Toronto:20260601T213000
DTSTAMP:20260422T180208
CREATED:20260128T151826Z
LAST-MODIFIED:20260128T151826Z
UID:8571-1780336800-1780349400@mapleleafacres.ca
SUMMARY:Euchre
DESCRIPTION:
URL:https://mapleleafacres.ca/event/euchre-28/2026-06-01/
CATEGORIES:Activities,Adult Hall
END:VEVENT
BEGIN:VEVENT
DTSTART;TZID=America/Toronto:20260604T130000
DTEND;TZID=America/Toronto:20260604T160000
DTSTAMP:20260422T180208
CREATED:20250922T153259Z
LAST-MODIFIED:20250922T153259Z
UID:7986-1780578000-1780588800@mapleleafacres.ca
SUMMARY:Card Bingo
DESCRIPTION:
URL:https://mapleleafacres.ca/event/card-bingo-64/2026-06-04/
CATEGORIES:Activities,Adult Hall
END:VEVENT
BEGIN:VEVENT
DTSTART;TZID=America/Toronto:20260608T180000
DTEND;TZID=America/Toronto:20260608T213000
DTSTAMP:20260422T180208
CREATED:20260128T151826Z
LAST-MODIFIED:20260128T151826Z
UID:8572-1780941600-1780954200@mapleleafacres.ca
SUMMARY:Euchre
DESCRIPTION:
URL:https://mapleleafacres.ca/event/euchre-28/2026-06-08/
CATEGORIES:Activities,Adult Hall
END:VEVENT
BEGIN:VEVENT
DTSTART;TZID=America/Toronto:20260611T130000
DTEND;TZID=America/Toronto:20260611T160000
DTSTAMP:20260422T180208
CREATED:20250922T153259Z
LAST-MODIFIED:20250922T153259Z
UID:7987-1781182800-1781193600@mapleleafacres.ca
SUMMARY:Card Bingo
DESCRIPTION:
URL:https://mapleleafacres.ca/event/card-bingo-64/2026-06-11/
CATEGORIES:Activities,Adult Hall
END:VEVENT
BEGIN:VEVENT
DTSTART;TZID=America/Toronto:20260613T080000
DTEND;TZID=America/Toronto:20260613T170000
DTSTAMP:20260422T180208
CREATED:20260227T212019Z
LAST-MODIFIED:20260227T212019Z
UID:8613-1781337600-1781370000@mapleleafacres.ca
SUMMARY:Private party
DESCRIPTION:
URL:https://mapleleafacres.ca/event/private-party-144/
CATEGORIES:Activities,Adult Hall
END:VEVENT
BEGIN:VEVENT
DTSTART;TZID=America/Toronto:20260614T080000
DTEND;TZID=America/Toronto:20260614T110000
DTSTAMP:20260422T180208
CREATED:20251211T162608Z
LAST-MODIFIED:20251211T162608Z
UID:8391-1781424000-1781434800@mapleleafacres.ca
SUMMARY:Coffee Chat
DESCRIPTION:
URL:https://mapleleafacres.ca/event/coffee-chat-90/
CATEGORIES:Activities,Adult Hall
END:VEVENT
BEGIN:VEVENT
DTSTART;TZID=America/Toronto:20260614T080000
DTEND;TZID=America/Toronto:20260614T170000
DTSTAMP:20260422T180208
CREATED:20260227T212241Z
LAST-MODIFIED:20260227T212241Z
UID:8615-1781424000-1781456400@mapleleafacres.ca
SUMMARY:McInnes party
DESCRIPTION:
URL:https://mapleleafacres.ca/event/mcinnes-party/
CATEGORIES:Activities,Adult Hall
END:VEVENT
BEGIN:VEVENT
DTSTART;TZID=America/Toronto:20260615T180000
DTEND;TZID=America/Toronto:20260615T213000
DTSTAMP:20260422T180208
CREATED:20260128T151826Z
LAST-MODIFIED:20260128T151826Z
UID:8573-1781546400-1781559000@mapleleafacres.ca
SUMMARY:Euchre
DESCRIPTION:
URL:https://mapleleafacres.ca/event/euchre-28/2026-06-15/
CATEGORIES:Activities,Adult Hall
END:VEVENT
BEGIN:VEVENT
DTSTART;TZID=America/Toronto:20260618T130000
DTEND;TZID=America/Toronto:20260618T160000
DTSTAMP:20260422T180208
CREATED:20250922T153259Z
LAST-MODIFIED:20250922T153259Z
UID:7988-1781787600-1781798400@mapleleafacres.ca
SUMMARY:Card Bingo
DESCRIPTION:
URL:https://mapleleafacres.ca/event/card-bingo-64/2026-06-18/
CATEGORIES:Activities,Adult Hall
END:VEVENT
BEGIN:VEVENT
DTSTART;TZID=America/Toronto:20260622T180000
DTEND;TZID=America/Toronto:20260622T213000
DTSTAMP:20260422T180208
CREATED:20260128T151826Z
LAST-MODIFIED:20260128T151826Z
UID:8574-1782151200-1782163800@mapleleafacres.ca
SUMMARY:Euchre
DESCRIPTION:
URL:https://mapleleafacres.ca/event/euchre-28/2026-06-22/
CATEGORIES:Activities,Adult Hall
END:VEVENT
BEGIN:VEVENT
DTSTART;TZID=America/Toronto:20260625T130000
DTEND;TZID=America/Toronto:20260625T160000
DTSTAMP:20260422T180208
CREATED:20250922T153259Z
LAST-MODIFIED:20250922T153259Z
UID:7989-1782392400-1782403200@mapleleafacres.ca
SUMMARY:Card Bingo
DESCRIPTION:
URL:https://mapleleafacres.ca/event/card-bingo-64/2026-06-25/
CATEGORIES:Activities,Adult Hall
END:VEVENT
BEGIN:VEVENT
DTSTART;TZID=America/Toronto:20260628T080000
DTEND;TZID=America/Toronto:20260628T110000
DTSTAMP:20260422T180208
CREATED:20251211T162636Z
LAST-MODIFIED:20251211T162636Z
UID:8393-1782633600-1782644400@mapleleafacres.ca
SUMMARY:Coffee Chat
DESCRIPTION:
URL:https://mapleleafacres.ca/event/coffee-chat-91/
CATEGORIES:Activities,Adult Hall
END:VEVENT
BEGIN:VEVENT
DTSTART;TZID=America/Toronto:20260628T140000
DTEND;TZID=America/Toronto:20260628T160000
DTSTAMP:20260422T180208
CREATED:20251209T161800Z
LAST-MODIFIED:20251209T161800Z
UID:8315-1782655200-1782662400@mapleleafacres.ca
SUMMARY:Ice Cream Sundae
DESCRIPTION:
URL:https://mapleleafacres.ca/event/ice-cream-sundae-11/
CATEGORIES:Activities,Adult Hall
END:VEVENT
BEGIN:VEVENT
DTSTART;TZID=America/Toronto:20260629T180000
DTEND;TZID=America/Toronto:20260629T213000
DTSTAMP:20260422T180208
CREATED:20260128T151826Z
LAST-MODIFIED:20260128T151826Z
UID:8575-1782756000-1782768600@mapleleafacres.ca
SUMMARY:Euchre
DESCRIPTION:
URL:https://mapleleafacres.ca/event/euchre-28/2026-06-29/
CATEGORIES:Activities,Adult Hall
END:VEVENT
BEGIN:VEVENT
DTSTART;TZID=America/Toronto:20260702T130000
DTEND;TZID=America/Toronto:20260702T160000
DTSTAMP:20260422T180208
CREATED:20250922T153259Z
LAST-MODIFIED:20250922T153259Z
UID:7990-1782997200-1783008000@mapleleafacres.ca
SUMMARY:Card Bingo
DESCRIPTION:
URL:https://mapleleafacres.ca/event/card-bingo-64/2026-07-02/
CATEGORIES:Activities,Adult Hall
END:VEVENT
BEGIN:VEVENT
DTSTART;TZID=America/Toronto:20260706T180000
DTEND;TZID=America/Toronto:20260706T213000
DTSTAMP:20260422T180208
CREATED:20260128T151826Z
LAST-MODIFIED:20260128T151826Z
UID:8576-1783360800-1783373400@mapleleafacres.ca
SUMMARY:Euchre
DESCRIPTION:
URL:https://mapleleafacres.ca/event/euchre-28/2026-07-06/
CATEGORIES:Activities,Adult Hall
END:VEVENT
BEGIN:VEVENT
DTSTART;TZID=America/Toronto:20260709T130000
DTEND;TZID=America/Toronto:20260709T160000
DTSTAMP:20260422T180208
CREATED:20250922T153259Z
LAST-MODIFIED:20250922T153259Z
UID:7991-1783602000-1783612800@mapleleafacres.ca
SUMMARY:Card Bingo
DESCRIPTION:
URL:https://mapleleafacres.ca/event/card-bingo-64/2026-07-09/
CATEGORIES:Activities,Adult Hall
END:VEVENT
BEGIN:VEVENT
DTSTART;TZID=America/Toronto:20260710T180000
DTEND;TZID=America/Toronto:20260710T233000
DTSTAMP:20260422T180208
CREATED:20260303T145058Z
LAST-MODIFIED:20260303T145058Z
UID:8621-1783706400-1783726200@mapleleafacres.ca
SUMMARY:Music Trivia
DESCRIPTION:
URL:https://mapleleafacres.ca/event/music-trivia-4/
CATEGORIES:Activities,Adult Hall
END:VEVENT
BEGIN:VEVENT
DTSTART;TZID=America/Toronto:20260712T080000
DTEND;TZID=America/Toronto:20260712T110000
DTSTAMP:20260422T180208
CREATED:20251211T162704Z
LAST-MODIFIED:20251211T162704Z
UID:8395-1783843200-1783854000@mapleleafacres.ca
SUMMARY:Coffee Chat
DESCRIPTION:
URL:https://mapleleafacres.ca/event/coffee-chat-92/
CATEGORIES:Activities,Adult Hall
END:VEVENT
BEGIN:VEVENT
DTSTART;TZID=America/Toronto:20260713T180000
DTEND;TZID=America/Toronto:20260713T213000
DTSTAMP:20260422T180208
CREATED:20260128T151826Z
LAST-MODIFIED:20260128T151826Z
UID:8577-1783965600-1783978200@mapleleafacres.ca
SUMMARY:Euchre
DESCRIPTION:
URL:https://mapleleafacres.ca/event/euchre-28/2026-07-13/
CATEGORIES:Activities,Adult Hall
END:VEVENT
BEGIN:VEVENT
DTSTART;TZID=America/Toronto:20260716T130000
DTEND;TZID=America/Toronto:20260716T160000
DTSTAMP:20260422T180208
CREATED:20250922T153259Z
LAST-MODIFIED:20250922T153259Z
UID:7992-1784206800-1784217600@mapleleafacres.ca
SUMMARY:Card Bingo
DESCRIPTION:
URL:https://mapleleafacres.ca/event/card-bingo-64/2026-07-16/
CATEGORIES:Activities,Adult Hall
END:VEVENT
BEGIN:VEVENT
DTSTART;TZID=America/Toronto:20260720T180000
DTEND;TZID=America/Toronto:20260720T213000
DTSTAMP:20260422T180208
CREATED:20260128T151826Z
LAST-MODIFIED:20260128T151826Z
UID:8578-1784570400-1784583000@mapleleafacres.ca
SUMMARY:Euchre
DESCRIPTION:
URL:https://mapleleafacres.ca/event/euchre-28/2026-07-20/
CATEGORIES:Activities,Adult Hall
END:VEVENT
BEGIN:VEVENT
DTSTART;TZID=America/Toronto:20260723T130000
DTEND;TZID=America/Toronto:20260723T160000
DTSTAMP:20260422T180208
CREATED:20250922T153259Z
LAST-MODIFIED:20250922T153259Z
UID:7993-1784811600-1784822400@mapleleafacres.ca
SUMMARY:Card Bingo
DESCRIPTION:
URL:https://mapleleafacres.ca/event/card-bingo-64/2026-07-23/
CATEGORIES:Activities,Adult Hall
END:VEVENT
BEGIN:VEVENT
DTSTART;TZID=America/Toronto:20260726T080000
DTEND;TZID=America/Toronto:20260726T110000
DTSTAMP:20260422T180208
CREATED:20251211T162726Z
LAST-MODIFIED:20251211T162726Z
UID:8397-1785052800-1785063600@mapleleafacres.ca
SUMMARY:Coffee Chat
DESCRIPTION:
URL:https://mapleleafacres.ca/event/coffee-chat-93/
CATEGORIES:Activities,Adult Hall
END:VEVENT
BEGIN:VEVENT
DTSTART;TZID=America/Toronto:20260726T140000
DTEND;TZID=America/Toronto:20260726T160000
DTSTAMP:20260422T180208
CREATED:20251209T200805Z
LAST-MODIFIED:20251209T200805Z
UID:8333-1785074400-1785081600@mapleleafacres.ca
SUMMARY:Ice Cream Sundae
DESCRIPTION:
URL:https://mapleleafacres.ca/event/ice-cream-sundae-12/
CATEGORIES:Activities,Adult Hall
END:VEVENT
BEGIN:VEVENT
DTSTART;TZID=America/Toronto:20260727T180000
DTEND;TZID=America/Toronto:20260727T213000
DTSTAMP:20260422T180208
CREATED:20260128T151826Z
LAST-MODIFIED:20260128T151826Z
UID:8579-1785175200-1785187800@mapleleafacres.ca
SUMMARY:Euchre
DESCRIPTION:
URL:https://mapleleafacres.ca/event/euchre-28/2026-07-27/
CATEGORIES:Activities,Adult Hall
END:VEVENT
END:VCALENDAR