BEGIN:VCALENDAR
VERSION:2.0
PRODID:-//Maple Leaf Acres - ECPv6.15.18//NONSGML v1.0//EN
CALSCALE:GREGORIAN
METHOD:PUBLISH
X-ORIGINAL-URL:https://mapleleafacres.ca
X-WR-CALDESC:Events for Maple Leaf Acres
REFRESH-INTERVAL;VALUE=DURATION:PT1H
X-Robots-Tag:noindex
X-PUBLISHED-TTL:PT1H
BEGIN:VTIMEZONE
TZID:America/Toronto
BEGIN:DAYLIGHT
TZOFFSETFROM:-0500
TZOFFSETTO:-0400
TZNAME:EDT
DTSTART:20250309T070000
END:DAYLIGHT
BEGIN:STANDARD
TZOFFSETFROM:-0400
TZOFFSETTO:-0500
TZNAME:EST
DTSTART:20251102T060000
END:STANDARD
BEGIN:DAYLIGHT
TZOFFSETFROM:-0500
TZOFFSETTO:-0400
TZNAME:EDT
DTSTART:20260308T070000
END:DAYLIGHT
BEGIN:STANDARD
TZOFFSETFROM:-0400
TZOFFSETTO:-0500
TZNAME:EST
DTSTART:20261101T060000
END:STANDARD
BEGIN:DAYLIGHT
TZOFFSETFROM:-0500
TZOFFSETTO:-0400
TZNAME:EDT
DTSTART:20270314T070000
END:DAYLIGHT
BEGIN:STANDARD
TZOFFSETFROM:-0400
TZOFFSETTO:-0500
TZNAME:EST
DTSTART:20271107T060000
END:STANDARD
END:VTIMEZONE
BEGIN:VEVENT
DTSTART;TZID=America/Toronto:20260723T130000
DTEND;TZID=America/Toronto:20260723T160000
DTSTAMP:20260421T214842
CREATED:20250922T153259Z
LAST-MODIFIED:20250922T153259Z
UID:7993-1784811600-1784822400@mapleleafacres.ca
SUMMARY:Card Bingo
DESCRIPTION:
URL:https://mapleleafacres.ca/event/card-bingo-64/2026-07-23/
CATEGORIES:Activities,Adult Hall
END:VEVENT
BEGIN:VEVENT
DTSTART;TZID=America/Toronto:20260726T080000
DTEND;TZID=America/Toronto:20260726T110000
DTSTAMP:20260421T214842
CREATED:20251211T162726Z
LAST-MODIFIED:20251211T162726Z
UID:8397-1785052800-1785063600@mapleleafacres.ca
SUMMARY:Coffee Chat
DESCRIPTION:
URL:https://mapleleafacres.ca/event/coffee-chat-93/
CATEGORIES:Activities,Adult Hall
END:VEVENT
BEGIN:VEVENT
DTSTART;TZID=America/Toronto:20260726T140000
DTEND;TZID=America/Toronto:20260726T160000
DTSTAMP:20260421T214842
CREATED:20251209T200805Z
LAST-MODIFIED:20251209T200805Z
UID:8333-1785074400-1785081600@mapleleafacres.ca
SUMMARY:Ice Cream Sundae
DESCRIPTION:
URL:https://mapleleafacres.ca/event/ice-cream-sundae-12/
CATEGORIES:Activities,Adult Hall
END:VEVENT
BEGIN:VEVENT
DTSTART;TZID=America/Toronto:20260727T180000
DTEND;TZID=America/Toronto:20260727T213000
DTSTAMP:20260421T214842
CREATED:20260128T151826Z
LAST-MODIFIED:20260128T151826Z
UID:8579-1785175200-1785187800@mapleleafacres.ca
SUMMARY:Euchre
DESCRIPTION:
URL:https://mapleleafacres.ca/event/euchre-28/2026-07-27/
CATEGORIES:Activities,Adult Hall
END:VEVENT
BEGIN:VEVENT
DTSTART;TZID=America/Toronto:20260730T130000
DTEND;TZID=America/Toronto:20260730T160000
DTSTAMP:20260421T214842
CREATED:20250922T153259Z
LAST-MODIFIED:20250922T153259Z
UID:7994-1785416400-1785427200@mapleleafacres.ca
SUMMARY:Card Bingo
DESCRIPTION:
URL:https://mapleleafacres.ca/event/card-bingo-64/2026-07-30/
CATEGORIES:Activities,Adult Hall
END:VEVENT
BEGIN:VEVENT
DTSTART;TZID=America/Toronto:20260803T180000
DTEND;TZID=America/Toronto:20260803T213000
DTSTAMP:20260421T214842
CREATED:20260128T151826Z
LAST-MODIFIED:20260128T151826Z
UID:8580-1785780000-1785792600@mapleleafacres.ca
SUMMARY:Euchre
DESCRIPTION:
URL:https://mapleleafacres.ca/event/euchre-28/2026-08-03/
CATEGORIES:Activities,Adult Hall
END:VEVENT
BEGIN:VEVENT
DTSTART;TZID=America/Toronto:20260806T130000
DTEND;TZID=America/Toronto:20260806T160000
DTSTAMP:20260421T214842
CREATED:20250922T153259Z
LAST-MODIFIED:20250922T153259Z
UID:7995-1786021200-1786032000@mapleleafacres.ca
SUMMARY:Card Bingo
DESCRIPTION:
URL:https://mapleleafacres.ca/event/card-bingo-64/2026-08-06/
CATEGORIES:Activities,Adult Hall
END:VEVENT
BEGIN:VEVENT
DTSTART;TZID=America/Toronto:20260809T080000
DTEND;TZID=America/Toronto:20260809T110000
DTSTAMP:20260421T214842
CREATED:20251211T162802Z
LAST-MODIFIED:20251211T162802Z
UID:8399-1786262400-1786273200@mapleleafacres.ca
SUMMARY:Coffee Chat
DESCRIPTION:
URL:https://mapleleafacres.ca/event/coffee-chat-94/
CATEGORIES:Activities,Adult Hall
END:VEVENT
BEGIN:VEVENT
DTSTART;TZID=America/Toronto:20260810T180000
DTEND;TZID=America/Toronto:20260810T213000
DTSTAMP:20260421T214842
CREATED:20260128T151826Z
LAST-MODIFIED:20260128T151826Z
UID:8581-1786384800-1786397400@mapleleafacres.ca
SUMMARY:Euchre
DESCRIPTION:
URL:https://mapleleafacres.ca/event/euchre-28/2026-08-10/
CATEGORIES:Activities,Adult Hall
END:VEVENT
BEGIN:VEVENT
DTSTART;TZID=America/Toronto:20260813T130000
DTEND;TZID=America/Toronto:20260813T160000
DTSTAMP:20260421T214842
CREATED:20250922T153259Z
LAST-MODIFIED:20250922T153259Z
UID:7996-1786626000-1786636800@mapleleafacres.ca
SUMMARY:Card Bingo
DESCRIPTION:
URL:https://mapleleafacres.ca/event/card-bingo-64/2026-08-13/
CATEGORIES:Activities,Adult Hall
END:VEVENT
BEGIN:VEVENT
DTSTART;TZID=America/Toronto:20260814T180000
DTEND;TZID=America/Toronto:20260814T233000
DTSTAMP:20260421T214842
CREATED:20260303T145137Z
LAST-MODIFIED:20260303T145137Z
UID:8624-1786730400-1786750200@mapleleafacres.ca
SUMMARY:Music Trivia
DESCRIPTION:
URL:https://mapleleafacres.ca/event/music-trivia-5/
CATEGORIES:Activities,Adult Hall
END:VEVENT
BEGIN:VEVENT
DTSTART;VALUE=DATE:20260815
DTEND;VALUE=DATE:20260816
DTSTAMP:20260421T214842
CREATED:20260122T155245Z
LAST-MODIFIED:20260122T155245Z
UID:8521-1786752000-1786838399@mapleleafacres.ca
SUMMARY:Private party
DESCRIPTION:
URL:https://mapleleafacres.ca/event/private-party-141/
CATEGORIES:Activities,Adult Hall
END:VEVENT
BEGIN:VEVENT
DTSTART;TZID=America/Toronto:20260817T180000
DTEND;TZID=America/Toronto:20260817T213000
DTSTAMP:20260421T214842
CREATED:20260128T151826Z
LAST-MODIFIED:20260128T151826Z
UID:8582-1786989600-1787002200@mapleleafacres.ca
SUMMARY:Euchre
DESCRIPTION:
URL:https://mapleleafacres.ca/event/euchre-28/2026-08-17/
CATEGORIES:Activities,Adult Hall
END:VEVENT
BEGIN:VEVENT
DTSTART;TZID=America/Toronto:20260820T130000
DTEND;TZID=America/Toronto:20260820T160000
DTSTAMP:20260421T214842
CREATED:20250922T153259Z
LAST-MODIFIED:20250922T153259Z
UID:7997-1787230800-1787241600@mapleleafacres.ca
SUMMARY:Card Bingo
DESCRIPTION:
URL:https://mapleleafacres.ca/event/card-bingo-64/2026-08-20/
CATEGORIES:Activities,Adult Hall
END:VEVENT
BEGIN:VEVENT
DTSTART;TZID=America/Toronto:20260823T080000
DTEND;TZID=America/Toronto:20260823T110000
DTSTAMP:20260421T214842
CREATED:20251211T162832Z
LAST-MODIFIED:20251211T162832Z
UID:8401-1787472000-1787482800@mapleleafacres.ca
SUMMARY:Coffee Chat
DESCRIPTION:
URL:https://mapleleafacres.ca/event/coffee-chat-95/
CATEGORIES:Activities,Adult Hall
END:VEVENT
BEGIN:VEVENT
DTSTART;TZID=America/Toronto:20260824T180000
DTEND;TZID=America/Toronto:20260824T213000
DTSTAMP:20260421T214842
CREATED:20260128T151826Z
LAST-MODIFIED:20260128T151826Z
UID:8583-1787594400-1787607000@mapleleafacres.ca
SUMMARY:Euchre
DESCRIPTION:
URL:https://mapleleafacres.ca/event/euchre-28/2026-08-24/
CATEGORIES:Activities,Adult Hall
END:VEVENT
BEGIN:VEVENT
DTSTART;TZID=America/Toronto:20260827T130000
DTEND;TZID=America/Toronto:20260827T160000
DTSTAMP:20260421T214842
CREATED:20250922T153259Z
LAST-MODIFIED:20250922T153259Z
UID:7998-1787835600-1787846400@mapleleafacres.ca
SUMMARY:Card Bingo
DESCRIPTION:
URL:https://mapleleafacres.ca/event/card-bingo-64/2026-08-27/
CATEGORIES:Activities,Adult Hall
END:VEVENT
BEGIN:VEVENT
DTSTART;TZID=America/Toronto:20260830T140000
DTEND;TZID=America/Toronto:20260830T140000
DTSTAMP:20260421T214842
CREATED:20251210T154501Z
LAST-MODIFIED:20251210T154501Z
UID:8347-1788098400-1788098400@mapleleafacres.ca
SUMMARY:Last Ice Cream Sundae
DESCRIPTION:
URL:https://mapleleafacres.ca/event/last-ice-cream-sundae/
CATEGORIES:Activities,Adult Hall
END:VEVENT
BEGIN:VEVENT
DTSTART;TZID=America/Toronto:20260831T180000
DTEND;TZID=America/Toronto:20260831T213000
DTSTAMP:20260421T214842
CREATED:20260128T151826Z
LAST-MODIFIED:20260128T151826Z
UID:8584-1788199200-1788211800@mapleleafacres.ca
SUMMARY:Euchre
DESCRIPTION:
URL:https://mapleleafacres.ca/event/euchre-28/2026-08-31/
CATEGORIES:Activities,Adult Hall
END:VEVENT
BEGIN:VEVENT
DTSTART;TZID=America/Toronto:20260903T130000
DTEND;TZID=America/Toronto:20260903T160000
DTSTAMP:20260421T214842
CREATED:20250922T153259Z
LAST-MODIFIED:20250922T153259Z
UID:7999-1788440400-1788451200@mapleleafacres.ca
SUMMARY:Card Bingo
DESCRIPTION:
URL:https://mapleleafacres.ca/event/card-bingo-64/2026-09-03/
CATEGORIES:Activities,Adult Hall
END:VEVENT
BEGIN:VEVENT
DTSTART;TZID=America/Toronto:20260905T110000
DTEND;TZID=America/Toronto:20260905T140000
DTSTAMP:20260421T214842
CREATED:20251210T154624Z
LAST-MODIFIED:20251210T154624Z
UID:8349-1788606000-1788616800@mapleleafacres.ca
SUMMARY:Chocolate Bar Bingo
DESCRIPTION:
URL:https://mapleleafacres.ca/event/chocolate-bar-bingo-25/
CATEGORIES:Activities,Adult Hall
END:VEVENT
BEGIN:VEVENT
DTSTART;TZID=America/Toronto:20260906T000000
DTEND;TZID=America/Toronto:20260906T180000
DTSTAMP:20260421T214842
CREATED:20250922T153536Z
LAST-MODIFIED:20250922T153536Z
UID:8015-1788652800-1788717600@mapleleafacres.ca
SUMMARY:Horseshoe Tournament
DESCRIPTION:
URL:https://mapleleafacres.ca/event/horseshoe-tournament-8/
CATEGORIES:Activities,Adult Hall
END:VEVENT
BEGIN:VEVENT
DTSTART;TZID=America/Toronto:20260906T080000
DTEND;TZID=America/Toronto:20260906T110000
DTSTAMP:20260421T214842
CREATED:20251211T162903Z
LAST-MODIFIED:20251211T162903Z
UID:8403-1788681600-1788692400@mapleleafacres.ca
SUMMARY:Coffee Chat
DESCRIPTION:
URL:https://mapleleafacres.ca/event/coffee-chat-96/
CATEGORIES:Activities,Adult Hall
END:VEVENT
BEGIN:VEVENT
DTSTART;TZID=America/Toronto:20260907T180000
DTEND;TZID=America/Toronto:20260907T213000
DTSTAMP:20260421T214842
CREATED:20260128T151826Z
LAST-MODIFIED:20260128T151826Z
UID:8585-1788804000-1788816600@mapleleafacres.ca
SUMMARY:Euchre
DESCRIPTION:
URL:https://mapleleafacres.ca/event/euchre-28/2026-09-07/
CATEGORIES:Activities,Adult Hall
END:VEVENT
BEGIN:VEVENT
DTSTART;TZID=America/Toronto:20260910T130000
DTEND;TZID=America/Toronto:20260910T160000
DTSTAMP:20260421T214842
CREATED:20250922T153259Z
LAST-MODIFIED:20250922T153259Z
UID:8000-1789045200-1789056000@mapleleafacres.ca
SUMMARY:Card Bingo
DESCRIPTION:
URL:https://mapleleafacres.ca/event/card-bingo-64/2026-09-10/
CATEGORIES:Activities,Adult Hall
END:VEVENT
BEGIN:VEVENT
DTSTART;TZID=America/Toronto:20260914T180000
DTEND;TZID=America/Toronto:20260914T213000
DTSTAMP:20260421T214842
CREATED:20260128T151826Z
LAST-MODIFIED:20260128T151826Z
UID:8586-1789408800-1789421400@mapleleafacres.ca
SUMMARY:Euchre
DESCRIPTION:
URL:https://mapleleafacres.ca/event/euchre-28/2026-09-14/
CATEGORIES:Activities,Adult Hall
END:VEVENT
BEGIN:VEVENT
DTSTART;TZID=America/Toronto:20260917T130000
DTEND;TZID=America/Toronto:20260917T160000
DTSTAMP:20260421T214842
CREATED:20250922T153259Z
LAST-MODIFIED:20250922T153259Z
UID:8001-1789650000-1789660800@mapleleafacres.ca
SUMMARY:Card Bingo
DESCRIPTION:
URL:https://mapleleafacres.ca/event/card-bingo-64/2026-09-17/
CATEGORIES:Activities,Adult Hall
END:VEVENT
BEGIN:VEVENT
DTSTART;TZID=America/Toronto:20260920T080000
DTEND;TZID=America/Toronto:20260920T110000
DTSTAMP:20260421T214842
CREATED:20251211T162930Z
LAST-MODIFIED:20251211T162930Z
UID:8405-1789891200-1789902000@mapleleafacres.ca
SUMMARY:Coffee Chat
DESCRIPTION:
URL:https://mapleleafacres.ca/event/coffee-chat-97/
CATEGORIES:Activities,Adult Hall
END:VEVENT
BEGIN:VEVENT
DTSTART;TZID=America/Toronto:20260921T180000
DTEND;TZID=America/Toronto:20260921T213000
DTSTAMP:20260421T214842
CREATED:20260128T151826Z
LAST-MODIFIED:20260128T151826Z
UID:8587-1790013600-1790026200@mapleleafacres.ca
SUMMARY:Euchre
DESCRIPTION:
URL:https://mapleleafacres.ca/event/euchre-28/2026-09-21/
CATEGORIES:Activities,Adult Hall
END:VEVENT
BEGIN:VEVENT
DTSTART;TZID=America/Toronto:20260924T130000
DTEND;TZID=America/Toronto:20260924T160000
DTSTAMP:20260421T214842
CREATED:20250922T153259Z
LAST-MODIFIED:20250922T153259Z
UID:8002-1790254800-1790265600@mapleleafacres.ca
SUMMARY:Card Bingo
DESCRIPTION:
URL:https://mapleleafacres.ca/event/card-bingo-64/2026-09-24/
CATEGORIES:Activities,Adult Hall
END:VEVENT
END:VCALENDAR