BEGIN:VCALENDAR
VERSION:2.0
PRODID:-//Maple Leaf Acres - ECPv6.15.18//NONSGML v1.0//EN
CALSCALE:GREGORIAN
METHOD:PUBLISH
X-WR-CALNAME:Maple Leaf Acres
X-ORIGINAL-URL:https://mapleleafacres.ca
X-WR-CALDESC:Events for Maple Leaf Acres
REFRESH-INTERVAL;VALUE=DURATION:PT1H
X-Robots-Tag:noindex
X-PUBLISHED-TTL:PT1H
BEGIN:VTIMEZONE
TZID:America/Toronto
BEGIN:DAYLIGHT
TZOFFSETFROM:-0500
TZOFFSETTO:-0400
TZNAME:EDT
DTSTART:20250309T070000
END:DAYLIGHT
BEGIN:STANDARD
TZOFFSETFROM:-0400
TZOFFSETTO:-0500
TZNAME:EST
DTSTART:20251102T060000
END:STANDARD
BEGIN:DAYLIGHT
TZOFFSETFROM:-0500
TZOFFSETTO:-0400
TZNAME:EDT
DTSTART:20260308T070000
END:DAYLIGHT
BEGIN:STANDARD
TZOFFSETFROM:-0400
TZOFFSETTO:-0500
TZNAME:EST
DTSTART:20261101T060000
END:STANDARD
BEGIN:DAYLIGHT
TZOFFSETFROM:-0500
TZOFFSETTO:-0400
TZNAME:EDT
DTSTART:20270314T070000
END:DAYLIGHT
BEGIN:STANDARD
TZOFFSETFROM:-0400
TZOFFSETTO:-0500
TZNAME:EST
DTSTART:20271107T060000
END:STANDARD
END:VTIMEZONE
BEGIN:VEVENT
DTSTART;TZID=America/Toronto:20260301T130000
DTEND;TZID=America/Toronto:20260301T160000
DTSTAMP:20260421T071820
CREATED:20250903T152416Z
LAST-MODIFIED:20250903T152416Z
UID:7675-1772370000-1772380800@mapleleafacres.ca
SUMMARY:Rummoli
DESCRIPTION:
URL:https://mapleleafacres.ca/event/rummoli/2026-03-01/
CATEGORIES:Activities,Fireside Room
END:VEVENT
BEGIN:VEVENT
DTSTART;TZID=America/Toronto:20260303T130000
DTEND;TZID=America/Toronto:20260303T160000
DTSTAMP:20260421T071820
CREATED:20250903T152635Z
LAST-MODIFIED:20250903T152635Z
UID:7710-1772542800-1772553600@mapleleafacres.ca
SUMMARY:Bid Euchre
DESCRIPTION:
URL:https://mapleleafacres.ca/event/bid-euchre-91/2026-03-03/
CATEGORIES:Activities,Fireside Room
END:VEVENT
BEGIN:VEVENT
DTSTART;TZID=America/Toronto:20260304T130000
DTEND;TZID=America/Toronto:20260304T160000
DTSTAMP:20260421T071820
CREATED:20251003T132102Z
LAST-MODIFIED:20251003T132102Z
UID:8158-1772629200-1772640000@mapleleafacres.ca
SUMMARY:Cards
DESCRIPTION:
URL:https://mapleleafacres.ca/event/cards/2026-03-04/
CATEGORIES:Activities,Fireside Room
END:VEVENT
BEGIN:VEVENT
DTSTART;TZID=America/Toronto:20260306T190000
DTEND;TZID=America/Toronto:20260306T233000
DTSTAMP:20260421T071820
CREATED:20250915T180431Z
LAST-MODIFIED:20250915T180431Z
UID:7857-1772823600-1772839800@mapleleafacres.ca
SUMMARY:Poker
DESCRIPTION:
URL:https://mapleleafacres.ca/event/poker-2/2026-03-06/
CATEGORIES:Activities,Fireside Room
END:VEVENT
BEGIN:VEVENT
DTSTART;TZID=America/Toronto:20260308T130000
DTEND;TZID=America/Toronto:20260308T160000
DTSTAMP:20260421T071820
CREATED:20250903T152416Z
LAST-MODIFIED:20250903T152416Z
UID:7676-1772974800-1772985600@mapleleafacres.ca
SUMMARY:Rummoli
DESCRIPTION:
URL:https://mapleleafacres.ca/event/rummoli/2026-03-08/
CATEGORIES:Activities,Fireside Room
END:VEVENT
BEGIN:VEVENT
DTSTART;TZID=America/Toronto:20260310T130000
DTEND;TZID=America/Toronto:20260310T160000
DTSTAMP:20260421T071820
CREATED:20250903T152635Z
LAST-MODIFIED:20250903T152635Z
UID:7711-1773147600-1773158400@mapleleafacres.ca
SUMMARY:Bid Euchre
DESCRIPTION:
URL:https://mapleleafacres.ca/event/bid-euchre-91/2026-03-10/
CATEGORIES:Activities,Fireside Room
END:VEVENT
BEGIN:VEVENT
DTSTART;TZID=America/Toronto:20260311T130000
DTEND;TZID=America/Toronto:20260311T160000
DTSTAMP:20260421T071820
CREATED:20251003T132102Z
LAST-MODIFIED:20251003T132102Z
UID:8159-1773234000-1773244800@mapleleafacres.ca
SUMMARY:Cards
DESCRIPTION:
URL:https://mapleleafacres.ca/event/cards/2026-03-11/
CATEGORIES:Activities,Fireside Room
END:VEVENT
BEGIN:VEVENT
DTSTART;TZID=America/Toronto:20260313T160000
DTEND;TZID=America/Toronto:20260313T190000
DTSTAMP:20260421T071820
CREATED:20260227T212435Z
LAST-MODIFIED:20260227T212435Z
UID:8617-1773417600-1773428400@mapleleafacres.ca
SUMMARY:Party
DESCRIPTION:
URL:https://mapleleafacres.ca/event/party-2/
CATEGORIES:Activities,Fireside Room
END:VEVENT
BEGIN:VEVENT
DTSTART;TZID=America/Toronto:20260313T190000
DTEND;TZID=America/Toronto:20260313T233000
DTSTAMP:20260421T071820
CREATED:20250915T180431Z
LAST-MODIFIED:20250915T180431Z
UID:7858-1773428400-1773444600@mapleleafacres.ca
SUMMARY:Poker
DESCRIPTION:
URL:https://mapleleafacres.ca/event/poker-2/2026-03-13/
CATEGORIES:Activities,Fireside Room
END:VEVENT
BEGIN:VEVENT
DTSTART;TZID=America/Toronto:20260315T130000
DTEND;TZID=America/Toronto:20260315T160000
DTSTAMP:20260421T071820
CREATED:20250903T152416Z
LAST-MODIFIED:20250903T152416Z
UID:7677-1773579600-1773590400@mapleleafacres.ca
SUMMARY:Rummoli
DESCRIPTION:
URL:https://mapleleafacres.ca/event/rummoli/2026-03-15/
CATEGORIES:Activities,Fireside Room
END:VEVENT
BEGIN:VEVENT
DTSTART;TZID=America/Toronto:20260317T130000
DTEND;TZID=America/Toronto:20260317T160000
DTSTAMP:20260421T071820
CREATED:20250903T152635Z
LAST-MODIFIED:20250903T152635Z
UID:7712-1773752400-1773763200@mapleleafacres.ca
SUMMARY:Bid Euchre
DESCRIPTION:
URL:https://mapleleafacres.ca/event/bid-euchre-91/2026-03-17/
CATEGORIES:Activities,Fireside Room
END:VEVENT
BEGIN:VEVENT
DTSTART;TZID=America/Toronto:20260318T130000
DTEND;TZID=America/Toronto:20260318T160000
DTSTAMP:20260421T071820
CREATED:20251003T132102Z
LAST-MODIFIED:20251003T132102Z
UID:8160-1773838800-1773849600@mapleleafacres.ca
SUMMARY:Cards
DESCRIPTION:
URL:https://mapleleafacres.ca/event/cards/2026-03-18/
CATEGORIES:Activities,Fireside Room
END:VEVENT
BEGIN:VEVENT
DTSTART;TZID=America/Toronto:20260320T190000
DTEND;TZID=America/Toronto:20260320T233000
DTSTAMP:20260421T071820
CREATED:20250915T180431Z
LAST-MODIFIED:20250915T180431Z
UID:7859-1774033200-1774049400@mapleleafacres.ca
SUMMARY:Poker
DESCRIPTION:
URL:https://mapleleafacres.ca/event/poker-2/2026-03-20/
CATEGORIES:Activities,Fireside Room
END:VEVENT
BEGIN:VEVENT
DTSTART;TZID=America/Toronto:20260322T130000
DTEND;TZID=America/Toronto:20260322T160000
DTSTAMP:20260421T071820
CREATED:20250903T152416Z
LAST-MODIFIED:20250903T152416Z
UID:7678-1774184400-1774195200@mapleleafacres.ca
SUMMARY:Rummoli
DESCRIPTION:
URL:https://mapleleafacres.ca/event/rummoli/2026-03-22/
CATEGORIES:Activities,Fireside Room
END:VEVENT
BEGIN:VEVENT
DTSTART;TZID=America/Toronto:20260324T130000
DTEND;TZID=America/Toronto:20260324T160000
DTSTAMP:20260421T071820
CREATED:20250903T152635Z
LAST-MODIFIED:20250903T152635Z
UID:7713-1774357200-1774368000@mapleleafacres.ca
SUMMARY:Bid Euchre
DESCRIPTION:
URL:https://mapleleafacres.ca/event/bid-euchre-91/2026-03-24/
CATEGORIES:Activities,Fireside Room
END:VEVENT
BEGIN:VEVENT
DTSTART;TZID=America/Toronto:20260325T130000
DTEND;TZID=America/Toronto:20260325T160000
DTSTAMP:20260421T071820
CREATED:20251003T132102Z
LAST-MODIFIED:20251003T132102Z
UID:8161-1774443600-1774454400@mapleleafacres.ca
SUMMARY:Cards
DESCRIPTION:
URL:https://mapleleafacres.ca/event/cards/2026-03-25/
CATEGORIES:Activities,Fireside Room
END:VEVENT
BEGIN:VEVENT
DTSTART;TZID=America/Toronto:20260327T190000
DTEND;TZID=America/Toronto:20260327T233000
DTSTAMP:20260421T071820
CREATED:20250915T180431Z
LAST-MODIFIED:20250915T180431Z
UID:7860-1774638000-1774654200@mapleleafacres.ca
SUMMARY:Poker
DESCRIPTION:
URL:https://mapleleafacres.ca/event/poker-2/2026-03-27/
CATEGORIES:Activities,Fireside Room
END:VEVENT
BEGIN:VEVENT
DTSTART;TZID=America/Toronto:20260328T110000
DTEND;TZID=America/Toronto:20260328T170000
DTSTAMP:20260421T071820
CREATED:20260122T153608Z
LAST-MODIFIED:20260122T153608Z
UID:8443-1774695600-1774717200@mapleleafacres.ca
SUMMARY:Private party
DESCRIPTION:
URL:https://mapleleafacres.ca/event/private-party-139/
CATEGORIES:Activities,Fireside Room
END:VEVENT
BEGIN:VEVENT
DTSTART;TZID=America/Toronto:20260329T130000
DTEND;TZID=America/Toronto:20260329T160000
DTSTAMP:20260421T071820
CREATED:20250903T152416Z
LAST-MODIFIED:20250903T152416Z
UID:7679-1774789200-1774800000@mapleleafacres.ca
SUMMARY:Rummoli
DESCRIPTION:
URL:https://mapleleafacres.ca/event/rummoli/2026-03-29/
CATEGORIES:Activities,Fireside Room
END:VEVENT
BEGIN:VEVENT
DTSTART;TZID=America/Toronto:20260331T130000
DTEND;TZID=America/Toronto:20260331T160000
DTSTAMP:20260421T071820
CREATED:20250903T152635Z
LAST-MODIFIED:20250903T152635Z
UID:7714-1774962000-1774972800@mapleleafacres.ca
SUMMARY:Bid Euchre
DESCRIPTION:
URL:https://mapleleafacres.ca/event/bid-euchre-91/2026-03-31/
CATEGORIES:Activities,Fireside Room
END:VEVENT
END:VCALENDAR