BEGIN:VCALENDAR
VERSION:2.0
PRODID:-//Maple Leaf Acres - ECPv6.15.18//NONSGML v1.0//EN
CALSCALE:GREGORIAN
METHOD:PUBLISH
X-WR-CALNAME:Maple Leaf Acres
X-ORIGINAL-URL:https://mapleleafacres.ca
X-WR-CALDESC:Events for Maple Leaf Acres
REFRESH-INTERVAL;VALUE=DURATION:PT1H
X-Robots-Tag:noindex
X-PUBLISHED-TTL:PT1H
BEGIN:VTIMEZONE
TZID:America/Toronto
BEGIN:DAYLIGHT
TZOFFSETFROM:-0500
TZOFFSETTO:-0400
TZNAME:EDT
DTSTART:20250309T070000
END:DAYLIGHT
BEGIN:STANDARD
TZOFFSETFROM:-0400
TZOFFSETTO:-0500
TZNAME:EST
DTSTART:20251102T060000
END:STANDARD
BEGIN:DAYLIGHT
TZOFFSETFROM:-0500
TZOFFSETTO:-0400
TZNAME:EDT
DTSTART:20260308T070000
END:DAYLIGHT
BEGIN:STANDARD
TZOFFSETFROM:-0400
TZOFFSETTO:-0500
TZNAME:EST
DTSTART:20261101T060000
END:STANDARD
BEGIN:DAYLIGHT
TZOFFSETFROM:-0500
TZOFFSETTO:-0400
TZNAME:EDT
DTSTART:20270314T070000
END:DAYLIGHT
BEGIN:STANDARD
TZOFFSETFROM:-0400
TZOFFSETTO:-0500
TZNAME:EST
DTSTART:20271107T060000
END:STANDARD
END:VTIMEZONE
BEGIN:VEVENT
DTSTART;TZID=America/Toronto:20260602T130000
DTEND;TZID=America/Toronto:20260602T160000
DTSTAMP:20260421T182929
CREATED:20260122T154920Z
LAST-MODIFIED:20260122T154920Z
UID:8489-1780405200-1780416000@mapleleafacres.ca
SUMMARY:Bid Euchre
DESCRIPTION:
URL:https://mapleleafacres.ca/event/bid-euchre-184/2026-06-02/
CATEGORIES:Activities,Fireside Room
END:VEVENT
BEGIN:VEVENT
DTSTART;TZID=America/Toronto:20260607T130000
DTEND;TZID=America/Toronto:20260607T160000
DTSTAMP:20260421T182929
CREATED:20260122T154759Z
LAST-MODIFIED:20260122T154759Z
UID:8454-1780837200-1780848000@mapleleafacres.ca
SUMMARY:Ramoli
DESCRIPTION:
URL:https://mapleleafacres.ca/event/ramoli/2026-06-07/
CATEGORIES:Activities,Fireside Room
END:VEVENT
BEGIN:VEVENT
DTSTART;TZID=America/Toronto:20260609T130000
DTEND;TZID=America/Toronto:20260609T160000
DTSTAMP:20260421T182929
CREATED:20260122T154920Z
LAST-MODIFIED:20260122T154920Z
UID:8490-1781010000-1781020800@mapleleafacres.ca
SUMMARY:Bid Euchre
DESCRIPTION:
URL:https://mapleleafacres.ca/event/bid-euchre-184/2026-06-09/
CATEGORIES:Activities,Fireside Room
END:VEVENT
BEGIN:VEVENT
DTSTART;TZID=America/Toronto:20260614T130000
DTEND;TZID=America/Toronto:20260614T160000
DTSTAMP:20260421T182929
CREATED:20260122T154759Z
LAST-MODIFIED:20260122T154759Z
UID:8455-1781442000-1781452800@mapleleafacres.ca
SUMMARY:Ramoli
DESCRIPTION:
URL:https://mapleleafacres.ca/event/ramoli/2026-06-14/
CATEGORIES:Activities,Fireside Room
END:VEVENT
BEGIN:VEVENT
DTSTART;TZID=America/Toronto:20260616T130000
DTEND;TZID=America/Toronto:20260616T160000
DTSTAMP:20260421T182929
CREATED:20260122T154920Z
LAST-MODIFIED:20260122T154920Z
UID:8491-1781614800-1781625600@mapleleafacres.ca
SUMMARY:Bid Euchre
DESCRIPTION:
URL:https://mapleleafacres.ca/event/bid-euchre-184/2026-06-16/
CATEGORIES:Activities,Fireside Room
END:VEVENT
BEGIN:VEVENT
DTSTART;TZID=America/Toronto:20260621T130000
DTEND;TZID=America/Toronto:20260621T160000
DTSTAMP:20260421T182929
CREATED:20260122T154759Z
LAST-MODIFIED:20260122T154759Z
UID:8456-1782046800-1782057600@mapleleafacres.ca
SUMMARY:Ramoli
DESCRIPTION:
URL:https://mapleleafacres.ca/event/ramoli/2026-06-21/
CATEGORIES:Activities,Fireside Room
END:VEVENT
BEGIN:VEVENT
DTSTART;TZID=America/Toronto:20260623T130000
DTEND;TZID=America/Toronto:20260623T160000
DTSTAMP:20260421T182929
CREATED:20260122T154920Z
LAST-MODIFIED:20260122T154920Z
UID:8492-1782219600-1782230400@mapleleafacres.ca
SUMMARY:Bid Euchre
DESCRIPTION:
URL:https://mapleleafacres.ca/event/bid-euchre-184/2026-06-23/
CATEGORIES:Activities,Fireside Room
END:VEVENT
BEGIN:VEVENT
DTSTART;TZID=America/Toronto:20260628T110000
DTEND;TZID=America/Toronto:20260628T233000
DTSTAMP:20260421T182929
CREATED:20260413T183328Z
LAST-MODIFIED:20260413T183328Z
UID:8764-1782644400-1782689400@mapleleafacres.ca
SUMMARY:Private Party
DESCRIPTION:
URL:https://mapleleafacres.ca/event/private-party-150/
CATEGORIES:Activities,Fireside Room
END:VEVENT
BEGIN:VEVENT
DTSTART;TZID=America/Toronto:20260628T130000
DTEND;TZID=America/Toronto:20260628T160000
DTSTAMP:20260421T182929
CREATED:20260122T154759Z
LAST-MODIFIED:20260122T154759Z
UID:8457-1782651600-1782662400@mapleleafacres.ca
SUMMARY:Ramoli
DESCRIPTION:
URL:https://mapleleafacres.ca/event/ramoli/2026-06-28/
CATEGORIES:Activities,Fireside Room
END:VEVENT
BEGIN:VEVENT
DTSTART;TZID=America/Toronto:20260630T130000
DTEND;TZID=America/Toronto:20260630T160000
DTSTAMP:20260421T182929
CREATED:20260122T154920Z
LAST-MODIFIED:20260122T154920Z
UID:8493-1782824400-1782835200@mapleleafacres.ca
SUMMARY:Bid Euchre
DESCRIPTION:
URL:https://mapleleafacres.ca/event/bid-euchre-184/2026-06-30/
CATEGORIES:Activities,Fireside Room
END:VEVENT
END:VCALENDAR