BEGIN:VCALENDAR
VERSION:2.0
PRODID:-//Maple Leaf Acres - ECPv6.15.18//NONSGML v1.0//EN
CALSCALE:GREGORIAN
METHOD:PUBLISH
X-WR-CALNAME:Maple Leaf Acres
X-ORIGINAL-URL:https://mapleleafacres.ca
X-WR-CALDESC:Events for Maple Leaf Acres
REFRESH-INTERVAL;VALUE=DURATION:PT1H
X-Robots-Tag:noindex
X-PUBLISHED-TTL:PT1H
BEGIN:VTIMEZONE
TZID:America/Toronto
BEGIN:DAYLIGHT
TZOFFSETFROM:-0500
TZOFFSETTO:-0400
TZNAME:EDT
DTSTART:20250309T070000
END:DAYLIGHT
BEGIN:STANDARD
TZOFFSETFROM:-0400
TZOFFSETTO:-0500
TZNAME:EST
DTSTART:20251102T060000
END:STANDARD
BEGIN:DAYLIGHT
TZOFFSETFROM:-0500
TZOFFSETTO:-0400
TZNAME:EDT
DTSTART:20260308T070000
END:DAYLIGHT
BEGIN:STANDARD
TZOFFSETFROM:-0400
TZOFFSETTO:-0500
TZNAME:EST
DTSTART:20261101T060000
END:STANDARD
BEGIN:DAYLIGHT
TZOFFSETFROM:-0500
TZOFFSETTO:-0400
TZNAME:EDT
DTSTART:20270314T070000
END:DAYLIGHT
BEGIN:STANDARD
TZOFFSETFROM:-0400
TZOFFSETTO:-0500
TZNAME:EST
DTSTART:20271107T060000
END:STANDARD
END:VTIMEZONE
BEGIN:VEVENT
DTSTART;TZID=America/Toronto:20260705T130000
DTEND;TZID=America/Toronto:20260705T160000
DTSTAMP:20260421T215242
CREATED:20260122T154759Z
LAST-MODIFIED:20260122T154759Z
UID:8458-1783256400-1783267200@mapleleafacres.ca
SUMMARY:Ramoli
DESCRIPTION:
URL:https://mapleleafacres.ca/event/ramoli/2026-07-05/
CATEGORIES:Activities,Fireside Room
END:VEVENT
BEGIN:VEVENT
DTSTART;TZID=America/Toronto:20260707T130000
DTEND;TZID=America/Toronto:20260707T160000
DTSTAMP:20260421T215242
CREATED:20260122T154920Z
LAST-MODIFIED:20260122T154920Z
UID:8494-1783429200-1783440000@mapleleafacres.ca
SUMMARY:Bid Euchre
DESCRIPTION:
URL:https://mapleleafacres.ca/event/bid-euchre-184/2026-07-07/
CATEGORIES:Activities,Fireside Room
END:VEVENT
BEGIN:VEVENT
DTSTART;TZID=America/Toronto:20260712T130000
DTEND;TZID=America/Toronto:20260712T160000
DTSTAMP:20260421T215242
CREATED:20260122T154759Z
LAST-MODIFIED:20260122T154759Z
UID:8459-1783861200-1783872000@mapleleafacres.ca
SUMMARY:Ramoli
DESCRIPTION:
URL:https://mapleleafacres.ca/event/ramoli/2026-07-12/
CATEGORIES:Activities,Fireside Room
END:VEVENT
BEGIN:VEVENT
DTSTART;TZID=America/Toronto:20260714T130000
DTEND;TZID=America/Toronto:20260714T160000
DTSTAMP:20260421T215242
CREATED:20260122T154920Z
LAST-MODIFIED:20260122T154920Z
UID:8495-1784034000-1784044800@mapleleafacres.ca
SUMMARY:Bid Euchre
DESCRIPTION:
URL:https://mapleleafacres.ca/event/bid-euchre-184/2026-07-14/
CATEGORIES:Activities,Fireside Room
END:VEVENT
BEGIN:VEVENT
DTSTART;TZID=America/Toronto:20260718T120000
DTEND;TZID=America/Toronto:20260718T180000
DTSTAMP:20260421T215242
CREATED:20251209T181731Z
LAST-MODIFIED:20251209T181731Z
UID:8327-1784376000-1784397600@mapleleafacres.ca
SUMMARY:Dungeons and Dragons
DESCRIPTION:
URL:https://mapleleafacres.ca/event/dungeons-and-dragons/
CATEGORIES:Activities,Fireside Room
END:VEVENT
BEGIN:VEVENT
DTSTART;TZID=America/Toronto:20260719T130000
DTEND;TZID=America/Toronto:20260719T160000
DTSTAMP:20260421T215242
CREATED:20260122T154759Z
LAST-MODIFIED:20260122T154759Z
UID:8461-1784466000-1784476800@mapleleafacres.ca
SUMMARY:Ramoli
DESCRIPTION:
URL:https://mapleleafacres.ca/event/ramoli/2026-07-19/
CATEGORIES:Activities,Fireside Room
END:VEVENT
BEGIN:VEVENT
DTSTART;TZID=America/Toronto:20260721T130000
DTEND;TZID=America/Toronto:20260721T160000
DTSTAMP:20260421T215242
CREATED:20260122T154920Z
LAST-MODIFIED:20260122T154920Z
UID:8497-1784638800-1784649600@mapleleafacres.ca
SUMMARY:Bid Euchre
DESCRIPTION:
URL:https://mapleleafacres.ca/event/bid-euchre-184/2026-07-21/
CATEGORIES:Activities,Fireside Room
END:VEVENT
BEGIN:VEVENT
DTSTART;TZID=America/Toronto:20260725T120000
DTEND;TZID=America/Toronto:20260725T180000
DTSTAMP:20260421T215242
CREATED:20251209T181824Z
LAST-MODIFIED:20251209T181824Z
UID:8329-1784980800-1785002400@mapleleafacres.ca
SUMMARY:Dungeons and Dragons
DESCRIPTION:
URL:https://mapleleafacres.ca/event/dungeons-and-dragons-2/
CATEGORIES:Activities,Fireside Room
END:VEVENT
BEGIN:VEVENT
DTSTART;TZID=America/Toronto:20260725T200000
DTEND;TZID=America/Toronto:20260725T233000
DTSTAMP:20260421T215242
CREATED:20251209T200710Z
LAST-MODIFIED:20251209T200710Z
UID:8331-1785009600-1785022200@mapleleafacres.ca
SUMMARY:Movie Night Under The Stars
DESCRIPTION:
URL:https://mapleleafacres.ca/event/movie-night-under-the-stars-4/
CATEGORIES:Activities,Fireside Room,Rec. Hall
END:VEVENT
BEGIN:VEVENT
DTSTART;TZID=America/Toronto:20260726T130000
DTEND;TZID=America/Toronto:20260726T160000
DTSTAMP:20260421T215242
CREATED:20260122T154759Z
LAST-MODIFIED:20260122T154759Z
UID:8462-1785070800-1785081600@mapleleafacres.ca
SUMMARY:Ramoli
DESCRIPTION:
URL:https://mapleleafacres.ca/event/ramoli/2026-07-26/
CATEGORIES:Activities,Fireside Room
END:VEVENT
BEGIN:VEVENT
DTSTART;TZID=America/Toronto:20260728T130000
DTEND;TZID=America/Toronto:20260728T160000
DTSTAMP:20260421T215242
CREATED:20260122T154920Z
LAST-MODIFIED:20260122T154920Z
UID:8498-1785243600-1785254400@mapleleafacres.ca
SUMMARY:Bid Euchre
DESCRIPTION:
URL:https://mapleleafacres.ca/event/bid-euchre-184/2026-07-28/
CATEGORIES:Activities,Fireside Room
END:VEVENT
END:VCALENDAR