BEGIN:VCALENDAR
VERSION:2.0
PRODID:-//Maple Leaf Acres - ECPv6.15.18//NONSGML v1.0//EN
CALSCALE:GREGORIAN
METHOD:PUBLISH
X-WR-CALNAME:Maple Leaf Acres
X-ORIGINAL-URL:https://mapleleafacres.ca
X-WR-CALDESC:Events for Maple Leaf Acres
REFRESH-INTERVAL;VALUE=DURATION:PT1H
X-Robots-Tag:noindex
X-PUBLISHED-TTL:PT1H
BEGIN:VTIMEZONE
TZID:America/Toronto
BEGIN:DAYLIGHT
TZOFFSETFROM:-0500
TZOFFSETTO:-0400
TZNAME:EDT
DTSTART:20250309T070000
END:DAYLIGHT
BEGIN:STANDARD
TZOFFSETFROM:-0400
TZOFFSETTO:-0500
TZNAME:EST
DTSTART:20251102T060000
END:STANDARD
BEGIN:DAYLIGHT
TZOFFSETFROM:-0500
TZOFFSETTO:-0400
TZNAME:EDT
DTSTART:20260308T070000
END:DAYLIGHT
BEGIN:STANDARD
TZOFFSETFROM:-0400
TZOFFSETTO:-0500
TZNAME:EST
DTSTART:20261101T060000
END:STANDARD
BEGIN:DAYLIGHT
TZOFFSETFROM:-0500
TZOFFSETTO:-0400
TZNAME:EDT
DTSTART:20270314T070000
END:DAYLIGHT
BEGIN:STANDARD
TZOFFSETFROM:-0400
TZOFFSETTO:-0500
TZNAME:EST
DTSTART:20271107T060000
END:STANDARD
END:VTIMEZONE
BEGIN:VEVENT
DTSTART;TZID=America/Toronto:20260712T130000
DTEND;TZID=America/Toronto:20260712T160000
DTSTAMP:20260421T111257
CREATED:20260122T154759Z
LAST-MODIFIED:20260122T154759Z
UID:8459-1783861200-1783872000@mapleleafacres.ca
SUMMARY:Ramoli
DESCRIPTION:
URL:https://mapleleafacres.ca/event/ramoli/2026-07-12/
CATEGORIES:Activities,Fireside Room
END:VEVENT
BEGIN:VEVENT
DTSTART;TZID=America/Toronto:20260714T130000
DTEND;TZID=America/Toronto:20260714T160000
DTSTAMP:20260421T111257
CREATED:20260122T154920Z
LAST-MODIFIED:20260122T154920Z
UID:8495-1784034000-1784044800@mapleleafacres.ca
SUMMARY:Bid Euchre
DESCRIPTION:
URL:https://mapleleafacres.ca/event/bid-euchre-184/2026-07-14/
CATEGORIES:Activities,Fireside Room
END:VEVENT
BEGIN:VEVENT
DTSTART;TZID=America/Toronto:20260718T120000
DTEND;TZID=America/Toronto:20260718T180000
DTSTAMP:20260421T111257
CREATED:20251209T181731Z
LAST-MODIFIED:20251209T181731Z
UID:8327-1784376000-1784397600@mapleleafacres.ca
SUMMARY:Dungeons and Dragons
DESCRIPTION:
URL:https://mapleleafacres.ca/event/dungeons-and-dragons/
CATEGORIES:Activities,Fireside Room
END:VEVENT
BEGIN:VEVENT
DTSTART;TZID=America/Toronto:20260719T130000
DTEND;TZID=America/Toronto:20260719T160000
DTSTAMP:20260421T111257
CREATED:20260122T154759Z
LAST-MODIFIED:20260122T154759Z
UID:8461-1784466000-1784476800@mapleleafacres.ca
SUMMARY:Ramoli
DESCRIPTION:
URL:https://mapleleafacres.ca/event/ramoli/2026-07-19/
CATEGORIES:Activities,Fireside Room
END:VEVENT
BEGIN:VEVENT
DTSTART;TZID=America/Toronto:20260721T130000
DTEND;TZID=America/Toronto:20260721T160000
DTSTAMP:20260421T111257
CREATED:20260122T154920Z
LAST-MODIFIED:20260122T154920Z
UID:8497-1784638800-1784649600@mapleleafacres.ca
SUMMARY:Bid Euchre
DESCRIPTION:
URL:https://mapleleafacres.ca/event/bid-euchre-184/2026-07-21/
CATEGORIES:Activities,Fireside Room
END:VEVENT
BEGIN:VEVENT
DTSTART;TZID=America/Toronto:20260725T120000
DTEND;TZID=America/Toronto:20260725T180000
DTSTAMP:20260421T111257
CREATED:20251209T181824Z
LAST-MODIFIED:20251209T181824Z
UID:8329-1784980800-1785002400@mapleleafacres.ca
SUMMARY:Dungeons and Dragons
DESCRIPTION:
URL:https://mapleleafacres.ca/event/dungeons-and-dragons-2/
CATEGORIES:Activities,Fireside Room
END:VEVENT
BEGIN:VEVENT
DTSTART;TZID=America/Toronto:20260725T200000
DTEND;TZID=America/Toronto:20260725T233000
DTSTAMP:20260421T111257
CREATED:20251209T200710Z
LAST-MODIFIED:20251209T200710Z
UID:8331-1785009600-1785022200@mapleleafacres.ca
SUMMARY:Movie Night Under The Stars
DESCRIPTION:
URL:https://mapleleafacres.ca/event/movie-night-under-the-stars-4/
CATEGORIES:Activities,Fireside Room,Rec. Hall
END:VEVENT
BEGIN:VEVENT
DTSTART;TZID=America/Toronto:20260726T130000
DTEND;TZID=America/Toronto:20260726T160000
DTSTAMP:20260421T111257
CREATED:20260122T154759Z
LAST-MODIFIED:20260122T154759Z
UID:8462-1785070800-1785081600@mapleleafacres.ca
SUMMARY:Ramoli
DESCRIPTION:
URL:https://mapleleafacres.ca/event/ramoli/2026-07-26/
CATEGORIES:Activities,Fireside Room
END:VEVENT
BEGIN:VEVENT
DTSTART;TZID=America/Toronto:20260728T130000
DTEND;TZID=America/Toronto:20260728T160000
DTSTAMP:20260421T111257
CREATED:20260122T154920Z
LAST-MODIFIED:20260122T154920Z
UID:8498-1785243600-1785254400@mapleleafacres.ca
SUMMARY:Bid Euchre
DESCRIPTION:
URL:https://mapleleafacres.ca/event/bid-euchre-184/2026-07-28/
CATEGORIES:Activities,Fireside Room
END:VEVENT
BEGIN:VEVENT
DTSTART;TZID=America/Toronto:20260802T130000
DTEND;TZID=America/Toronto:20260802T160000
DTSTAMP:20260421T111257
CREATED:20260122T154759Z
LAST-MODIFIED:20260122T154759Z
UID:8463-1785675600-1785686400@mapleleafacres.ca
SUMMARY:Ramoli
DESCRIPTION:
URL:https://mapleleafacres.ca/event/ramoli/2026-08-02/
CATEGORIES:Activities,Fireside Room
END:VEVENT
BEGIN:VEVENT
DTSTART;TZID=America/Toronto:20260804T130000
DTEND;TZID=America/Toronto:20260804T160000
DTSTAMP:20260421T111257
CREATED:20260122T154920Z
LAST-MODIFIED:20260122T154920Z
UID:8499-1785848400-1785859200@mapleleafacres.ca
SUMMARY:Bid Euchre
DESCRIPTION:
URL:https://mapleleafacres.ca/event/bid-euchre-184/2026-08-04/
CATEGORIES:Activities,Fireside Room
END:VEVENT
BEGIN:VEVENT
DTSTART;TZID=America/Toronto:20260809T130000
DTEND;TZID=America/Toronto:20260809T160000
DTSTAMP:20260421T111257
CREATED:20260122T154759Z
LAST-MODIFIED:20260122T154759Z
UID:8464-1786280400-1786291200@mapleleafacres.ca
SUMMARY:Ramoli
DESCRIPTION:
URL:https://mapleleafacres.ca/event/ramoli/2026-08-09/
CATEGORIES:Activities,Fireside Room
END:VEVENT
BEGIN:VEVENT
DTSTART;TZID=America/Toronto:20260811T130000
DTEND;TZID=America/Toronto:20260811T160000
DTSTAMP:20260421T111257
CREATED:20260122T154920Z
LAST-MODIFIED:20260122T154920Z
UID:8500-1786453200-1786464000@mapleleafacres.ca
SUMMARY:Bid Euchre
DESCRIPTION:
URL:https://mapleleafacres.ca/event/bid-euchre-184/2026-08-11/
CATEGORIES:Activities,Fireside Room
END:VEVENT
BEGIN:VEVENT
DTSTART;TZID=America/Toronto:20260815T070000
DTEND;TZID=America/Toronto:20260815T140000
DTSTAMP:20260421T111257
CREATED:20251209T201329Z
LAST-MODIFIED:20251209T201329Z
UID:8341-1786777200-1786802400@mapleleafacres.ca
SUMMARY:Craft Sale
DESCRIPTION:
URL:https://mapleleafacres.ca/event/craft-sale-4/
CATEGORIES:Activities,Fireside Room,Rec. Hall
END:VEVENT
BEGIN:VEVENT
DTSTART;TZID=America/Toronto:20260816T130000
DTEND;TZID=America/Toronto:20260816T160000
DTSTAMP:20260421T111257
CREATED:20260122T154759Z
LAST-MODIFIED:20260122T154759Z
UID:8465-1786885200-1786896000@mapleleafacres.ca
SUMMARY:Ramoli
DESCRIPTION:
URL:https://mapleleafacres.ca/event/ramoli/2026-08-16/
CATEGORIES:Activities,Fireside Room
END:VEVENT
BEGIN:VEVENT
DTSTART;TZID=America/Toronto:20260818T130000
DTEND;TZID=America/Toronto:20260818T160000
DTSTAMP:20260421T111257
CREATED:20260122T154920Z
LAST-MODIFIED:20260122T154920Z
UID:8501-1787058000-1787068800@mapleleafacres.ca
SUMMARY:Bid Euchre
DESCRIPTION:
URL:https://mapleleafacres.ca/event/bid-euchre-184/2026-08-18/
CATEGORIES:Activities,Fireside Room
END:VEVENT
BEGIN:VEVENT
DTSTART;TZID=America/Toronto:20260823T130000
DTEND;TZID=America/Toronto:20260823T160000
DTSTAMP:20260421T111257
CREATED:20260122T154759Z
LAST-MODIFIED:20260122T154759Z
UID:8466-1787490000-1787500800@mapleleafacres.ca
SUMMARY:Ramoli
DESCRIPTION:
URL:https://mapleleafacres.ca/event/ramoli/2026-08-23/
CATEGORIES:Activities,Fireside Room
END:VEVENT
BEGIN:VEVENT
DTSTART;TZID=America/Toronto:20260825T130000
DTEND;TZID=America/Toronto:20260825T160000
DTSTAMP:20260421T111257
CREATED:20260122T154920Z
LAST-MODIFIED:20260122T154920Z
UID:8502-1787662800-1787673600@mapleleafacres.ca
SUMMARY:Bid Euchre
DESCRIPTION:
URL:https://mapleleafacres.ca/event/bid-euchre-184/2026-08-25/
CATEGORIES:Activities,Fireside Room
END:VEVENT
BEGIN:VEVENT
DTSTART;TZID=America/Toronto:20260830T130000
DTEND;TZID=America/Toronto:20260830T160000
DTSTAMP:20260421T111257
CREATED:20260122T154759Z
LAST-MODIFIED:20260122T154759Z
UID:8467-1788094800-1788105600@mapleleafacres.ca
SUMMARY:Ramoli
DESCRIPTION:
URL:https://mapleleafacres.ca/event/ramoli/2026-08-30/
CATEGORIES:Activities,Fireside Room
END:VEVENT
BEGIN:VEVENT
DTSTART;TZID=America/Toronto:20260901T130000
DTEND;TZID=America/Toronto:20260901T160000
DTSTAMP:20260421T111257
CREATED:20260122T154920Z
LAST-MODIFIED:20260122T154920Z
UID:8503-1788267600-1788278400@mapleleafacres.ca
SUMMARY:Bid Euchre
DESCRIPTION:
URL:https://mapleleafacres.ca/event/bid-euchre-184/2026-09-01/
CATEGORIES:Activities,Fireside Room
END:VEVENT
BEGIN:VEVENT
DTSTART;TZID=America/Toronto:20260906T130000
DTEND;TZID=America/Toronto:20260906T160000
DTSTAMP:20260421T111257
CREATED:20260122T154759Z
LAST-MODIFIED:20260122T154759Z
UID:8468-1788699600-1788710400@mapleleafacres.ca
SUMMARY:Ramoli
DESCRIPTION:
URL:https://mapleleafacres.ca/event/ramoli/2026-09-06/
CATEGORIES:Activities,Fireside Room
END:VEVENT
BEGIN:VEVENT
DTSTART;TZID=America/Toronto:20260908T130000
DTEND;TZID=America/Toronto:20260908T160000
DTSTAMP:20260421T111257
CREATED:20260122T154920Z
LAST-MODIFIED:20260122T154920Z
UID:8504-1788872400-1788883200@mapleleafacres.ca
SUMMARY:Bid Euchre
DESCRIPTION:
URL:https://mapleleafacres.ca/event/bid-euchre-184/2026-09-08/
CATEGORIES:Activities,Fireside Room
END:VEVENT
BEGIN:VEVENT
DTSTART;TZID=America/Toronto:20260912T200000
DTEND;TZID=America/Toronto:20260912T233000
DTSTAMP:20260421T111257
CREATED:20251210T155109Z
LAST-MODIFIED:20251210T172811Z
UID:8353-1789243200-1789255800@mapleleafacres.ca
SUMMARY:Dance - Jaxseat Driver
DESCRIPTION:
URL:https://mapleleafacres.ca/event/dance-jaxseat-driver/
CATEGORIES:Activities,Fireside Room,Rec. Hall
END:VEVENT
BEGIN:VEVENT
DTSTART;TZID=America/Toronto:20260913T130000
DTEND;TZID=America/Toronto:20260913T160000
DTSTAMP:20260421T111257
CREATED:20260122T154759Z
LAST-MODIFIED:20260122T154759Z
UID:8469-1789304400-1789315200@mapleleafacres.ca
SUMMARY:Ramoli
DESCRIPTION:
URL:https://mapleleafacres.ca/event/ramoli/2026-09-13/
CATEGORIES:Activities,Fireside Room
END:VEVENT
BEGIN:VEVENT
DTSTART;TZID=America/Toronto:20260915T130000
DTEND;TZID=America/Toronto:20260915T160000
DTSTAMP:20260421T111257
CREATED:20260122T154920Z
LAST-MODIFIED:20260122T154920Z
UID:8505-1789477200-1789488000@mapleleafacres.ca
SUMMARY:Bid Euchre
DESCRIPTION:
URL:https://mapleleafacres.ca/event/bid-euchre-184/2026-09-15/
CATEGORIES:Activities,Fireside Room
END:VEVENT
BEGIN:VEVENT
DTSTART;TZID=America/Toronto:20260920T130000
DTEND;TZID=America/Toronto:20260920T160000
DTSTAMP:20260421T111257
CREATED:20260122T154759Z
LAST-MODIFIED:20260122T154759Z
UID:8470-1789909200-1789920000@mapleleafacres.ca
SUMMARY:Ramoli
DESCRIPTION:
URL:https://mapleleafacres.ca/event/ramoli/2026-09-20/
CATEGORIES:Activities,Fireside Room
END:VEVENT
BEGIN:VEVENT
DTSTART;TZID=America/Toronto:20260922T130000
DTEND;TZID=America/Toronto:20260922T160000
DTSTAMP:20260421T111257
CREATED:20260122T154920Z
LAST-MODIFIED:20260122T154920Z
UID:8506-1790082000-1790092800@mapleleafacres.ca
SUMMARY:Bid Euchre
DESCRIPTION:
URL:https://mapleleafacres.ca/event/bid-euchre-184/2026-09-22/
CATEGORIES:Activities,Fireside Room
END:VEVENT
BEGIN:VEVENT
DTSTART;TZID=America/Toronto:20260927T130000
DTEND;TZID=America/Toronto:20260927T160000
DTSTAMP:20260421T111257
CREATED:20260122T154759Z
LAST-MODIFIED:20260122T154759Z
UID:8471-1790514000-1790524800@mapleleafacres.ca
SUMMARY:Ramoli
DESCRIPTION:
URL:https://mapleleafacres.ca/event/ramoli/2026-09-27/
CATEGORIES:Activities,Fireside Room
END:VEVENT
BEGIN:VEVENT
DTSTART;TZID=America/Toronto:20260929T130000
DTEND;TZID=America/Toronto:20260929T160000
DTSTAMP:20260421T111257
CREATED:20260122T154920Z
LAST-MODIFIED:20260122T154920Z
UID:8507-1790686800-1790697600@mapleleafacres.ca
SUMMARY:Bid Euchre
DESCRIPTION:
URL:https://mapleleafacres.ca/event/bid-euchre-184/2026-09-29/
CATEGORIES:Activities,Fireside Room
END:VEVENT
BEGIN:VEVENT
DTSTART;TZID=America/Toronto:20261004T130000
DTEND;TZID=America/Toronto:20261004T160000
DTSTAMP:20260421T111257
CREATED:20260122T154759Z
LAST-MODIFIED:20260122T154759Z
UID:8472-1791118800-1791129600@mapleleafacres.ca
SUMMARY:Ramoli
DESCRIPTION:
URL:https://mapleleafacres.ca/event/ramoli/2026-10-04/
CATEGORIES:Activities,Fireside Room
END:VEVENT
END:VCALENDAR