BEGIN:VCALENDAR
VERSION:2.0
PRODID:-//Maple Leaf Acres - ECPv6.15.18//NONSGML v1.0//EN
CALSCALE:GREGORIAN
METHOD:PUBLISH
X-WR-CALNAME:Maple Leaf Acres
X-ORIGINAL-URL:https://mapleleafacres.ca
X-WR-CALDESC:Events for Maple Leaf Acres
REFRESH-INTERVAL;VALUE=DURATION:PT1H
X-Robots-Tag:noindex
X-PUBLISHED-TTL:PT1H
BEGIN:VTIMEZONE
TZID:America/Toronto
BEGIN:DAYLIGHT
TZOFFSETFROM:-0500
TZOFFSETTO:-0400
TZNAME:EDT
DTSTART:20250309T070000
END:DAYLIGHT
BEGIN:STANDARD
TZOFFSETFROM:-0400
TZOFFSETTO:-0500
TZNAME:EST
DTSTART:20251102T060000
END:STANDARD
BEGIN:DAYLIGHT
TZOFFSETFROM:-0500
TZOFFSETTO:-0400
TZNAME:EDT
DTSTART:20260308T070000
END:DAYLIGHT
BEGIN:STANDARD
TZOFFSETFROM:-0400
TZOFFSETTO:-0500
TZNAME:EST
DTSTART:20261101T060000
END:STANDARD
BEGIN:DAYLIGHT
TZOFFSETFROM:-0500
TZOFFSETTO:-0400
TZNAME:EDT
DTSTART:20270314T070000
END:DAYLIGHT
BEGIN:STANDARD
TZOFFSETFROM:-0400
TZOFFSETTO:-0500
TZNAME:EST
DTSTART:20271107T060000
END:STANDARD
END:VTIMEZONE
BEGIN:VEVENT
DTSTART;TZID=America/Toronto:20260927T130000
DTEND;TZID=America/Toronto:20260927T160000
DTSTAMP:20260419T092621
CREATED:20260122T154759Z
LAST-MODIFIED:20260122T154759Z
UID:8471-1790514000-1790524800@mapleleafacres.ca
SUMMARY:Ramoli
DESCRIPTION:
URL:https://mapleleafacres.ca/event/ramoli/2026-09-27/
CATEGORIES:Activities,Fireside Room
END:VEVENT
BEGIN:VEVENT
DTSTART;TZID=America/Toronto:20260929T130000
DTEND;TZID=America/Toronto:20260929T160000
DTSTAMP:20260419T092621
CREATED:20260122T154920Z
LAST-MODIFIED:20260122T154920Z
UID:8507-1790686800-1790697600@mapleleafacres.ca
SUMMARY:Bid Euchre
DESCRIPTION:
URL:https://mapleleafacres.ca/event/bid-euchre-184/2026-09-29/
CATEGORIES:Activities,Fireside Room
END:VEVENT
BEGIN:VEVENT
DTSTART;TZID=America/Toronto:20261004T130000
DTEND;TZID=America/Toronto:20261004T160000
DTSTAMP:20260419T092621
CREATED:20260122T154759Z
LAST-MODIFIED:20260122T154759Z
UID:8472-1791118800-1791129600@mapleleafacres.ca
SUMMARY:Ramoli
DESCRIPTION:
URL:https://mapleleafacres.ca/event/ramoli/2026-10-04/
CATEGORIES:Activities,Fireside Room
END:VEVENT
BEGIN:VEVENT
DTSTART;TZID=America/Toronto:20261006T130000
DTEND;TZID=America/Toronto:20261006T160000
DTSTAMP:20260419T092621
CREATED:20260122T154920Z
LAST-MODIFIED:20260122T154920Z
UID:8508-1791291600-1791302400@mapleleafacres.ca
SUMMARY:Bid Euchre
DESCRIPTION:
URL:https://mapleleafacres.ca/event/bid-euchre-184/2026-10-06/
CATEGORIES:Activities,Fireside Room
END:VEVENT
BEGIN:VEVENT
DTSTART;TZID=America/Toronto:20261010T200000
DTEND;TZID=America/Toronto:20261010T233000
DTSTAMP:20260419T092621
CREATED:20251210T155302Z
LAST-MODIFIED:20251210T172854Z
UID:8357-1791662400-1791675000@mapleleafacres.ca
SUMMARY:Last Dance - Poverty's Arse
DESCRIPTION:
URL:https://mapleleafacres.ca/event/last-dance-povertys-arse/
CATEGORIES:Activities,Fireside Room,Rec. Hall
END:VEVENT
BEGIN:VEVENT
DTSTART;TZID=America/Toronto:20261011T130000
DTEND;TZID=America/Toronto:20261011T160000
DTSTAMP:20260419T092621
CREATED:20260122T154759Z
LAST-MODIFIED:20260122T154759Z
UID:8473-1791723600-1791734400@mapleleafacres.ca
SUMMARY:Ramoli
DESCRIPTION:
URL:https://mapleleafacres.ca/event/ramoli/2026-10-11/
CATEGORIES:Activities,Fireside Room
END:VEVENT
BEGIN:VEVENT
DTSTART;TZID=America/Toronto:20261013T130000
DTEND;TZID=America/Toronto:20261013T160000
DTSTAMP:20260419T092621
CREATED:20260122T154920Z
LAST-MODIFIED:20260122T154920Z
UID:8509-1791896400-1791907200@mapleleafacres.ca
SUMMARY:Bid Euchre
DESCRIPTION:
URL:https://mapleleafacres.ca/event/bid-euchre-184/2026-10-13/
CATEGORIES:Activities,Fireside Room
END:VEVENT
BEGIN:VEVENT
DTSTART;TZID=America/Toronto:20261018T130000
DTEND;TZID=America/Toronto:20261018T160000
DTSTAMP:20260419T092621
CREATED:20260122T154759Z
LAST-MODIFIED:20260122T154759Z
UID:8474-1792328400-1792339200@mapleleafacres.ca
SUMMARY:Ramoli
DESCRIPTION:
URL:https://mapleleafacres.ca/event/ramoli/2026-10-18/
CATEGORIES:Activities,Fireside Room
END:VEVENT
BEGIN:VEVENT
DTSTART;TZID=America/Toronto:20261020T130000
DTEND;TZID=America/Toronto:20261020T160000
DTSTAMP:20260419T092621
CREATED:20260122T154920Z
LAST-MODIFIED:20260122T154920Z
UID:8510-1792501200-1792512000@mapleleafacres.ca
SUMMARY:Bid Euchre
DESCRIPTION:
URL:https://mapleleafacres.ca/event/bid-euchre-184/2026-10-20/
CATEGORIES:Activities,Fireside Room
END:VEVENT
BEGIN:VEVENT
DTSTART;TZID=America/Toronto:20261025T130000
DTEND;TZID=America/Toronto:20261025T160000
DTSTAMP:20260419T092621
CREATED:20260122T154759Z
LAST-MODIFIED:20260122T154759Z
UID:8475-1792933200-1792944000@mapleleafacres.ca
SUMMARY:Ramoli
DESCRIPTION:
URL:https://mapleleafacres.ca/event/ramoli/2026-10-25/
CATEGORIES:Activities,Fireside Room
END:VEVENT
BEGIN:VEVENT
DTSTART;TZID=America/Toronto:20261027T130000
DTEND;TZID=America/Toronto:20261027T160000
DTSTAMP:20260419T092621
CREATED:20260122T154920Z
LAST-MODIFIED:20260122T154920Z
UID:8511-1793106000-1793116800@mapleleafacres.ca
SUMMARY:Bid Euchre
DESCRIPTION:
URL:https://mapleleafacres.ca/event/bid-euchre-184/2026-10-27/
CATEGORIES:Activities,Fireside Room
END:VEVENT
BEGIN:VEVENT
DTSTART;TZID=America/Toronto:20261101T130000
DTEND;TZID=America/Toronto:20261101T160000
DTSTAMP:20260419T092621
CREATED:20260122T154759Z
LAST-MODIFIED:20260122T154759Z
UID:8476-1793538000-1793548800@mapleleafacres.ca
SUMMARY:Ramoli
DESCRIPTION:
URL:https://mapleleafacres.ca/event/ramoli/2026-11-01/
CATEGORIES:Activities,Fireside Room
END:VEVENT
BEGIN:VEVENT
DTSTART;TZID=America/Toronto:20261103T130000
DTEND;TZID=America/Toronto:20261103T160000
DTSTAMP:20260419T092621
CREATED:20260122T154920Z
LAST-MODIFIED:20260122T154920Z
UID:8512-1793710800-1793721600@mapleleafacres.ca
SUMMARY:Bid Euchre
DESCRIPTION:
URL:https://mapleleafacres.ca/event/bid-euchre-184/2026-11-03/
CATEGORIES:Activities,Fireside Room
END:VEVENT
BEGIN:VEVENT
DTSTART;TZID=America/Toronto:20261108T130000
DTEND;TZID=America/Toronto:20261108T160000
DTSTAMP:20260419T092621
CREATED:20260122T154759Z
LAST-MODIFIED:20260122T154759Z
UID:8477-1794142800-1794153600@mapleleafacres.ca
SUMMARY:Ramoli
DESCRIPTION:
URL:https://mapleleafacres.ca/event/ramoli/2026-11-08/
CATEGORIES:Activities,Fireside Room
END:VEVENT
BEGIN:VEVENT
DTSTART;TZID=America/Toronto:20261110T130000
DTEND;TZID=America/Toronto:20261110T160000
DTSTAMP:20260419T092621
CREATED:20260122T154920Z
LAST-MODIFIED:20260122T154920Z
UID:8513-1794315600-1794326400@mapleleafacres.ca
SUMMARY:Bid Euchre
DESCRIPTION:
URL:https://mapleleafacres.ca/event/bid-euchre-184/2026-11-10/
CATEGORIES:Activities,Fireside Room
END:VEVENT
BEGIN:VEVENT
DTSTART;TZID=America/Toronto:20261115T130000
DTEND;TZID=America/Toronto:20261115T160000
DTSTAMP:20260419T092621
CREATED:20260122T154759Z
LAST-MODIFIED:20260122T154759Z
UID:8478-1794747600-1794758400@mapleleafacres.ca
SUMMARY:Ramoli
DESCRIPTION:
URL:https://mapleleafacres.ca/event/ramoli/2026-11-15/
CATEGORIES:Activities,Fireside Room
END:VEVENT
BEGIN:VEVENT
DTSTART;TZID=America/Toronto:20261117T130000
DTEND;TZID=America/Toronto:20261117T160000
DTSTAMP:20260419T092621
CREATED:20260122T154920Z
LAST-MODIFIED:20260122T154920Z
UID:8514-1794920400-1794931200@mapleleafacres.ca
SUMMARY:Bid Euchre
DESCRIPTION:
URL:https://mapleleafacres.ca/event/bid-euchre-184/2026-11-17/
CATEGORIES:Activities,Fireside Room
END:VEVENT
BEGIN:VEVENT
DTSTART;TZID=America/Toronto:20261122T130000
DTEND;TZID=America/Toronto:20261122T160000
DTSTAMP:20260419T092621
CREATED:20260122T154759Z
LAST-MODIFIED:20260122T154759Z
UID:8479-1795352400-1795363200@mapleleafacres.ca
SUMMARY:Ramoli
DESCRIPTION:
URL:https://mapleleafacres.ca/event/ramoli/2026-11-22/
CATEGORIES:Activities,Fireside Room
END:VEVENT
BEGIN:VEVENT
DTSTART;TZID=America/Toronto:20261124T130000
DTEND;TZID=America/Toronto:20261124T160000
DTSTAMP:20260419T092621
CREATED:20260122T154920Z
LAST-MODIFIED:20260122T154920Z
UID:8515-1795525200-1795536000@mapleleafacres.ca
SUMMARY:Bid Euchre
DESCRIPTION:
URL:https://mapleleafacres.ca/event/bid-euchre-184/2026-11-24/
CATEGORIES:Activities,Fireside Room
END:VEVENT
BEGIN:VEVENT
DTSTART;TZID=America/Toronto:20261129T130000
DTEND;TZID=America/Toronto:20261129T160000
DTSTAMP:20260419T092621
CREATED:20260122T154759Z
LAST-MODIFIED:20260122T154759Z
UID:8480-1795957200-1795968000@mapleleafacres.ca
SUMMARY:Ramoli
DESCRIPTION:
URL:https://mapleleafacres.ca/event/ramoli/2026-11-29/
CATEGORIES:Activities,Fireside Room
END:VEVENT
BEGIN:VEVENT
DTSTART;TZID=America/Toronto:20261201T130000
DTEND;TZID=America/Toronto:20261201T160000
DTSTAMP:20260419T092621
CREATED:20260122T154920Z
LAST-MODIFIED:20260122T154920Z
UID:8516-1796130000-1796140800@mapleleafacres.ca
SUMMARY:Bid Euchre
DESCRIPTION:
URL:https://mapleleafacres.ca/event/bid-euchre-184/2026-12-01/
CATEGORIES:Activities,Fireside Room
END:VEVENT
BEGIN:VEVENT
DTSTART;TZID=America/Toronto:20261206T130000
DTEND;TZID=America/Toronto:20261206T160000
DTSTAMP:20260419T092621
CREATED:20260122T154759Z
LAST-MODIFIED:20260122T154759Z
UID:8481-1796562000-1796572800@mapleleafacres.ca
SUMMARY:Ramoli
DESCRIPTION:
URL:https://mapleleafacres.ca/event/ramoli/2026-12-06/
CATEGORIES:Activities,Fireside Room
END:VEVENT
BEGIN:VEVENT
DTSTART;TZID=America/Toronto:20261208T130000
DTEND;TZID=America/Toronto:20261208T160000
DTSTAMP:20260419T092621
CREATED:20260122T154920Z
LAST-MODIFIED:20260122T154920Z
UID:8517-1796734800-1796745600@mapleleafacres.ca
SUMMARY:Bid Euchre
DESCRIPTION:
URL:https://mapleleafacres.ca/event/bid-euchre-184/2026-12-08/
CATEGORIES:Activities,Fireside Room
END:VEVENT
BEGIN:VEVENT
DTSTART;TZID=America/Toronto:20261213T130000
DTEND;TZID=America/Toronto:20261213T160000
DTSTAMP:20260419T092621
CREATED:20260122T154759Z
LAST-MODIFIED:20260122T154759Z
UID:8482-1797166800-1797177600@mapleleafacres.ca
SUMMARY:Ramoli
DESCRIPTION:
URL:https://mapleleafacres.ca/event/ramoli/2026-12-13/
CATEGORIES:Activities,Fireside Room
END:VEVENT
BEGIN:VEVENT
DTSTART;TZID=America/Toronto:20261215T130000
DTEND;TZID=America/Toronto:20261215T160000
DTSTAMP:20260419T092621
CREATED:20260122T154920Z
LAST-MODIFIED:20260122T154920Z
UID:8518-1797339600-1797350400@mapleleafacres.ca
SUMMARY:Bid Euchre
DESCRIPTION:
URL:https://mapleleafacres.ca/event/bid-euchre-184/2026-12-15/
CATEGORIES:Activities,Fireside Room
END:VEVENT
BEGIN:VEVENT
DTSTART;TZID=America/Toronto:20261220T130000
DTEND;TZID=America/Toronto:20261220T160000
DTSTAMP:20260419T092621
CREATED:20260122T154759Z
LAST-MODIFIED:20260122T154759Z
UID:8483-1797771600-1797782400@mapleleafacres.ca
SUMMARY:Ramoli
DESCRIPTION:
URL:https://mapleleafacres.ca/event/ramoli/2026-12-20/
CATEGORIES:Activities,Fireside Room
END:VEVENT
BEGIN:VEVENT
DTSTART;TZID=America/Toronto:20261222T130000
DTEND;TZID=America/Toronto:20261222T160000
DTSTAMP:20260419T092621
CREATED:20260122T154920Z
LAST-MODIFIED:20260122T154920Z
UID:8519-1797944400-1797955200@mapleleafacres.ca
SUMMARY:Bid Euchre
DESCRIPTION:
URL:https://mapleleafacres.ca/event/bid-euchre-184/2026-12-22/
CATEGORIES:Activities,Fireside Room
END:VEVENT
BEGIN:VEVENT
DTSTART;TZID=America/Toronto:20261224T190000
DTEND;TZID=America/Toronto:20261224T220000
DTSTAMP:20260419T092621
CREATED:20260327T150407Z
LAST-MODIFIED:20260327T150407Z
UID:8737-1798138800-1798149600@mapleleafacres.ca
SUMMARY:Christmas Carols
DESCRIPTION:
URL:https://mapleleafacres.ca/event/christmas-carols-2/
CATEGORIES:Activities,Fireside Room
END:VEVENT
BEGIN:VEVENT
DTSTART;TZID=America/Toronto:20261227T130000
DTEND;TZID=America/Toronto:20261227T160000
DTSTAMP:20260419T092621
CREATED:20260122T154759Z
LAST-MODIFIED:20260122T154759Z
UID:8484-1798376400-1798387200@mapleleafacres.ca
SUMMARY:Ramoli
DESCRIPTION:
URL:https://mapleleafacres.ca/event/ramoli/2026-12-27/
CATEGORIES:Activities,Fireside Room
END:VEVENT
BEGIN:VEVENT
DTSTART;TZID=America/Toronto:20261229T130000
DTEND;TZID=America/Toronto:20261229T160000
DTSTAMP:20260419T092621
CREATED:20260122T154920Z
LAST-MODIFIED:20260122T154920Z
UID:8520-1798549200-1798560000@mapleleafacres.ca
SUMMARY:Bid Euchre
DESCRIPTION:
URL:https://mapleleafacres.ca/event/bid-euchre-184/2026-12-29/
CATEGORIES:Activities,Fireside Room
END:VEVENT
END:VCALENDAR