BEGIN:VCALENDAR
VERSION:2.0
PRODID:-//Maple Leaf Acres - ECPv6.15.18//NONSGML v1.0//EN
CALSCALE:GREGORIAN
METHOD:PUBLISH
X-WR-CALNAME:Maple Leaf Acres
X-ORIGINAL-URL:https://mapleleafacres.ca
X-WR-CALDESC:Events for Maple Leaf Acres
REFRESH-INTERVAL;VALUE=DURATION:PT1H
X-Robots-Tag:noindex
X-PUBLISHED-TTL:PT1H
BEGIN:VTIMEZONE
TZID:America/Toronto
BEGIN:DAYLIGHT
TZOFFSETFROM:-0500
TZOFFSETTO:-0400
TZNAME:EDT
DTSTART:20210314T070000
END:DAYLIGHT
BEGIN:STANDARD
TZOFFSETFROM:-0400
TZOFFSETTO:-0500
TZNAME:EST
DTSTART:20211107T060000
END:STANDARD
BEGIN:DAYLIGHT
TZOFFSETFROM:-0500
TZOFFSETTO:-0400
TZNAME:EDT
DTSTART:20220313T070000
END:DAYLIGHT
BEGIN:STANDARD
TZOFFSETFROM:-0400
TZOFFSETTO:-0500
TZNAME:EST
DTSTART:20221106T060000
END:STANDARD
BEGIN:DAYLIGHT
TZOFFSETFROM:-0500
TZOFFSETTO:-0400
TZNAME:EDT
DTSTART:20230312T070000
END:DAYLIGHT
BEGIN:STANDARD
TZOFFSETFROM:-0400
TZOFFSETTO:-0500
TZNAME:EST
DTSTART:20231105T060000
END:STANDARD
BEGIN:DAYLIGHT
TZOFFSETFROM:-0500
TZOFFSETTO:-0400
TZNAME:EDT
DTSTART:20240310T070000
END:DAYLIGHT
BEGIN:STANDARD
TZOFFSETFROM:-0400
TZOFFSETTO:-0500
TZNAME:EST
DTSTART:20241103T060000
END:STANDARD
BEGIN:DAYLIGHT
TZOFFSETFROM:-0500
TZOFFSETTO:-0400
TZNAME:EDT
DTSTART:20250309T070000
END:DAYLIGHT
BEGIN:STANDARD
TZOFFSETFROM:-0400
TZOFFSETTO:-0500
TZNAME:EST
DTSTART:20251102T060000
END:STANDARD
BEGIN:DAYLIGHT
TZOFFSETFROM:-0500
TZOFFSETTO:-0400
TZNAME:EDT
DTSTART:20260308T070000
END:DAYLIGHT
BEGIN:STANDARD
TZOFFSETFROM:-0400
TZOFFSETTO:-0500
TZNAME:EST
DTSTART:20261101T060000
END:STANDARD
END:VTIMEZONE
BEGIN:VEVENT
DTSTART;TZID=America/Toronto:20250906T190000
DTEND;TZID=America/Toronto:20250906T210000
DTSTAMP:20260419T233008
CREATED:20241105T192956Z
LAST-MODIFIED:20241105T192956Z
UID:6913-1757185200-1757192400@mapleleafacres.ca
SUMMARY:Light Parade
DESCRIPTION:
URL:https://mapleleafacres.ca/event/light-parade-2/
CATEGORIES:Activities,MLA Events
END:VEVENT
BEGIN:VEVENT
DTSTART;TZID=America/Toronto:20250816T080000
DTEND;TZID=America/Toronto:20250816T170000
DTSTAMP:20260419T233008
CREATED:20241105T184932Z
LAST-MODIFIED:20241105T184945Z
UID:6905-1755331200-1755363600@mapleleafacres.ca
SUMMARY:Garage Sale
DESCRIPTION:
URL:https://mapleleafacres.ca/event/garage-sale-4/
CATEGORIES:Activities,MLA Events,Rec. Hall
END:VEVENT
BEGIN:VEVENT
DTSTART;TZID=America/Toronto:20250803T080000
DTEND;TZID=America/Toronto:20250803T170000
DTSTAMP:20260419T233008
CREATED:20241101T175515Z
LAST-MODIFIED:20241101T175515Z
UID:6892-1754208000-1754240400@mapleleafacres.ca
SUMMARY:Horseshoe Tournment
DESCRIPTION:
URL:https://mapleleafacres.ca/event/horseshoe-tournment-2/
CATEGORIES:Activities,MLA Events
END:VEVENT
BEGIN:VEVENT
DTSTART;TZID=America/Toronto:20250719T200000
DTEND;TZID=America/Toronto:20250719T233000
DTSTAMP:20260419T233008
CREATED:20241101T175111Z
LAST-MODIFIED:20241101T175111Z
UID:6886-1752955200-1752967800@mapleleafacres.ca
SUMMARY:Movie Night under the Stars
DESCRIPTION:
URL:https://mapleleafacres.ca/event/movie-night-under-the-stars-3/
CATEGORIES:Activities,MLA Events
END:VEVENT
BEGIN:VEVENT
DTSTART;TZID=America/Toronto:20250629T100000
DTEND;TZID=America/Toronto:20250629T120000
DTSTAMP:20260419T233008
CREATED:20241031T143452Z
LAST-MODIFIED:20241031T143452Z
UID:6874-1751191200-1751198400@mapleleafacres.ca
SUMMARY:Horseshoe Tournament
DESCRIPTION:
URL:https://mapleleafacres.ca/event/horseshoe-tournament-7/
CATEGORIES:Activities,MLA Events
END:VEVENT
BEGIN:VEVENT
DTSTART;TZID=America/Toronto:20250628T210000
DTEND;TZID=America/Toronto:20250628T210000
DTSTAMP:20260419T233008
CREATED:20241031T143256Z
LAST-MODIFIED:20241031T143256Z
UID:6870-1751144400-1751144400@mapleleafacres.ca
SUMMARY:Fireworks
DESCRIPTION:
URL:https://mapleleafacres.ca/event/fireworks/
CATEGORIES:Activities,MLA Events
END:VEVENT
BEGIN:VEVENT
DTSTART;TZID=America/Toronto:20240615T110000
DTEND;TZID=America/Toronto:20240615T140000
DTSTAMP:20260419T233008
CREATED:20240131T192923Z
LAST-MODIFIED:20240131T192923Z
UID:6177-1718449200-1718460000@mapleleafacres.ca
SUMMARY:Poker Run
DESCRIPTION:
URL:https://mapleleafacres.ca/event/poker-run-4/
CATEGORIES:Activities,MLA Events
END:VEVENT
BEGIN:VEVENT
DTSTART;TZID=America/Toronto:20230603T110000
DTEND;TZID=America/Toronto:20230603T170000
DTSTAMP:20260419T233008
CREATED:20230322T152444Z
LAST-MODIFIED:20230414T141109Z
UID:4996-1685790000-1685811600@mapleleafacres.ca
SUMMARY:Clean up @ the lake
DESCRIPTION:Calling ALL volunteers!!
URL:https://mapleleafacres.ca/event/clean-up-the-lake/
CATEGORIES:Activities,MLA Events
END:VEVENT
BEGIN:VEVENT
DTSTART;TZID=America/Toronto:20220730T213000
DTEND;TZID=America/Toronto:20220730T213000
DTSTAMP:20260419T233008
CREATED:20220720T195917Z
LAST-MODIFIED:20220720T195917Z
UID:3743-1659216600-1659216600@mapleleafacres.ca
SUMMARY:Festival of lights
DESCRIPTION:Judging will take place once it is dark.  Prizes will be distributed July 31 \n1st\, 2nd and 3rd prizes \n 
URL:https://mapleleafacres.ca/event/festival-of-lights/
CATEGORIES:MLA Events
END:VEVENT
END:VCALENDAR