BEGIN:VCALENDAR
VERSION:2.0
PRODID:-//Maple Leaf Acres - ECPv6.15.18//NONSGML v1.0//EN
CALSCALE:GREGORIAN
METHOD:PUBLISH
X-ORIGINAL-URL:https://mapleleafacres.ca
X-WR-CALDESC:Events for Maple Leaf Acres
REFRESH-INTERVAL;VALUE=DURATION:PT1H
X-Robots-Tag:noindex
X-PUBLISHED-TTL:PT1H
BEGIN:VTIMEZONE
TZID:America/Toronto
BEGIN:DAYLIGHT
TZOFFSETFROM:-0500
TZOFFSETTO:-0400
TZNAME:EDT
DTSTART:20250309T070000
END:DAYLIGHT
BEGIN:STANDARD
TZOFFSETFROM:-0400
TZOFFSETTO:-0500
TZNAME:EST
DTSTART:20251102T060000
END:STANDARD
BEGIN:DAYLIGHT
TZOFFSETFROM:-0500
TZOFFSETTO:-0400
TZNAME:EDT
DTSTART:20260308T070000
END:DAYLIGHT
BEGIN:STANDARD
TZOFFSETFROM:-0400
TZOFFSETTO:-0500
TZNAME:EST
DTSTART:20261101T060000
END:STANDARD
BEGIN:DAYLIGHT
TZOFFSETFROM:-0500
TZOFFSETTO:-0400
TZNAME:EDT
DTSTART:20270314T070000
END:DAYLIGHT
BEGIN:STANDARD
TZOFFSETFROM:-0400
TZOFFSETTO:-0500
TZNAME:EST
DTSTART:20271107T060000
END:STANDARD
END:VTIMEZONE
BEGIN:VEVENT
DTSTART;TZID=America/Toronto:20260318T180000
DTEND;TZID=America/Toronto:20260318T230000
DTSTAMP:20260423T011401
CREATED:20250915T174130Z
LAST-MODIFIED:20250915T174547Z
UID:7769-1773856800-1773874800@mapleleafacres.ca
SUMMARY:Darts
DESCRIPTION:
URL:https://mapleleafacres.ca/event/darts-49/2026-03-18/
CATEGORIES:Activities,Rec. Hall
END:VEVENT
BEGIN:VEVENT
DTSTART;TZID=America/Toronto:20260320T133000
DTEND;TZID=America/Toronto:20260320T160000
DTSTAMP:20260423T011401
CREATED:20250922T154348Z
LAST-MODIFIED:20250922T154348Z
UID:8035-1774013400-1774022400@mapleleafacres.ca
SUMMARY:Shuffle Board
DESCRIPTION:
URL:https://mapleleafacres.ca/event/shuffle-board-52/2026-03-20/
CATEGORIES:Activities,Rec. Hall
END:VEVENT
BEGIN:VEVENT
DTSTART;TZID=America/Toronto:20260321T120000
DTEND;TZID=America/Toronto:20260321T160000
DTSTAMP:20260423T011401
CREATED:20250922T152921Z
LAST-MODIFIED:20250922T152921Z
UID:7932-1774094400-1774108800@mapleleafacres.ca
SUMMARY:Corn Hole
DESCRIPTION:
URL:https://mapleleafacres.ca/event/corn-hole-2/2026-03-21/
CATEGORIES:Activities,Rec. Hall
END:VEVENT
BEGIN:VEVENT
DTSTART;TZID=America/Toronto:20260321T180000
DTEND;TZID=America/Toronto:20260321T230000
DTSTAMP:20260423T011401
CREATED:20250915T174130Z
LAST-MODIFIED:20250915T174130Z
UID:7797-1774116000-1774134000@mapleleafacres.ca
SUMMARY:Darts
DESCRIPTION:
URL:https://mapleleafacres.ca/event/darts-49/2026-03-21/
CATEGORIES:Activities,Rec. Hall
END:VEVENT
BEGIN:VEVENT
DTSTART;TZID=America/Toronto:20260325T180000
DTEND;TZID=America/Toronto:20260325T230000
DTSTAMP:20260423T011401
CREATED:20250915T174130Z
LAST-MODIFIED:20250915T174547Z
UID:7770-1774461600-1774479600@mapleleafacres.ca
SUMMARY:Darts
DESCRIPTION:
URL:https://mapleleafacres.ca/event/darts-49/2026-03-25/
CATEGORIES:Activities,Rec. Hall
END:VEVENT
BEGIN:VEVENT
DTSTART;TZID=America/Toronto:20260327T133000
DTEND;TZID=America/Toronto:20260327T160000
DTSTAMP:20260423T011401
CREATED:20250922T154348Z
LAST-MODIFIED:20250922T154348Z
UID:8036-1774618200-1774627200@mapleleafacres.ca
SUMMARY:Shuffle Board
DESCRIPTION:
URL:https://mapleleafacres.ca/event/shuffle-board-52/2026-03-27/
CATEGORIES:Activities,Rec. Hall
END:VEVENT
BEGIN:VEVENT
DTSTART;TZID=America/Toronto:20260328T120000
DTEND;TZID=America/Toronto:20260328T160000
DTSTAMP:20260423T011401
CREATED:20250922T152921Z
LAST-MODIFIED:20250922T152921Z
UID:7933-1774699200-1774713600@mapleleafacres.ca
SUMMARY:Corn Hole
DESCRIPTION:
URL:https://mapleleafacres.ca/event/corn-hole-2/2026-03-28/
CATEGORIES:Activities,Rec. Hall
END:VEVENT
BEGIN:VEVENT
DTSTART;TZID=America/Toronto:20260328T180000
DTEND;TZID=America/Toronto:20260328T230000
DTSTAMP:20260423T011401
CREATED:20250915T174130Z
LAST-MODIFIED:20250915T174130Z
UID:7798-1774720800-1774738800@mapleleafacres.ca
SUMMARY:Darts
DESCRIPTION:
URL:https://mapleleafacres.ca/event/darts-49/2026-03-28/
CATEGORIES:Activities,Rec. Hall
END:VEVENT
BEGIN:VEVENT
DTSTART;TZID=America/Toronto:20260401T180000
DTEND;TZID=America/Toronto:20260401T230000
DTSTAMP:20260423T011401
CREATED:20250915T174130Z
LAST-MODIFIED:20250915T174547Z
UID:7771-1775066400-1775084400@mapleleafacres.ca
SUMMARY:Darts
DESCRIPTION:
URL:https://mapleleafacres.ca/event/darts-49/2026-04-01/
CATEGORIES:Activities,Rec. Hall
END:VEVENT
BEGIN:VEVENT
DTSTART;TZID=America/Toronto:20260403T133000
DTEND;TZID=America/Toronto:20260403T160000
DTSTAMP:20260423T011401
CREATED:20250922T154348Z
LAST-MODIFIED:20250922T154348Z
UID:8037-1775223000-1775232000@mapleleafacres.ca
SUMMARY:Shuffle Board
DESCRIPTION:
URL:https://mapleleafacres.ca/event/shuffle-board-52/2026-04-03/
CATEGORIES:Activities,Rec. Hall
END:VEVENT
BEGIN:VEVENT
DTSTART;TZID=America/Toronto:20260403T200000
DTEND;TZID=America/Toronto:20260403T220000
DTSTAMP:20260423T011401
CREATED:20251209T161242Z
LAST-MODIFIED:20251209T161242Z
UID:8281-1775246400-1775253600@mapleleafacres.ca
SUMMARY:Bingo
DESCRIPTION:
URL:https://mapleleafacres.ca/event/bingo-26/2026-04-03/
CATEGORIES:Activities,Rec. Hall
END:VEVENT
BEGIN:VEVENT
DTSTART;TZID=America/Toronto:20260404T120000
DTEND;TZID=America/Toronto:20260404T160000
DTSTAMP:20260423T011401
CREATED:20250922T152921Z
LAST-MODIFIED:20250922T152921Z
UID:7934-1775304000-1775318400@mapleleafacres.ca
SUMMARY:Corn Hole
DESCRIPTION:
URL:https://mapleleafacres.ca/event/corn-hole-2/2026-04-04/
CATEGORIES:Activities,Rec. Hall
END:VEVENT
BEGIN:VEVENT
DTSTART;TZID=America/Toronto:20260404T180000
DTEND;TZID=America/Toronto:20260404T230000
DTSTAMP:20260423T011401
CREATED:20250915T174130Z
LAST-MODIFIED:20250915T174130Z
UID:7799-1775325600-1775343600@mapleleafacres.ca
SUMMARY:Darts
DESCRIPTION:
URL:https://mapleleafacres.ca/event/darts-49/2026-04-04/
CATEGORIES:Activities,Rec. Hall
END:VEVENT
BEGIN:VEVENT
DTSTART;TZID=America/Toronto:20260408T180000
DTEND;TZID=America/Toronto:20260408T230000
DTSTAMP:20260423T011401
CREATED:20250915T174130Z
LAST-MODIFIED:20250915T174549Z
UID:7772-1775671200-1775689200@mapleleafacres.ca
SUMMARY:Darts
DESCRIPTION:
URL:https://mapleleafacres.ca/event/darts-49/2026-04-08/
CATEGORIES:Activities,Rec. Hall
END:VEVENT
BEGIN:VEVENT
DTSTART;TZID=America/Toronto:20260410T133000
DTEND;TZID=America/Toronto:20260410T160000
DTSTAMP:20260423T011401
CREATED:20250922T154348Z
LAST-MODIFIED:20250922T154348Z
UID:8038-1775827800-1775836800@mapleleafacres.ca
SUMMARY:Shuffle Board
DESCRIPTION:
URL:https://mapleleafacres.ca/event/shuffle-board-52/2026-04-10/
CATEGORIES:Activities,Rec. Hall
END:VEVENT
BEGIN:VEVENT
DTSTART;TZID=America/Toronto:20260410T200000
DTEND;TZID=America/Toronto:20260410T220000
DTSTAMP:20260423T011401
CREATED:20251209T161242Z
LAST-MODIFIED:20251209T161242Z
UID:8282-1775851200-1775858400@mapleleafacres.ca
SUMMARY:Bingo
DESCRIPTION:
URL:https://mapleleafacres.ca/event/bingo-26/2026-04-10/
CATEGORIES:Activities,Rec. Hall
END:VEVENT
BEGIN:VEVENT
DTSTART;TZID=America/Toronto:20260411T120000
DTEND;TZID=America/Toronto:20260411T160000
DTSTAMP:20260423T011401
CREATED:20250922T152921Z
LAST-MODIFIED:20250922T152921Z
UID:7935-1775908800-1775923200@mapleleafacres.ca
SUMMARY:Corn Hole
DESCRIPTION:
URL:https://mapleleafacres.ca/event/corn-hole-2/2026-04-11/
CATEGORIES:Activities,Rec. Hall
END:VEVENT
BEGIN:VEVENT
DTSTART;TZID=America/Toronto:20260411T180000
DTEND;TZID=America/Toronto:20260411T230000
DTSTAMP:20260423T011401
CREATED:20250915T174130Z
LAST-MODIFIED:20250915T174130Z
UID:7800-1775930400-1775948400@mapleleafacres.ca
SUMMARY:Darts
DESCRIPTION:
URL:https://mapleleafacres.ca/event/darts-49/2026-04-11/
CATEGORIES:Activities,Rec. Hall
END:VEVENT
BEGIN:VEVENT
DTSTART;TZID=America/Toronto:20260415T180000
DTEND;TZID=America/Toronto:20260415T230000
DTSTAMP:20260423T011401
CREATED:20250915T174130Z
LAST-MODIFIED:20250915T174551Z
UID:7773-1776276000-1776294000@mapleleafacres.ca
SUMMARY:Darts
DESCRIPTION:
URL:https://mapleleafacres.ca/event/darts-49/2026-04-15/
CATEGORIES:Activities,Rec. Hall
END:VEVENT
BEGIN:VEVENT
DTSTART;TZID=America/Toronto:20260417T133000
DTEND;TZID=America/Toronto:20260417T160000
DTSTAMP:20260423T011401
CREATED:20250922T154348Z
LAST-MODIFIED:20250922T154348Z
UID:8039-1776432600-1776441600@mapleleafacres.ca
SUMMARY:Shuffle Board
DESCRIPTION:
URL:https://mapleleafacres.ca/event/shuffle-board-52/2026-04-17/
CATEGORIES:Activities,Rec. Hall
END:VEVENT
BEGIN:VEVENT
DTSTART;TZID=America/Toronto:20260417T200000
DTEND;TZID=America/Toronto:20260417T220000
DTSTAMP:20260423T011401
CREATED:20251209T161242Z
LAST-MODIFIED:20251209T161242Z
UID:8283-1776456000-1776463200@mapleleafacres.ca
SUMMARY:Bingo
DESCRIPTION:
URL:https://mapleleafacres.ca/event/bingo-26/2026-04-17/
CATEGORIES:Activities,Rec. Hall
END:VEVENT
BEGIN:VEVENT
DTSTART;TZID=America/Toronto:20260418T120000
DTEND;TZID=America/Toronto:20260418T160000
DTSTAMP:20260423T011401
CREATED:20250922T152921Z
LAST-MODIFIED:20250922T152921Z
UID:7936-1776513600-1776528000@mapleleafacres.ca
SUMMARY:Corn Hole
DESCRIPTION:
URL:https://mapleleafacres.ca/event/corn-hole-2/2026-04-18/
CATEGORIES:Activities,Rec. Hall
END:VEVENT
BEGIN:VEVENT
DTSTART;TZID=America/Toronto:20260424T133000
DTEND;TZID=America/Toronto:20260424T160000
DTSTAMP:20260423T011401
CREATED:20250922T154348Z
LAST-MODIFIED:20250922T154348Z
UID:8040-1777037400-1777046400@mapleleafacres.ca
SUMMARY:Shuffle Board
DESCRIPTION:
URL:https://mapleleafacres.ca/event/shuffle-board-52/2026-04-24/
CATEGORIES:Activities,Rec. Hall
END:VEVENT
BEGIN:VEVENT
DTSTART;TZID=America/Toronto:20260424T200000
DTEND;TZID=America/Toronto:20260424T220000
DTSTAMP:20260423T011401
CREATED:20251209T161242Z
LAST-MODIFIED:20251209T161242Z
UID:8284-1777060800-1777068000@mapleleafacres.ca
SUMMARY:Bingo
DESCRIPTION:
URL:https://mapleleafacres.ca/event/bingo-26/2026-04-24/
CATEGORIES:Activities,Rec. Hall
END:VEVENT
BEGIN:VEVENT
DTSTART;TZID=America/Toronto:20260425T170000
DTEND;TZID=America/Toronto:20260425T230000
DTSTAMP:20260423T011401
CREATED:20260122T153710Z
LAST-MODIFIED:20260122T153710Z
UID:8445-1777136400-1777158000@mapleleafacres.ca
SUMMARY:Dart Banquet
DESCRIPTION:
URL:https://mapleleafacres.ca/event/dart-banquet-3/
CATEGORIES:Activities,Rec. Hall
END:VEVENT
BEGIN:VEVENT
DTSTART;TZID=America/Toronto:20260425T170000
DTEND;TZID=America/Toronto:20260425T230000
DTSTAMP:20260423T011401
CREATED:20260227T212529Z
LAST-MODIFIED:20260227T212529Z
UID:8619-1777136400-1777158000@mapleleafacres.ca
SUMMARY:Darts Banquet
DESCRIPTION:
URL:https://mapleleafacres.ca/event/darts-banquet/
CATEGORIES:Activities,Rec. Hall
END:VEVENT
BEGIN:VEVENT
DTSTART;TZID=America/Toronto:20260501T133000
DTEND;TZID=America/Toronto:20260501T160000
DTSTAMP:20260423T011401
CREATED:20250922T154348Z
LAST-MODIFIED:20250922T154348Z
UID:8041-1777642200-1777651200@mapleleafacres.ca
SUMMARY:Shuffle Board
DESCRIPTION:
URL:https://mapleleafacres.ca/event/shuffle-board-52/2026-05-01/
CATEGORIES:Activities,Rec. Hall
END:VEVENT
BEGIN:VEVENT
DTSTART;TZID=America/Toronto:20260501T200000
DTEND;TZID=America/Toronto:20260501T220000
DTSTAMP:20260423T011401
CREATED:20251209T161242Z
LAST-MODIFIED:20251209T161242Z
UID:8285-1777665600-1777672800@mapleleafacres.ca
SUMMARY:Bingo
DESCRIPTION:
URL:https://mapleleafacres.ca/event/bingo-26/2026-05-01/
CATEGORIES:Activities,Rec. Hall
END:VEVENT
BEGIN:VEVENT
DTSTART;TZID=America/Toronto:20260504T100000
DTEND;TZID=America/Toronto:20260504T110000
DTSTAMP:20260423T011401
CREATED:20250922T153050Z
LAST-MODIFIED:20250922T153050Z
UID:7937-1777888800-1777892400@mapleleafacres.ca
SUMMARY:Line Dancing
DESCRIPTION:
URL:https://mapleleafacres.ca/event/line-dancing-48/2026-05-04/
CATEGORIES:Activities,Rec. Hall
END:VEVENT
BEGIN:VEVENT
DTSTART;TZID=America/Toronto:20260505T100000
DTEND;TZID=America/Toronto:20260505T110000
DTSTAMP:20260423T011401
CREATED:20260413T183530Z
LAST-MODIFIED:20260413T183530Z
UID:8766-1777975200-1777978800@mapleleafacres.ca
SUMMARY:Tai Chi
DESCRIPTION:
URL:https://mapleleafacres.ca/event/tai-chi/2026-05-05/
CATEGORIES:Activities,Rec. Hall
END:VEVENT
END:VCALENDAR