BEGIN:VCALENDAR
VERSION:2.0
PRODID:-//Maple Leaf Acres - ECPv6.15.18//NONSGML v1.0//EN
CALSCALE:GREGORIAN
METHOD:PUBLISH
X-ORIGINAL-URL:https://mapleleafacres.ca
X-WR-CALDESC:Events for Maple Leaf Acres
REFRESH-INTERVAL;VALUE=DURATION:PT1H
X-Robots-Tag:noindex
X-PUBLISHED-TTL:PT1H
BEGIN:VTIMEZONE
TZID:America/Toronto
BEGIN:DAYLIGHT
TZOFFSETFROM:-0500
TZOFFSETTO:-0400
TZNAME:EDT
DTSTART:20250309T070000
END:DAYLIGHT
BEGIN:STANDARD
TZOFFSETFROM:-0400
TZOFFSETTO:-0500
TZNAME:EST
DTSTART:20251102T060000
END:STANDARD
BEGIN:DAYLIGHT
TZOFFSETFROM:-0500
TZOFFSETTO:-0400
TZNAME:EDT
DTSTART:20260308T070000
END:DAYLIGHT
BEGIN:STANDARD
TZOFFSETFROM:-0400
TZOFFSETTO:-0500
TZNAME:EST
DTSTART:20261101T060000
END:STANDARD
BEGIN:DAYLIGHT
TZOFFSETFROM:-0500
TZOFFSETTO:-0400
TZNAME:EDT
DTSTART:20270314T070000
END:DAYLIGHT
BEGIN:STANDARD
TZOFFSETFROM:-0400
TZOFFSETTO:-0500
TZNAME:EST
DTSTART:20271107T060000
END:STANDARD
END:VTIMEZONE
BEGIN:VEVENT
DTSTART;TZID=America/Toronto:20260518T100000
DTEND;TZID=America/Toronto:20260518T110000
DTSTAMP:20260422T025548
CREATED:20250922T153050Z
LAST-MODIFIED:20250922T153050Z
UID:7939-1779098400-1779102000@mapleleafacres.ca
SUMMARY:Line Dancing
DESCRIPTION:
URL:https://mapleleafacres.ca/event/line-dancing-48/2026-05-18/
CATEGORIES:Activities,Rec. Hall
END:VEVENT
BEGIN:VEVENT
DTSTART;TZID=America/Toronto:20260519T100000
DTEND;TZID=America/Toronto:20260519T110000
DTSTAMP:20260422T025548
CREATED:20260413T183530Z
LAST-MODIFIED:20260413T183530Z
UID:8770-1779184800-1779188400@mapleleafacres.ca
SUMMARY:Tai Chi
DESCRIPTION:
URL:https://mapleleafacres.ca/event/tai-chi/2026-05-19/
CATEGORIES:Activities,Rec. Hall
END:VEVENT
BEGIN:VEVENT
DTSTART;TZID=America/Toronto:20260520T190000
DTEND;TZID=America/Toronto:20260520T220000
DTSTAMP:20260422T025548
CREATED:20260327T145840Z
LAST-MODIFIED:20260327T145840Z
UID:8710-1779303600-1779314400@mapleleafacres.ca
SUMMARY:Summer Darts
DESCRIPTION:
URL:https://mapleleafacres.ca/event/summer-darts/2026-05-20/
CATEGORIES:Activities,Rec. Hall
END:VEVENT
BEGIN:VEVENT
DTSTART;TZID=America/Toronto:20260521T100000
DTEND;TZID=America/Toronto:20260521T110000
DTSTAMP:20260422T025548
CREATED:20260413T183530Z
LAST-MODIFIED:20260413T183530Z
UID:8771-1779357600-1779361200@mapleleafacres.ca
SUMMARY:Tai Chi
DESCRIPTION:
URL:https://mapleleafacres.ca/event/tai-chi/2026-05-21/
CATEGORIES:Activities,Rec. Hall
END:VEVENT
BEGIN:VEVENT
DTSTART;TZID=America/Toronto:20260522T133000
DTEND;TZID=America/Toronto:20260522T160000
DTSTAMP:20260422T025548
CREATED:20250922T154348Z
LAST-MODIFIED:20250922T154348Z
UID:8044-1779456600-1779465600@mapleleafacres.ca
SUMMARY:Shuffle Board
DESCRIPTION:
URL:https://mapleleafacres.ca/event/shuffle-board-52/2026-05-22/
CATEGORIES:Activities,Rec. Hall
END:VEVENT
BEGIN:VEVENT
DTSTART;TZID=America/Toronto:20260522T200000
DTEND;TZID=America/Toronto:20260522T220000
DTSTAMP:20260422T025548
CREATED:20251209T161242Z
LAST-MODIFIED:20251209T161242Z
UID:8288-1779480000-1779487200@mapleleafacres.ca
SUMMARY:Bingo
DESCRIPTION:
URL:https://mapleleafacres.ca/event/bingo-26/2026-05-22/
CATEGORIES:Activities,Rec. Hall
END:VEVENT
BEGIN:VEVENT
DTSTART;TZID=America/Toronto:20260523T200000
DTEND;TZID=America/Toronto:20260523T233000
DTSTAMP:20260422T025548
CREATED:20251209T155748Z
LAST-MODIFIED:20251209T155748Z
UID:8242-1779566400-1779579000@mapleleafacres.ca
SUMMARY:Dance - Just Us
DESCRIPTION:
URL:https://mapleleafacres.ca/event/dance-just-us-2/
CATEGORIES:Activities,Fireside Room,Rec. Hall
END:VEVENT
BEGIN:VEVENT
DTSTART;TZID=America/Toronto:20260525T100000
DTEND;TZID=America/Toronto:20260525T110000
DTSTAMP:20260422T025548
CREATED:20250922T153050Z
LAST-MODIFIED:20250922T153050Z
UID:7940-1779703200-1779706800@mapleleafacres.ca
SUMMARY:Line Dancing
DESCRIPTION:
URL:https://mapleleafacres.ca/event/line-dancing-48/2026-05-25/
CATEGORIES:Activities,Rec. Hall
END:VEVENT
BEGIN:VEVENT
DTSTART;TZID=America/Toronto:20260526T100000
DTEND;TZID=America/Toronto:20260526T110000
DTSTAMP:20260422T025548
CREATED:20260413T183530Z
LAST-MODIFIED:20260413T183530Z
UID:8772-1779789600-1779793200@mapleleafacres.ca
SUMMARY:Tai Chi
DESCRIPTION:
URL:https://mapleleafacres.ca/event/tai-chi/2026-05-26/
CATEGORIES:Activities,Rec. Hall
END:VEVENT
BEGIN:VEVENT
DTSTART;TZID=America/Toronto:20260527T190000
DTEND;TZID=America/Toronto:20260527T220000
DTSTAMP:20260422T025548
CREATED:20260327T145840Z
LAST-MODIFIED:20260327T145840Z
UID:8711-1779908400-1779919200@mapleleafacres.ca
SUMMARY:Summer Darts
DESCRIPTION:
URL:https://mapleleafacres.ca/event/summer-darts/2026-05-27/
CATEGORIES:Activities,Rec. Hall
END:VEVENT
BEGIN:VEVENT
DTSTART;TZID=America/Toronto:20260528T100000
DTEND;TZID=America/Toronto:20260528T110000
DTSTAMP:20260422T025548
CREATED:20260413T183530Z
LAST-MODIFIED:20260413T183530Z
UID:8773-1779962400-1779966000@mapleleafacres.ca
SUMMARY:Tai Chi
DESCRIPTION:
URL:https://mapleleafacres.ca/event/tai-chi/2026-05-28/
CATEGORIES:Activities,Rec. Hall
END:VEVENT
BEGIN:VEVENT
DTSTART;TZID=America/Toronto:20260529T133000
DTEND;TZID=America/Toronto:20260529T160000
DTSTAMP:20260422T025548
CREATED:20250922T154348Z
LAST-MODIFIED:20250922T154348Z
UID:8045-1780061400-1780070400@mapleleafacres.ca
SUMMARY:Shuffle Board
DESCRIPTION:
URL:https://mapleleafacres.ca/event/shuffle-board-52/2026-05-29/
CATEGORIES:Activities,Rec. Hall
END:VEVENT
BEGIN:VEVENT
DTSTART;TZID=America/Toronto:20260529T200000
DTEND;TZID=America/Toronto:20260529T220000
DTSTAMP:20260422T025548
CREATED:20251209T161242Z
LAST-MODIFIED:20251209T161242Z
UID:8289-1780084800-1780092000@mapleleafacres.ca
SUMMARY:Bingo
DESCRIPTION:
URL:https://mapleleafacres.ca/event/bingo-26/2026-05-29/
CATEGORIES:Activities,Rec. Hall
END:VEVENT
BEGIN:VEVENT
DTSTART;VALUE=DATE:20260530
DTEND;VALUE=DATE:20260531
DTSTAMP:20260422T025548
CREATED:20260327T145919Z
LAST-MODIFIED:20260327T145919Z
UID:8733-1780099200-1780185599@mapleleafacres.ca
SUMMARY:Private Party
DESCRIPTION:
URL:https://mapleleafacres.ca/event/private-party-145/
CATEGORIES:Activities,Rec. Hall
END:VEVENT
BEGIN:VEVENT
DTSTART;TZID=America/Toronto:20260601T100000
DTEND;TZID=America/Toronto:20260601T110000
DTSTAMP:20260422T025548
CREATED:20250922T153050Z
LAST-MODIFIED:20250922T153050Z
UID:7941-1780308000-1780311600@mapleleafacres.ca
SUMMARY:Line Dancing
DESCRIPTION:
URL:https://mapleleafacres.ca/event/line-dancing-48/2026-06-01/
CATEGORIES:Activities,Rec. Hall
END:VEVENT
BEGIN:VEVENT
DTSTART;TZID=America/Toronto:20260602T100000
DTEND;TZID=America/Toronto:20260602T110000
DTSTAMP:20260422T025548
CREATED:20260413T183530Z
LAST-MODIFIED:20260413T183530Z
UID:8774-1780394400-1780398000@mapleleafacres.ca
SUMMARY:Tai Chi
DESCRIPTION:
URL:https://mapleleafacres.ca/event/tai-chi/2026-06-02/
CATEGORIES:Activities,Rec. Hall
END:VEVENT
BEGIN:VEVENT
DTSTART;TZID=America/Toronto:20260603T190000
DTEND;TZID=America/Toronto:20260603T220000
DTSTAMP:20260422T025548
CREATED:20260327T145840Z
LAST-MODIFIED:20260327T145840Z
UID:8712-1780513200-1780524000@mapleleafacres.ca
SUMMARY:Summer Darts
DESCRIPTION:
URL:https://mapleleafacres.ca/event/summer-darts/2026-06-03/
CATEGORIES:Activities,Rec. Hall
END:VEVENT
BEGIN:VEVENT
DTSTART;TZID=America/Toronto:20260604T100000
DTEND;TZID=America/Toronto:20260604T110000
DTSTAMP:20260422T025548
CREATED:20260413T183530Z
LAST-MODIFIED:20260413T183530Z
UID:8775-1780567200-1780570800@mapleleafacres.ca
SUMMARY:Tai Chi
DESCRIPTION:
URL:https://mapleleafacres.ca/event/tai-chi/2026-06-04/
CATEGORIES:Activities,Rec. Hall
END:VEVENT
BEGIN:VEVENT
DTSTART;TZID=America/Toronto:20260605T133000
DTEND;TZID=America/Toronto:20260605T160000
DTSTAMP:20260422T025548
CREATED:20250922T154348Z
LAST-MODIFIED:20250922T154348Z
UID:8046-1780666200-1780675200@mapleleafacres.ca
SUMMARY:Shuffle Board
DESCRIPTION:
URL:https://mapleleafacres.ca/event/shuffle-board-52/2026-06-05/
CATEGORIES:Activities,Rec. Hall
END:VEVENT
BEGIN:VEVENT
DTSTART;TZID=America/Toronto:20260605T200000
DTEND;TZID=America/Toronto:20260605T220000
DTSTAMP:20260422T025548
CREATED:20251209T161242Z
LAST-MODIFIED:20251209T161242Z
UID:8290-1780689600-1780696800@mapleleafacres.ca
SUMMARY:Bingo
DESCRIPTION:
URL:https://mapleleafacres.ca/event/bingo-26/2026-06-05/
CATEGORIES:Activities,Rec. Hall
END:VEVENT
BEGIN:VEVENT
DTSTART;TZID=America/Toronto:20260608T100000
DTEND;TZID=America/Toronto:20260608T110000
DTSTAMP:20260422T025548
CREATED:20250922T153050Z
LAST-MODIFIED:20250922T153050Z
UID:7942-1780912800-1780916400@mapleleafacres.ca
SUMMARY:Line Dancing
DESCRIPTION:
URL:https://mapleleafacres.ca/event/line-dancing-48/2026-06-08/
CATEGORIES:Activities,Rec. Hall
END:VEVENT
BEGIN:VEVENT
DTSTART;TZID=America/Toronto:20260609T100000
DTEND;TZID=America/Toronto:20260609T110000
DTSTAMP:20260422T025548
CREATED:20260413T183530Z
LAST-MODIFIED:20260413T183530Z
UID:8776-1780999200-1781002800@mapleleafacres.ca
SUMMARY:Tai Chi
DESCRIPTION:
URL:https://mapleleafacres.ca/event/tai-chi/2026-06-09/
CATEGORIES:Activities,Rec. Hall
END:VEVENT
BEGIN:VEVENT
DTSTART;TZID=America/Toronto:20260610T190000
DTEND;TZID=America/Toronto:20260610T220000
DTSTAMP:20260422T025548
CREATED:20260327T145840Z
LAST-MODIFIED:20260327T145840Z
UID:8713-1781118000-1781128800@mapleleafacres.ca
SUMMARY:Summer Darts
DESCRIPTION:
URL:https://mapleleafacres.ca/event/summer-darts/2026-06-10/
CATEGORIES:Activities,Rec. Hall
END:VEVENT
BEGIN:VEVENT
DTSTART;TZID=America/Toronto:20260611T100000
DTEND;TZID=America/Toronto:20260611T110000
DTSTAMP:20260422T025548
CREATED:20260413T183530Z
LAST-MODIFIED:20260413T183530Z
UID:8778-1781172000-1781175600@mapleleafacres.ca
SUMMARY:Tai Chi
DESCRIPTION:
URL:https://mapleleafacres.ca/event/tai-chi/2026-06-11/
CATEGORIES:Activities,Rec. Hall
END:VEVENT
BEGIN:VEVENT
DTSTART;TZID=America/Toronto:20260612T133000
DTEND;TZID=America/Toronto:20260612T160000
DTSTAMP:20260422T025548
CREATED:20250922T154348Z
LAST-MODIFIED:20250922T154348Z
UID:8047-1781271000-1781280000@mapleleafacres.ca
SUMMARY:Shuffle Board
DESCRIPTION:
URL:https://mapleleafacres.ca/event/shuffle-board-52/2026-06-12/
CATEGORIES:Activities,Rec. Hall
END:VEVENT
BEGIN:VEVENT
DTSTART;TZID=America/Toronto:20260612T200000
DTEND;TZID=America/Toronto:20260612T220000
DTSTAMP:20260422T025548
CREATED:20251209T161242Z
LAST-MODIFIED:20251209T161242Z
UID:8291-1781294400-1781301600@mapleleafacres.ca
SUMMARY:Bingo
DESCRIPTION:
URL:https://mapleleafacres.ca/event/bingo-26/2026-06-12/
CATEGORIES:Activities,Rec. Hall
END:VEVENT
BEGIN:VEVENT
DTSTART;TZID=America/Toronto:20260613T110000
DTEND;TZID=America/Toronto:20260613T140000
DTSTAMP:20260422T025548
CREATED:20251209T160123Z
LAST-MODIFIED:20251209T160123Z
UID:8248-1781348400-1781359200@mapleleafacres.ca
SUMMARY:Poker Run
DESCRIPTION:
URL:https://mapleleafacres.ca/event/poker-run-6/
CATEGORIES:Activities,Rec. Hall
END:VEVENT
BEGIN:VEVENT
DTSTART;TZID=America/Toronto:20260615T100000
DTEND;TZID=America/Toronto:20260615T110000
DTSTAMP:20260422T025548
CREATED:20250922T153050Z
LAST-MODIFIED:20250922T153050Z
UID:7943-1781517600-1781521200@mapleleafacres.ca
SUMMARY:Line Dancing
DESCRIPTION:
URL:https://mapleleafacres.ca/event/line-dancing-48/2026-06-15/
CATEGORIES:Activities,Rec. Hall
END:VEVENT
BEGIN:VEVENT
DTSTART;TZID=America/Toronto:20260616T100000
DTEND;TZID=America/Toronto:20260616T110000
DTSTAMP:20260422T025548
CREATED:20260413T183530Z
LAST-MODIFIED:20260413T183530Z
UID:8779-1781604000-1781607600@mapleleafacres.ca
SUMMARY:Tai Chi
DESCRIPTION:
URL:https://mapleleafacres.ca/event/tai-chi/2026-06-16/
CATEGORIES:Activities,Rec. Hall
END:VEVENT
BEGIN:VEVENT
DTSTART;TZID=America/Toronto:20260617T190000
DTEND;TZID=America/Toronto:20260617T220000
DTSTAMP:20260422T025548
CREATED:20260327T145840Z
LAST-MODIFIED:20260327T145840Z
UID:8714-1781722800-1781733600@mapleleafacres.ca
SUMMARY:Summer Darts
DESCRIPTION:
URL:https://mapleleafacres.ca/event/summer-darts/2026-06-17/
CATEGORIES:Activities,Rec. Hall
END:VEVENT
END:VCALENDAR