BEGIN:VCALENDAR
VERSION:2.0
PRODID:-//Maple Leaf Acres - ECPv6.15.18//NONSGML v1.0//EN
CALSCALE:GREGORIAN
METHOD:PUBLISH
X-WR-CALNAME:Maple Leaf Acres
X-ORIGINAL-URL:https://mapleleafacres.ca
X-WR-CALDESC:Events for Maple Leaf Acres
REFRESH-INTERVAL;VALUE=DURATION:PT1H
X-Robots-Tag:noindex
X-PUBLISHED-TTL:PT1H
BEGIN:VTIMEZONE
TZID:America/Toronto
BEGIN:DAYLIGHT
TZOFFSETFROM:-0500
TZOFFSETTO:-0400
TZNAME:EDT
DTSTART:20250309T070000
END:DAYLIGHT
BEGIN:STANDARD
TZOFFSETFROM:-0400
TZOFFSETTO:-0500
TZNAME:EST
DTSTART:20251102T060000
END:STANDARD
BEGIN:DAYLIGHT
TZOFFSETFROM:-0500
TZOFFSETTO:-0400
TZNAME:EDT
DTSTART:20260308T070000
END:DAYLIGHT
BEGIN:STANDARD
TZOFFSETFROM:-0400
TZOFFSETTO:-0500
TZNAME:EST
DTSTART:20261101T060000
END:STANDARD
BEGIN:DAYLIGHT
TZOFFSETFROM:-0500
TZOFFSETTO:-0400
TZNAME:EDT
DTSTART:20270314T070000
END:DAYLIGHT
BEGIN:STANDARD
TZOFFSETFROM:-0400
TZOFFSETTO:-0500
TZNAME:EST
DTSTART:20271107T060000
END:STANDARD
END:VTIMEZONE
BEGIN:VEVENT
DTSTART;TZID=America/Toronto:20260814T133000
DTEND;TZID=America/Toronto:20260814T160000
DTSTAMP:20260422T174840
CREATED:20250922T154348Z
LAST-MODIFIED:20250922T154348Z
UID:8056-1786714200-1786723200@mapleleafacres.ca
SUMMARY:Shuffle Board
DESCRIPTION:
URL:https://mapleleafacres.ca/event/shuffle-board-52/2026-08-14/
CATEGORIES:Activities,Rec. Hall
END:VEVENT
BEGIN:VEVENT
DTSTART;TZID=America/Toronto:20260814T200000
DTEND;TZID=America/Toronto:20260814T220000
DTSTAMP:20260422T174840
CREATED:20251209T161242Z
LAST-MODIFIED:20251209T161242Z
UID:8301-1786737600-1786744800@mapleleafacres.ca
SUMMARY:Bingo
DESCRIPTION:
URL:https://mapleleafacres.ca/event/bingo-26/2026-08-14/
CATEGORIES:Activities,Rec. Hall
END:VEVENT
BEGIN:VEVENT
DTSTART;TZID=America/Toronto:20260815T070000
DTEND;TZID=America/Toronto:20260815T140000
DTSTAMP:20260422T174840
CREATED:20251209T201329Z
LAST-MODIFIED:20251209T201329Z
UID:8341-1786777200-1786802400@mapleleafacres.ca
SUMMARY:Craft Sale
DESCRIPTION:
URL:https://mapleleafacres.ca/event/craft-sale-4/
CATEGORIES:Activities,Fireside Room,Rec. Hall
END:VEVENT
BEGIN:VEVENT
DTSTART;TZID=America/Toronto:20260817T100000
DTEND;TZID=America/Toronto:20260817T110000
DTSTAMP:20260422T174840
CREATED:20250922T153050Z
LAST-MODIFIED:20250922T153050Z
UID:7953-1786960800-1786964400@mapleleafacres.ca
SUMMARY:Line Dancing
DESCRIPTION:
URL:https://mapleleafacres.ca/event/line-dancing-48/2026-08-17/
CATEGORIES:Activities,Rec. Hall
END:VEVENT
BEGIN:VEVENT
DTSTART;TZID=America/Toronto:20260818T100000
DTEND;TZID=America/Toronto:20260818T110000
DTSTAMP:20260422T174840
CREATED:20260413T183530Z
LAST-MODIFIED:20260413T183530Z
UID:8797-1787047200-1787050800@mapleleafacres.ca
SUMMARY:Tai Chi
DESCRIPTION:
URL:https://mapleleafacres.ca/event/tai-chi/2026-08-18/
CATEGORIES:Activities,Rec. Hall
END:VEVENT
BEGIN:VEVENT
DTSTART;TZID=America/Toronto:20260819T190000
DTEND;TZID=America/Toronto:20260819T220000
DTSTAMP:20260422T174840
CREATED:20260327T145840Z
LAST-MODIFIED:20260327T145840Z
UID:8724-1787166000-1787176800@mapleleafacres.ca
SUMMARY:Summer Darts
DESCRIPTION:
URL:https://mapleleafacres.ca/event/summer-darts/2026-08-19/
CATEGORIES:Activities,Rec. Hall
END:VEVENT
BEGIN:VEVENT
DTSTART;TZID=America/Toronto:20260820T100000
DTEND;TZID=America/Toronto:20260820T110000
DTSTAMP:20260422T174840
CREATED:20260413T183530Z
LAST-MODIFIED:20260413T183530Z
UID:8798-1787220000-1787223600@mapleleafacres.ca
SUMMARY:Tai Chi
DESCRIPTION:
URL:https://mapleleafacres.ca/event/tai-chi/2026-08-20/
CATEGORIES:Activities,Rec. Hall
END:VEVENT
BEGIN:VEVENT
DTSTART;TZID=America/Toronto:20260821T133000
DTEND;TZID=America/Toronto:20260821T160000
DTSTAMP:20260422T174840
CREATED:20250922T154348Z
LAST-MODIFIED:20250922T154348Z
UID:8057-1787319000-1787328000@mapleleafacres.ca
SUMMARY:Shuffle Board
DESCRIPTION:
URL:https://mapleleafacres.ca/event/shuffle-board-52/2026-08-21/
CATEGORIES:Activities,Rec. Hall
END:VEVENT
BEGIN:VEVENT
DTSTART;TZID=America/Toronto:20260821T200000
DTEND;TZID=America/Toronto:20260821T220000
DTSTAMP:20260422T174840
CREATED:20251209T161242Z
LAST-MODIFIED:20251209T161242Z
UID:8302-1787342400-1787349600@mapleleafacres.ca
SUMMARY:Bingo
DESCRIPTION:
URL:https://mapleleafacres.ca/event/bingo-26/2026-08-21/
CATEGORIES:Activities,Rec. Hall
END:VEVENT
BEGIN:VEVENT
DTSTART;TZID=America/Toronto:20260822T200000
DTEND;TZID=America/Toronto:20260822T233000
DTSTAMP:20260422T174840
CREATED:20251210T154314Z
LAST-MODIFIED:20251210T172938Z
UID:8343-1787428800-1787441400@mapleleafacres.ca
SUMMARY:Outdoor Dance
DESCRIPTION:
URL:https://mapleleafacres.ca/event/outdoor-dance-5/
CATEGORIES:Activities,Rec. Hall
END:VEVENT
BEGIN:VEVENT
DTSTART;TZID=America/Toronto:20260824T100000
DTEND;TZID=America/Toronto:20260824T110000
DTSTAMP:20260422T174840
CREATED:20250922T153050Z
LAST-MODIFIED:20250922T153050Z
UID:7954-1787565600-1787569200@mapleleafacres.ca
SUMMARY:Line Dancing
DESCRIPTION:
URL:https://mapleleafacres.ca/event/line-dancing-48/2026-08-24/
CATEGORIES:Activities,Rec. Hall
END:VEVENT
BEGIN:VEVENT
DTSTART;TZID=America/Toronto:20260825T100000
DTEND;TZID=America/Toronto:20260825T110000
DTSTAMP:20260422T174840
CREATED:20260413T183530Z
LAST-MODIFIED:20260413T183530Z
UID:8799-1787652000-1787655600@mapleleafacres.ca
SUMMARY:Tai Chi
DESCRIPTION:
URL:https://mapleleafacres.ca/event/tai-chi/2026-08-25/
CATEGORIES:Activities,Rec. Hall
END:VEVENT
BEGIN:VEVENT
DTSTART;TZID=America/Toronto:20260826T190000
DTEND;TZID=America/Toronto:20260826T220000
DTSTAMP:20260422T174840
CREATED:20260327T145840Z
LAST-MODIFIED:20260327T145840Z
UID:8725-1787770800-1787781600@mapleleafacres.ca
SUMMARY:Summer Darts
DESCRIPTION:
URL:https://mapleleafacres.ca/event/summer-darts/2026-08-26/
CATEGORIES:Activities,Rec. Hall
END:VEVENT
BEGIN:VEVENT
DTSTART;TZID=America/Toronto:20260827T100000
DTEND;TZID=America/Toronto:20260827T110000
DTSTAMP:20260422T174840
CREATED:20260413T183530Z
LAST-MODIFIED:20260413T183530Z
UID:8800-1787824800-1787828400@mapleleafacres.ca
SUMMARY:Tai Chi
DESCRIPTION:
URL:https://mapleleafacres.ca/event/tai-chi/2026-08-27/
CATEGORIES:Activities,Rec. Hall
END:VEVENT
BEGIN:VEVENT
DTSTART;TZID=America/Toronto:20260828T133000
DTEND;TZID=America/Toronto:20260828T160000
DTSTAMP:20260422T174840
CREATED:20250922T154348Z
LAST-MODIFIED:20250922T154348Z
UID:8058-1787923800-1787932800@mapleleafacres.ca
SUMMARY:Shuffle Board
DESCRIPTION:
URL:https://mapleleafacres.ca/event/shuffle-board-52/2026-08-28/
CATEGORIES:Activities,Rec. Hall
END:VEVENT
BEGIN:VEVENT
DTSTART;TZID=America/Toronto:20260828T200000
DTEND;TZID=America/Toronto:20260828T220000
DTSTAMP:20260422T174840
CREATED:20251209T161242Z
LAST-MODIFIED:20251209T161242Z
UID:8303-1787947200-1787954400@mapleleafacres.ca
SUMMARY:Bingo
DESCRIPTION:
URL:https://mapleleafacres.ca/event/bingo-26/2026-08-28/
CATEGORIES:Activities,Rec. Hall
END:VEVENT
BEGIN:VEVENT
DTSTART;TZID=America/Toronto:20260830T080000
DTEND;TZID=America/Toronto:20260830T220000
DTSTAMP:20260422T174840
CREATED:20250922T153847Z
LAST-MODIFIED:20250922T153847Z
UID:8019-1788076800-1788127200@mapleleafacres.ca
SUMMARY:Private Party
DESCRIPTION:
URL:https://mapleleafacres.ca/event/private-party-128/
CATEGORIES:Activities,Rec. Hall
END:VEVENT
BEGIN:VEVENT
DTSTART;TZID=America/Toronto:20260831T100000
DTEND;TZID=America/Toronto:20260831T110000
DTSTAMP:20260422T174840
CREATED:20250922T153050Z
LAST-MODIFIED:20250922T153050Z
UID:7955-1788170400-1788174000@mapleleafacres.ca
SUMMARY:Line Dancing
DESCRIPTION:
URL:https://mapleleafacres.ca/event/line-dancing-48/2026-08-31/
CATEGORIES:Activities,Rec. Hall
END:VEVENT
BEGIN:VEVENT
DTSTART;TZID=America/Toronto:20260901T100000
DTEND;TZID=America/Toronto:20260901T110000
DTSTAMP:20260422T174840
CREATED:20260413T183530Z
LAST-MODIFIED:20260413T183530Z
UID:8801-1788256800-1788260400@mapleleafacres.ca
SUMMARY:Tai Chi
DESCRIPTION:
URL:https://mapleleafacres.ca/event/tai-chi/2026-09-01/
CATEGORIES:Activities,Rec. Hall
END:VEVENT
BEGIN:VEVENT
DTSTART;TZID=America/Toronto:20260902T190000
DTEND;TZID=America/Toronto:20260902T220000
DTSTAMP:20260422T174840
CREATED:20260327T145840Z
LAST-MODIFIED:20260327T145840Z
UID:8726-1788375600-1788386400@mapleleafacres.ca
SUMMARY:Summer Darts
DESCRIPTION:
URL:https://mapleleafacres.ca/event/summer-darts/2026-09-02/
CATEGORIES:Activities,Rec. Hall
END:VEVENT
BEGIN:VEVENT
DTSTART;TZID=America/Toronto:20260903T100000
DTEND;TZID=America/Toronto:20260903T110000
DTSTAMP:20260422T174840
CREATED:20260413T183530Z
LAST-MODIFIED:20260413T183530Z
UID:8802-1788429600-1788433200@mapleleafacres.ca
SUMMARY:Tai Chi
DESCRIPTION:
URL:https://mapleleafacres.ca/event/tai-chi/2026-09-03/
CATEGORIES:Activities,Rec. Hall
END:VEVENT
BEGIN:VEVENT
DTSTART;TZID=America/Toronto:20260904T133000
DTEND;TZID=America/Toronto:20260904T160000
DTSTAMP:20260422T174840
CREATED:20250922T154348Z
LAST-MODIFIED:20250922T154348Z
UID:8059-1788528600-1788537600@mapleleafacres.ca
SUMMARY:Shuffle Board
DESCRIPTION:
URL:https://mapleleafacres.ca/event/shuffle-board-52/2026-09-04/
CATEGORIES:Activities,Rec. Hall
END:VEVENT
BEGIN:VEVENT
DTSTART;TZID=America/Toronto:20260904T200000
DTEND;TZID=America/Toronto:20260904T220000
DTSTAMP:20260422T174840
CREATED:20251209T161242Z
LAST-MODIFIED:20251209T161242Z
UID:8304-1788552000-1788559200@mapleleafacres.ca
SUMMARY:Bingo
DESCRIPTION:
URL:https://mapleleafacres.ca/event/bingo-26/2026-09-04/
CATEGORIES:Activities,Rec. Hall
END:VEVENT
BEGIN:VEVENT
DTSTART;VALUE=DATE:20260905
DTEND;VALUE=DATE:20260906
DTSTAMP:20260422T174840
CREATED:20250922T153936Z
LAST-MODIFIED:20250922T154218Z
UID:8021-1788566400-1788652799@mapleleafacres.ca
SUMMARY:Trinity end of Season Bash
DESCRIPTION:
URL:https://mapleleafacres.ca/event/trinity-end-of-season-bash/
CATEGORIES:Activities,Rec. Hall
END:VEVENT
BEGIN:VEVENT
DTSTART;TZID=America/Toronto:20260907T100000
DTEND;TZID=America/Toronto:20260907T110000
DTSTAMP:20260422T174840
CREATED:20250922T153050Z
LAST-MODIFIED:20250922T153050Z
UID:7956-1788775200-1788778800@mapleleafacres.ca
SUMMARY:Line Dancing
DESCRIPTION:
URL:https://mapleleafacres.ca/event/line-dancing-48/2026-09-07/
CATEGORIES:Activities,Rec. Hall
END:VEVENT
BEGIN:VEVENT
DTSTART;TZID=America/Toronto:20260908T100000
DTEND;TZID=America/Toronto:20260908T110000
DTSTAMP:20260422T174840
CREATED:20260413T183530Z
LAST-MODIFIED:20260413T183530Z
UID:8803-1788861600-1788865200@mapleleafacres.ca
SUMMARY:Tai Chi
DESCRIPTION:
URL:https://mapleleafacres.ca/event/tai-chi/2026-09-08/
CATEGORIES:Activities,Rec. Hall
END:VEVENT
BEGIN:VEVENT
DTSTART;TZID=America/Toronto:20260909T190000
DTEND;TZID=America/Toronto:20260909T220000
DTSTAMP:20260422T174840
CREATED:20260327T145840Z
LAST-MODIFIED:20260327T145840Z
UID:8727-1788980400-1788991200@mapleleafacres.ca
SUMMARY:Summer Darts
DESCRIPTION:
URL:https://mapleleafacres.ca/event/summer-darts/2026-09-09/
CATEGORIES:Activities,Rec. Hall
END:VEVENT
BEGIN:VEVENT
DTSTART;TZID=America/Toronto:20260910T100000
DTEND;TZID=America/Toronto:20260910T110000
DTSTAMP:20260422T174840
CREATED:20260413T183530Z
LAST-MODIFIED:20260413T183530Z
UID:8805-1789034400-1789038000@mapleleafacres.ca
SUMMARY:Tai Chi
DESCRIPTION:
URL:https://mapleleafacres.ca/event/tai-chi/2026-09-10/
CATEGORIES:Activities,Rec. Hall
END:VEVENT
BEGIN:VEVENT
DTSTART;TZID=America/Toronto:20260911T133000
DTEND;TZID=America/Toronto:20260911T160000
DTSTAMP:20260422T174840
CREATED:20250922T154348Z
LAST-MODIFIED:20250922T154348Z
UID:8060-1789133400-1789142400@mapleleafacres.ca
SUMMARY:Shuffle Board
DESCRIPTION:
URL:https://mapleleafacres.ca/event/shuffle-board-52/2026-09-11/
CATEGORIES:Activities,Rec. Hall
END:VEVENT
BEGIN:VEVENT
DTSTART;TZID=America/Toronto:20260911T200000
DTEND;TZID=America/Toronto:20260911T220000
DTSTAMP:20260422T174840
CREATED:20251209T161242Z
LAST-MODIFIED:20251209T161242Z
UID:8305-1789156800-1789164000@mapleleafacres.ca
SUMMARY:Bingo
DESCRIPTION:
URL:https://mapleleafacres.ca/event/bingo-26/2026-09-11/
CATEGORIES:Activities,Rec. Hall
END:VEVENT
END:VCALENDAR