BEGIN:VCALENDAR
VERSION:2.0
PRODID:-//Maple Leaf Acres - ECPv6.15.18//NONSGML v1.0//EN
CALSCALE:GREGORIAN
METHOD:PUBLISH
X-WR-CALNAME:Maple Leaf Acres
X-ORIGINAL-URL:https://mapleleafacres.ca
X-WR-CALDESC:Events for Maple Leaf Acres
REFRESH-INTERVAL;VALUE=DURATION:PT1H
X-Robots-Tag:noindex
X-PUBLISHED-TTL:PT1H
BEGIN:VTIMEZONE
TZID:America/Toronto
BEGIN:DAYLIGHT
TZOFFSETFROM:-0500
TZOFFSETTO:-0400
TZNAME:EDT
DTSTART:20230312T070000
END:DAYLIGHT
BEGIN:STANDARD
TZOFFSETFROM:-0400
TZOFFSETTO:-0500
TZNAME:EST
DTSTART:20231105T060000
END:STANDARD
BEGIN:DAYLIGHT
TZOFFSETFROM:-0500
TZOFFSETTO:-0400
TZNAME:EDT
DTSTART:20240310T070000
END:DAYLIGHT
BEGIN:STANDARD
TZOFFSETFROM:-0400
TZOFFSETTO:-0500
TZNAME:EST
DTSTART:20241103T060000
END:STANDARD
BEGIN:DAYLIGHT
TZOFFSETFROM:-0500
TZOFFSETTO:-0400
TZNAME:EDT
DTSTART:20250309T070000
END:DAYLIGHT
BEGIN:STANDARD
TZOFFSETFROM:-0400
TZOFFSETTO:-0500
TZNAME:EST
DTSTART:20251102T060000
END:STANDARD
END:VTIMEZONE
BEGIN:VEVENT
DTSTART;VALUE=DATE:20241026
DTEND;VALUE=DATE:20241027
DTSTAMP:20260422T204955
CREATED:20240918T135951Z
LAST-MODIFIED:20240918T135951Z
UID:6721-1729900800-1729987199@mapleleafacres.ca
SUMMARY:Private party
DESCRIPTION:
URL:https://mapleleafacres.ca/event/private-party-102/
CATEGORIES:Activities,Rec. Hall
END:VEVENT
BEGIN:VEVENT
DTSTART;VALUE=DATE:20241026
DTEND;VALUE=DATE:20241027
DTSTAMP:20260422T204955
CREATED:20240312T191012Z
LAST-MODIFIED:20240312T191012Z
UID:6238-1729900800-1729987199@mapleleafacres.ca
SUMMARY:Private Party
DESCRIPTION:
URL:https://mapleleafacres.ca/event/private-party-91/
CATEGORIES:Activities,Rec. Hall
END:VEVENT
BEGIN:VEVENT
DTSTART;TZID=America/Toronto:20241025T190000
DTEND;TZID=America/Toronto:20241025T233000
DTSTAMP:20260422T204955
CREATED:20240918T134038Z
LAST-MODIFIED:20240918T134038Z
UID:6645-1729882800-1729899000@mapleleafacres.ca
SUMMARY:Poker
DESCRIPTION:
URL:https://mapleleafacres.ca/event/poker/2024-10-25/
CATEGORIES:Activities,Fireside Room
END:VEVENT
BEGIN:VEVENT
DTSTART;TZID=America/Toronto:20241025T180000
DTEND;TZID=America/Toronto:20241025T233000
DTSTAMP:20260422T204955
CREATED:20241008T133555Z
LAST-MODIFIED:20241008T133555Z
UID:6818-1729879200-1729899000@mapleleafacres.ca
SUMMARY:Jack Frost
DESCRIPTION:
URL:https://mapleleafacres.ca/event/jack-frost-9/
CATEGORIES:Activities,Adult Hall
END:VEVENT
BEGIN:VEVENT
DTSTART;TZID=America/Toronto:20241025T133000
DTEND;TZID=America/Toronto:20241025T160000
DTSTAMP:20260422T204955
CREATED:20240131T185238Z
LAST-MODIFIED:20240131T185238Z
UID:5918-1729863000-1729872000@mapleleafacres.ca
SUMMARY:Shuffle Board
DESCRIPTION:
URL:https://mapleleafacres.ca/event/shuffle-board-51/2024-10-25/
CATEGORIES:Activities,Rec. Hall
END:VEVENT
BEGIN:VEVENT
DTSTART;TZID=America/Toronto:20241024T190000
DTEND;TZID=America/Toronto:20241024T210000
DTSTAMP:20260422T204955
CREATED:20240131T192632Z
LAST-MODIFIED:20240131T192632Z
UID:6121-1729796400-1729803600@mapleleafacres.ca
SUMMARY:Pickle Ball
DESCRIPTION:
URL:https://mapleleafacres.ca/event/pickle-ball/2024-10-24/
CATEGORIES:Activities,Rec. Hall
END:VEVENT
BEGIN:VEVENT
DTSTART;TZID=America/Toronto:20241024T130000
DTEND;TZID=America/Toronto:20241024T160000
DTSTAMP:20260422T204955
CREATED:20240411T171035Z
LAST-MODIFIED:20240411T171035Z
UID:6348-1729774800-1729785600@mapleleafacres.ca
SUMMARY:Card Bingo
DESCRIPTION:
URL:https://mapleleafacres.ca/event/card-bingo-62/2024-10-24/
CATEGORIES:Adult Hall
END:VEVENT
BEGIN:VEVENT
DTSTART;TZID=America/Toronto:20241023T190000
DTEND;TZID=America/Toronto:20241023T220000
DTSTAMP:20260422T204955
CREATED:20240131T192245Z
LAST-MODIFIED:20240131T192245Z
UID:6080-1729710000-1729720800@mapleleafacres.ca
SUMMARY:Darts
DESCRIPTION:
URL:https://mapleleafacres.ca/event/darts-45/2024-10-23/
CATEGORIES:Activities,Rec. Hall
END:VEVENT
BEGIN:VEVENT
DTSTART;TZID=America/Toronto:20241021T190000
DTEND;TZID=America/Toronto:20241021T220000
DTSTAMP:20260422T204955
CREATED:20240528T131849Z
LAST-MODIFIED:20240528T131849Z
UID:6477-1729537200-1729548000@mapleleafacres.ca
SUMMARY:Euchre Night
DESCRIPTION:
URL:https://mapleleafacres.ca/event/euchre-night/2024-10-21/
CATEGORIES:Activities,Adult Hall
END:VEVENT
BEGIN:VEVENT
DTSTART;TZID=America/Toronto:20241021T130000
DTEND;TZID=America/Toronto:20241021T150000
DTSTAMP:20260422T204955
CREATED:20240131T192816Z
LAST-MODIFIED:20240131T192816Z
UID:6168-1729515600-1729522800@mapleleafacres.ca
SUMMARY:Pokeno
DESCRIPTION:
URL:https://mapleleafacres.ca/event/pokeno-29/2024-10-21/
CATEGORIES:Activities,Fireside Room
END:VEVENT
BEGIN:VEVENT
DTSTART;TZID=America/Toronto:20241021T100000
DTEND;TZID=America/Toronto:20241021T230000
DTSTAMP:20260422T204955
CREATED:20240131T191511Z
LAST-MODIFIED:20240131T191511Z
UID:6040-1729504800-1729551600@mapleleafacres.ca
SUMMARY:Line Dancing
DESCRIPTION:
URL:https://mapleleafacres.ca/event/line-dancing-46/2024-10-21/
CATEGORIES:Activities,Rec. Hall
END:VEVENT
BEGIN:VEVENT
DTSTART;TZID=America/Toronto:20241020T090000
DTEND;TZID=America/Toronto:20241020T110000
DTSTAMP:20260422T204955
CREATED:20240528T132424Z
LAST-MODIFIED:20240528T132424Z
UID:6486-1729414800-1729422000@mapleleafacres.ca
SUMMARY:Coffee Chat
DESCRIPTION:
URL:https://mapleleafacres.ca/event/coffee-chat-57/
CATEGORIES:Activities,Adult Hall
END:VEVENT
BEGIN:VEVENT
DTSTART;TZID=America/Toronto:20241019T220000
DTEND;TZID=America/Toronto:20241019T233000
DTSTAMP:20260422T204955
CREATED:20240918T140411Z
LAST-MODIFIED:20240918T140411Z
UID:6724-1729375200-1729380600@mapleleafacres.ca
SUMMARY:Sports & Rec
DESCRIPTION:
URL:https://mapleleafacres.ca/event/sports-rec-2/
CATEGORIES:Activities,Rec. Hall
END:VEVENT
BEGIN:VEVENT
DTSTART;TZID=America/Toronto:20241019T190000
DTEND;TZID=America/Toronto:20241019T223000
DTSTAMP:20260422T204955
CREATED:20240312T190925Z
LAST-MODIFIED:20240312T190925Z
UID:6236-1729364400-1729377000@mapleleafacres.ca
SUMMARY:Darts
DESCRIPTION:
URL:https://mapleleafacres.ca/event/darts-46/
CATEGORIES:Activities,Rec. Hall
END:VEVENT
BEGIN:VEVENT
DTSTART;TZID=America/Toronto:20241019T150000
DTEND;TZID=America/Toronto:20241019T233000
DTSTAMP:20260422T204955
CREATED:20240918T135921Z
LAST-MODIFIED:20240918T135921Z
UID:6719-1729350000-1729380600@mapleleafacres.ca
SUMMARY:Sprots & Rec
DESCRIPTION:
URL:https://mapleleafacres.ca/event/sprots-rec/
CATEGORIES:Activities,Fireside Room
END:VEVENT
BEGIN:VEVENT
DTSTART;TZID=America/Toronto:20241018T190000
DTEND;TZID=America/Toronto:20241018T233000
DTSTAMP:20260422T204955
CREATED:20240918T134038Z
LAST-MODIFIED:20240918T134345Z
UID:6643-1729278000-1729294200@mapleleafacres.ca
SUMMARY:Poker
DESCRIPTION:
URL:https://mapleleafacres.ca/event/poker/2024-10-18/
CATEGORIES:Activities,Fireside Room
END:VEVENT
BEGIN:VEVENT
DTSTART;TZID=America/Toronto:20241018T133000
DTEND;TZID=America/Toronto:20241018T160000
DTSTAMP:20260422T204955
CREATED:20240131T185238Z
LAST-MODIFIED:20240131T185238Z
UID:5917-1729258200-1729267200@mapleleafacres.ca
SUMMARY:Shuffle Board
DESCRIPTION:
URL:https://mapleleafacres.ca/event/shuffle-board-51/2024-10-18/
CATEGORIES:Activities,Rec. Hall
END:VEVENT
BEGIN:VEVENT
DTSTART;TZID=America/Toronto:20241017T190000
DTEND;TZID=America/Toronto:20241017T210000
DTSTAMP:20260422T204955
CREATED:20240131T192632Z
LAST-MODIFIED:20240131T192632Z
UID:6120-1729191600-1729198800@mapleleafacres.ca
SUMMARY:Pickle Ball
DESCRIPTION:
URL:https://mapleleafacres.ca/event/pickle-ball/2024-10-17/
CATEGORIES:Activities,Rec. Hall
END:VEVENT
BEGIN:VEVENT
DTSTART;TZID=America/Toronto:20241017T130000
DTEND;TZID=America/Toronto:20241017T160000
DTSTAMP:20260422T204955
CREATED:20240411T171035Z
LAST-MODIFIED:20240411T171035Z
UID:6347-1729170000-1729180800@mapleleafacres.ca
SUMMARY:Card Bingo
DESCRIPTION:
URL:https://mapleleafacres.ca/event/card-bingo-62/2024-10-17/
CATEGORIES:Adult Hall
END:VEVENT
BEGIN:VEVENT
DTSTART;TZID=America/Toronto:20241016T190000
DTEND;TZID=America/Toronto:20241016T220000
DTSTAMP:20260422T204955
CREATED:20240131T192245Z
LAST-MODIFIED:20240131T192245Z
UID:6079-1729105200-1729116000@mapleleafacres.ca
SUMMARY:Darts
DESCRIPTION:
URL:https://mapleleafacres.ca/event/darts-45/2024-10-16/
CATEGORIES:Activities,Rec. Hall
END:VEVENT
BEGIN:VEVENT
DTSTART;TZID=America/Toronto:20241014T190000
DTEND;TZID=America/Toronto:20241014T220000
DTSTAMP:20260422T204955
CREATED:20240528T131849Z
LAST-MODIFIED:20240528T131849Z
UID:6476-1728932400-1728943200@mapleleafacres.ca
SUMMARY:Euchre Night
DESCRIPTION:
URL:https://mapleleafacres.ca/event/euchre-night/2024-10-14/
CATEGORIES:Activities,Adult Hall
END:VEVENT
BEGIN:VEVENT
DTSTART;TZID=America/Toronto:20241014T130000
DTEND;TZID=America/Toronto:20241014T150000
DTSTAMP:20260422T204955
CREATED:20240131T192816Z
LAST-MODIFIED:20240131T192816Z
UID:6167-1728910800-1728918000@mapleleafacres.ca
SUMMARY:Pokeno
DESCRIPTION:
URL:https://mapleleafacres.ca/event/pokeno-29/2024-10-14/
CATEGORIES:Activities,Fireside Room
END:VEVENT
BEGIN:VEVENT
DTSTART;TZID=America/Toronto:20241014T110000
DTEND;TZID=America/Toronto:20241014T180000
DTSTAMP:20260422T204955
CREATED:20241008T133451Z
LAST-MODIFIED:20241008T133451Z
UID:6814-1728903600-1728928800@mapleleafacres.ca
SUMMARY:Private party
DESCRIPTION:
URL:https://mapleleafacres.ca/event/private-party-109/
CATEGORIES:Activities,Adult Hall
END:VEVENT
BEGIN:VEVENT
DTSTART;TZID=America/Toronto:20241014T100000
DTEND;TZID=America/Toronto:20241014T230000
DTSTAMP:20260422T204955
CREATED:20240131T191511Z
LAST-MODIFIED:20240131T191511Z
UID:6039-1728900000-1728946800@mapleleafacres.ca
SUMMARY:Line Dancing
DESCRIPTION:
URL:https://mapleleafacres.ca/event/line-dancing-46/2024-10-14/
CATEGORIES:Activities,Rec. Hall
END:VEVENT
BEGIN:VEVENT
DTSTART;VALUE=DATE:20241013
DTEND;VALUE=DATE:20241014
DTSTAMP:20260422T204955
CREATED:20241008T133419Z
LAST-MODIFIED:20241008T133419Z
UID:6812-1728777600-1728863999@mapleleafacres.ca
SUMMARY:Private party
DESCRIPTION:
URL:https://mapleleafacres.ca/event/private-party-108/
CATEGORIES:Activities,Adult Hall
END:VEVENT
BEGIN:VEVENT
DTSTART;VALUE=DATE:20241013
DTEND;VALUE=DATE:20241014
DTSTAMP:20260422T204955
CREATED:20241008T133242Z
LAST-MODIFIED:20241008T133242Z
UID:6806-1728777600-1728863999@mapleleafacres.ca
SUMMARY:Private party
DESCRIPTION:
URL:https://mapleleafacres.ca/event/private-party-105/
CATEGORIES:Activities,Fireside Room
END:VEVENT
BEGIN:VEVENT
DTSTART;VALUE=DATE:20241012
DTEND;VALUE=DATE:20241013
DTSTAMP:20260422T204955
CREATED:20241008T133355Z
LAST-MODIFIED:20241008T133355Z
UID:6810-1728691200-1728777599@mapleleafacres.ca
SUMMARY:Private party
DESCRIPTION:
URL:https://mapleleafacres.ca/event/private-party-107/
CATEGORIES:Activities,Adult Hall
END:VEVENT
BEGIN:VEVENT
DTSTART;VALUE=DATE:20241012
DTEND;VALUE=DATE:20241013
DTSTAMP:20260422T204955
CREATED:20241008T133215Z
LAST-MODIFIED:20241008T133215Z
UID:6804-1728691200-1728777599@mapleleafacres.ca
SUMMARY:Private party
DESCRIPTION:
URL:https://mapleleafacres.ca/event/private-party-104/
CATEGORIES:Activities,Fireside Room
END:VEVENT
BEGIN:VEVENT
DTSTART;VALUE=DATE:20241012
DTEND;VALUE=DATE:20241013
DTSTAMP:20260422T204955
CREATED:20240312T190836Z
LAST-MODIFIED:20240312T190836Z
UID:6234-1728691200-1728777599@mapleleafacres.ca
SUMMARY:Sunga Party
DESCRIPTION:
URL:https://mapleleafacres.ca/event/sunga-party/
CATEGORIES:Rec. Hall
END:VEVENT
BEGIN:VEVENT
DTSTART;TZID=America/Toronto:20241011T133000
DTEND;TZID=America/Toronto:20241011T160000
DTSTAMP:20260422T204955
CREATED:20240131T185238Z
LAST-MODIFIED:20240131T185238Z
UID:5916-1728653400-1728662400@mapleleafacres.ca
SUMMARY:Shuffle Board
DESCRIPTION:
URL:https://mapleleafacres.ca/event/shuffle-board-51/2024-10-11/
CATEGORIES:Activities,Rec. Hall
END:VEVENT
END:VCALENDAR