BEGIN:VCALENDAR
VERSION:2.0
PRODID:-//Maple Leaf Acres - ECPv6.15.18//NONSGML v1.0//EN
CALSCALE:GREGORIAN
METHOD:PUBLISH
X-WR-CALNAME:Maple Leaf Acres
X-ORIGINAL-URL:https://mapleleafacres.ca
X-WR-CALDESC:Events for Maple Leaf Acres
REFRESH-INTERVAL;VALUE=DURATION:PT1H
X-Robots-Tag:noindex
X-PUBLISHED-TTL:PT1H
BEGIN:VTIMEZONE
TZID:America/Toronto
BEGIN:DAYLIGHT
TZOFFSETFROM:-0500
TZOFFSETTO:-0400
TZNAME:EDT
DTSTART:20230312T070000
END:DAYLIGHT
BEGIN:STANDARD
TZOFFSETFROM:-0400
TZOFFSETTO:-0500
TZNAME:EST
DTSTART:20231105T060000
END:STANDARD
BEGIN:DAYLIGHT
TZOFFSETFROM:-0500
TZOFFSETTO:-0400
TZNAME:EDT
DTSTART:20240310T070000
END:DAYLIGHT
BEGIN:STANDARD
TZOFFSETFROM:-0400
TZOFFSETTO:-0500
TZNAME:EST
DTSTART:20241103T060000
END:STANDARD
BEGIN:DAYLIGHT
TZOFFSETFROM:-0500
TZOFFSETTO:-0400
TZNAME:EDT
DTSTART:20250309T070000
END:DAYLIGHT
BEGIN:STANDARD
TZOFFSETFROM:-0400
TZOFFSETTO:-0500
TZNAME:EST
DTSTART:20251102T060000
END:STANDARD
END:VTIMEZONE
BEGIN:VEVENT
DTSTART;TZID=America/Toronto:20240713T190000
DTEND;TZID=America/Toronto:20240714T000000
DTSTAMP:20260422T184854
CREATED:20240116T181725Z
LAST-MODIFIED:20240116T181725Z
UID:5835-1720897200-1720915200@mapleleafacres.ca
SUMMARY:Family Dance
DESCRIPTION:
URL:https://mapleleafacres.ca/event/family-dance/
CATEGORIES:Activities,Rec. Hall
END:VEVENT
BEGIN:VEVENT
DTSTART;TZID=America/Toronto:20240713T150000
DTEND;TZID=America/Toronto:20240713T233000
DTSTAMP:20260422T184854
CREATED:20240411T201222Z
LAST-MODIFIED:20240411T201222Z
UID:6384-1720882800-1720913400@mapleleafacres.ca
SUMMARY:Trinity Committee
DESCRIPTION:
URL:https://mapleleafacres.ca/event/trinity-committee/
CATEGORIES:Adult Hall
END:VEVENT
BEGIN:VEVENT
DTSTART;TZID=America/Toronto:20240713T080000
DTEND;TZID=America/Toronto:20240713T170000
DTSTAMP:20260422T184854
CREATED:20240116T181627Z
LAST-MODIFIED:20240116T181627Z
UID:5833-1720857600-1720890000@mapleleafacres.ca
SUMMARY:Family Olympics - time TBD
DESCRIPTION:
URL:https://mapleleafacres.ca/event/family-olympics-time-tbd/
CATEGORIES:Activities
END:VEVENT
BEGIN:VEVENT
DTSTART;TZID=America/Toronto:20240712T200000
DTEND;TZID=America/Toronto:20240712T220000
DTSTAMP:20260422T184854
CREATED:20240131T190540Z
LAST-MODIFIED:20240131T190540Z
UID:5996-1720814400-1720821600@mapleleafacres.ca
SUMMARY:Bingo
DESCRIPTION:
URL:https://mapleleafacres.ca/event/bingo-24/2024-07-12/
CATEGORIES:Activities,Rec. Hall
END:VEVENT
BEGIN:VEVENT
DTSTART;TZID=America/Toronto:20240712T200000
DTEND;TZID=America/Toronto:20240712T220000
DTSTAMP:20260422T184854
CREATED:20240116T181538Z
LAST-MODIFIED:20240116T181538Z
UID:5831-1720814400-1720821600@mapleleafacres.ca
SUMMARY:Family Bingo
DESCRIPTION:
URL:https://mapleleafacres.ca/event/family-bingo/
CATEGORIES:Activities,Rec. Hall
END:VEVENT
BEGIN:VEVENT
DTSTART;TZID=America/Toronto:20240712T133000
DTEND;TZID=America/Toronto:20240712T160000
DTSTAMP:20260422T184854
CREATED:20240131T185238Z
LAST-MODIFIED:20240131T185238Z
UID:5903-1720791000-1720800000@mapleleafacres.ca
SUMMARY:Shuffle Board
DESCRIPTION:
URL:https://mapleleafacres.ca/event/shuffle-board-51/2024-07-12/
CATEGORIES:Activities,Rec. Hall
END:VEVENT
BEGIN:VEVENT
DTSTART;TZID=America/Toronto:20240711T190000
DTEND;TZID=America/Toronto:20240711T210000
DTSTAMP:20260422T184854
CREATED:20240131T192632Z
LAST-MODIFIED:20240131T192632Z
UID:6106-1720724400-1720731600@mapleleafacres.ca
SUMMARY:Pickle Ball
DESCRIPTION:
URL:https://mapleleafacres.ca/event/pickle-ball/2024-07-11/
CATEGORIES:Activities,Rec. Hall
END:VEVENT
BEGIN:VEVENT
DTSTART;TZID=America/Toronto:20240711T130000
DTEND;TZID=America/Toronto:20240711T160000
DTSTAMP:20260422T184854
CREATED:20240411T171035Z
LAST-MODIFIED:20240411T171035Z
UID:6333-1720702800-1720713600@mapleleafacres.ca
SUMMARY:Card Bingo
DESCRIPTION:
URL:https://mapleleafacres.ca/event/card-bingo-62/2024-07-11/
CATEGORIES:Adult Hall
END:VEVENT
BEGIN:VEVENT
DTSTART;TZID=America/Toronto:20240710T190000
DTEND;TZID=America/Toronto:20240710T220000
DTSTAMP:20260422T184854
CREATED:20240131T192245Z
LAST-MODIFIED:20240131T192245Z
UID:6064-1720638000-1720648800@mapleleafacres.ca
SUMMARY:Darts
DESCRIPTION:
URL:https://mapleleafacres.ca/event/darts-45/2024-07-10/
CATEGORIES:Activities,Rec. Hall
END:VEVENT
BEGIN:VEVENT
DTSTART;TZID=America/Toronto:20240708T190000
DTEND;TZID=America/Toronto:20240708T220000
DTSTAMP:20260422T184854
CREATED:20240528T131849Z
LAST-MODIFIED:20240528T131849Z
UID:6461-1720465200-1720476000@mapleleafacres.ca
SUMMARY:Euchre Night
DESCRIPTION:
URL:https://mapleleafacres.ca/event/euchre-night/2024-07-08/
CATEGORIES:Activities,Adult Hall
END:VEVENT
BEGIN:VEVENT
DTSTART;TZID=America/Toronto:20240708T130000
DTEND;TZID=America/Toronto:20240708T150000
DTSTAMP:20260422T184854
CREATED:20240131T192816Z
LAST-MODIFIED:20240131T192816Z
UID:6153-1720443600-1720450800@mapleleafacres.ca
SUMMARY:Pokeno
DESCRIPTION:
URL:https://mapleleafacres.ca/event/pokeno-29/2024-07-08/
CATEGORIES:Activities,Fireside Room
END:VEVENT
BEGIN:VEVENT
DTSTART;TZID=America/Toronto:20240708T100000
DTEND;TZID=America/Toronto:20240708T230000
DTSTAMP:20260422T184854
CREATED:20240131T191511Z
LAST-MODIFIED:20240131T191511Z
UID:6024-1720432800-1720479600@mapleleafacres.ca
SUMMARY:Line Dancing
DESCRIPTION:
URL:https://mapleleafacres.ca/event/line-dancing-46/2024-07-08/
CATEGORIES:Activities,Rec. Hall
END:VEVENT
BEGIN:VEVENT
DTSTART;TZID=America/Toronto:20240707T080000
DTEND;TZID=America/Toronto:20240707T170000
DTSTAMP:20260422T184854
CREATED:20240116T181434Z
LAST-MODIFIED:20240116T181434Z
UID:5829-1720339200-1720371600@mapleleafacres.ca
SUMMARY:Scavenger Hunt - Time TBD
DESCRIPTION:
URL:https://mapleleafacres.ca/event/scavenger-hunt-time-tbd/
CATEGORIES:Activities
END:VEVENT
BEGIN:VEVENT
DTSTART;TZID=America/Toronto:20240706T140000
DTEND;TZID=America/Toronto:20240706T180000
DTSTAMP:20260422T184854
CREATED:20231019T155156Z
LAST-MODIFIED:20231019T155156Z
UID:5698-1720274400-1720288800@mapleleafacres.ca
SUMMARY:Harmony Day
DESCRIPTION:
URL:https://mapleleafacres.ca/event/harmony-day-4/
CATEGORIES:Activities,Rec. Hall
END:VEVENT
BEGIN:VEVENT
DTSTART;TZID=America/Toronto:20240705T200000
DTEND;TZID=America/Toronto:20240705T220000
DTSTAMP:20260422T184854
CREATED:20240131T190540Z
LAST-MODIFIED:20240131T190540Z
UID:5995-1720209600-1720216800@mapleleafacres.ca
SUMMARY:Bingo
DESCRIPTION:
URL:https://mapleleafacres.ca/event/bingo-24/2024-07-05/
CATEGORIES:Activities,Rec. Hall
END:VEVENT
BEGIN:VEVENT
DTSTART;TZID=America/Toronto:20240705T133000
DTEND;TZID=America/Toronto:20240705T160000
DTSTAMP:20260422T184854
CREATED:20240131T185238Z
LAST-MODIFIED:20240131T185238Z
UID:5902-1720186200-1720195200@mapleleafacres.ca
SUMMARY:Shuffle Board
DESCRIPTION:
URL:https://mapleleafacres.ca/event/shuffle-board-51/2024-07-05/
CATEGORIES:Activities,Rec. Hall
END:VEVENT
BEGIN:VEVENT
DTSTART;TZID=America/Toronto:20240704T190000
DTEND;TZID=America/Toronto:20240704T210000
DTSTAMP:20260422T184854
CREATED:20240131T192632Z
LAST-MODIFIED:20240131T192632Z
UID:6105-1720119600-1720126800@mapleleafacres.ca
SUMMARY:Pickle Ball
DESCRIPTION:
URL:https://mapleleafacres.ca/event/pickle-ball/2024-07-04/
CATEGORIES:Activities,Rec. Hall
END:VEVENT
BEGIN:VEVENT
DTSTART;TZID=America/Toronto:20240704T130000
DTEND;TZID=America/Toronto:20240704T160000
DTSTAMP:20260422T184854
CREATED:20240411T171035Z
LAST-MODIFIED:20240411T171035Z
UID:6332-1720098000-1720108800@mapleleafacres.ca
SUMMARY:Card Bingo
DESCRIPTION:
URL:https://mapleleafacres.ca/event/card-bingo-62/2024-07-04/
CATEGORIES:Adult Hall
END:VEVENT
BEGIN:VEVENT
DTSTART;TZID=America/Toronto:20240703T190000
DTEND;TZID=America/Toronto:20240703T220000
DTSTAMP:20260422T184854
CREATED:20240131T192245Z
LAST-MODIFIED:20240131T192245Z
UID:6063-1720033200-1720044000@mapleleafacres.ca
SUMMARY:Darts
DESCRIPTION:
URL:https://mapleleafacres.ca/event/darts-45/2024-07-03/
CATEGORIES:Activities,Rec. Hall
END:VEVENT
BEGIN:VEVENT
DTSTART;TZID=America/Toronto:20240701T190000
DTEND;TZID=America/Toronto:20240701T220000
DTSTAMP:20260422T184854
CREATED:20240528T131849Z
LAST-MODIFIED:20240528T131849Z
UID:6460-1719860400-1719871200@mapleleafacres.ca
SUMMARY:Euchre Night
DESCRIPTION:
URL:https://mapleleafacres.ca/event/euchre-night/2024-07-01/
CATEGORIES:Activities,Adult Hall
END:VEVENT
BEGIN:VEVENT
DTSTART;TZID=America/Toronto:20240701T130000
DTEND;TZID=America/Toronto:20240701T150000
DTSTAMP:20260422T184854
CREATED:20240131T192816Z
LAST-MODIFIED:20240131T192816Z
UID:6152-1719838800-1719846000@mapleleafacres.ca
SUMMARY:Pokeno
DESCRIPTION:
URL:https://mapleleafacres.ca/event/pokeno-29/2024-07-01/
CATEGORIES:Activities,Fireside Room
END:VEVENT
BEGIN:VEVENT
DTSTART;TZID=America/Toronto:20240701T100000
DTEND;TZID=America/Toronto:20240701T230000
DTSTAMP:20260422T184854
CREATED:20240131T191511Z
LAST-MODIFIED:20240131T191511Z
UID:6023-1719828000-1719874800@mapleleafacres.ca
SUMMARY:Line Dancing
DESCRIPTION:
URL:https://mapleleafacres.ca/event/line-dancing-46/2024-07-01/
CATEGORIES:Activities,Rec. Hall
END:VEVENT
BEGIN:VEVENT
DTSTART;TZID=America/Toronto:20240630T140000
DTEND;TZID=America/Toronto:20240630T160000
DTSTAMP:20260422T184854
CREATED:20240111T160133Z
LAST-MODIFIED:20240111T160133Z
UID:5809-1719756000-1719763200@mapleleafacres.ca
SUMMARY:Ice Cream Sundae
DESCRIPTION:
URL:https://mapleleafacres.ca/event/ice-cream-sundae-2/
CATEGORIES:Activities,Adult Hall
END:VEVENT
BEGIN:VEVENT
DTSTART;TZID=America/Toronto:20240630T130000
DTEND;TZID=America/Toronto:20240630T150000
DTSTAMP:20260422T184854
CREATED:20240131T191621Z
LAST-MODIFIED:20240131T191621Z
UID:6042-1719752400-1719759600@mapleleafacres.ca
SUMMARY:Kids Craft
DESCRIPTION:
URL:https://mapleleafacres.ca/event/kids-craft-6/
CATEGORIES:Activities,Rec. Hall
END:VEVENT
BEGIN:VEVENT
DTSTART;TZID=America/Toronto:20240630T130000
DTEND;TZID=America/Toronto:20240630T150000
DTSTAMP:20260422T184854
CREATED:20240111T164842Z
LAST-MODIFIED:20240111T164842Z
UID:5825-1719752400-1719759600@mapleleafacres.ca
SUMMARY:Kids Craft
DESCRIPTION:
URL:https://mapleleafacres.ca/event/kids-craft-4/
CATEGORIES:Activities,Rec. Hall
END:VEVENT
BEGIN:VEVENT
DTSTART;TZID=America/Toronto:20240630T100000
DTEND;TZID=America/Toronto:20240630T120000
DTSTAMP:20260422T184854
CREATED:20240111T165018Z
LAST-MODIFIED:20240111T165018Z
UID:5827-1719741600-1719748800@mapleleafacres.ca
SUMMARY:Horseshoe Tournament
DESCRIPTION:
URL:https://mapleleafacres.ca/event/horseshoe-tournament-5/
CATEGORIES:Activities
END:VEVENT
BEGIN:VEVENT
DTSTART;TZID=America/Toronto:20240630T090000
DTEND;TZID=America/Toronto:20240630T110000
DTSTAMP:20260422T184854
CREATED:20240411T200804Z
LAST-MODIFIED:20240411T200804Z
UID:6378-1719738000-1719745200@mapleleafacres.ca
SUMMARY:Coffee Chat
DESCRIPTION:
URL:https://mapleleafacres.ca/event/coffee-chat-49/
CATEGORIES:Adult Hall
END:VEVENT
BEGIN:VEVENT
DTSTART;TZID=America/Toronto:20240629T200000
DTEND;TZID=America/Toronto:20240630T000000
DTSTAMP:20260422T184854
CREATED:20240111T162516Z
LAST-MODIFIED:20240111T162516Z
UID:5823-1719691200-1719705600@mapleleafacres.ca
SUMMARY:Dance - Poverty's Arse
DESCRIPTION:Adults Only
URL:https://mapleleafacres.ca/event/dance-povertys-arse/
CATEGORIES:Activities,Rec. Hall
END:VEVENT
BEGIN:VEVENT
DTSTART;TZID=America/Toronto:20240629T200000
DTEND;TZID=America/Toronto:20240629T233000
DTSTAMP:20260422T184854
CREATED:20240131T193022Z
LAST-MODIFIED:20240131T193022Z
UID:6179-1719691200-1719703800@mapleleafacres.ca
SUMMARY:Dance - Poverty's Arse
DESCRIPTION:
URL:https://mapleleafacres.ca/event/dance-povertys-arse-2/
CATEGORIES:Activities,Rec. Hall
END:VEVENT
BEGIN:VEVENT
DTSTART;TZID=America/Toronto:20240629T140000
DTEND;TZID=America/Toronto:20240629T160000
DTSTAMP:20260422T184854
CREATED:20240131T191813Z
LAST-MODIFIED:20240131T191813Z
UID:6046-1719669600-1719676800@mapleleafacres.ca
SUMMARY:Chocolate Bar Bingo
DESCRIPTION:
URL:https://mapleleafacres.ca/event/chocolate-bar-bingo-14/
CATEGORIES:Activities,Rec. Hall
END:VEVENT
END:VCALENDAR