BEGIN:VCALENDAR
VERSION:2.0
PRODID:-//Maple Leaf Acres - ECPv6.15.18//NONSGML v1.0//EN
CALSCALE:GREGORIAN
METHOD:PUBLISH
X-WR-CALNAME:Maple Leaf Acres
X-ORIGINAL-URL:https://mapleleafacres.ca
X-WR-CALDESC:Events for Maple Leaf Acres
REFRESH-INTERVAL;VALUE=DURATION:PT1H
X-Robots-Tag:noindex
X-PUBLISHED-TTL:PT1H
BEGIN:VTIMEZONE
TZID:America/Toronto
BEGIN:DAYLIGHT
TZOFFSETFROM:-0500
TZOFFSETTO:-0400
TZNAME:EDT
DTSTART:20230312T070000
END:DAYLIGHT
BEGIN:STANDARD
TZOFFSETFROM:-0400
TZOFFSETTO:-0500
TZNAME:EST
DTSTART:20231105T060000
END:STANDARD
BEGIN:DAYLIGHT
TZOFFSETFROM:-0500
TZOFFSETTO:-0400
TZNAME:EDT
DTSTART:20240310T070000
END:DAYLIGHT
BEGIN:STANDARD
TZOFFSETFROM:-0400
TZOFFSETTO:-0500
TZNAME:EST
DTSTART:20241103T060000
END:STANDARD
BEGIN:DAYLIGHT
TZOFFSETFROM:-0500
TZOFFSETTO:-0400
TZNAME:EDT
DTSTART:20250309T070000
END:DAYLIGHT
BEGIN:STANDARD
TZOFFSETFROM:-0400
TZOFFSETTO:-0500
TZNAME:EST
DTSTART:20251102T060000
END:STANDARD
END:VTIMEZONE
BEGIN:VEVENT
DTSTART;TZID=America/Toronto:20240918T190000
DTEND;TZID=America/Toronto:20240918T220000
DTSTAMP:20260423T045712
CREATED:20240131T192245Z
LAST-MODIFIED:20240131T192245Z
UID:6075-1726686000-1726696800@mapleleafacres.ca
SUMMARY:Darts
DESCRIPTION:
URL:https://mapleleafacres.ca/event/darts-45/2024-09-18/
CATEGORIES:Activities,Rec. Hall
END:VEVENT
BEGIN:VEVENT
DTSTART;TZID=America/Toronto:20240916T190000
DTEND;TZID=America/Toronto:20240916T220000
DTSTAMP:20260423T045712
CREATED:20240528T131849Z
LAST-MODIFIED:20240528T131849Z
UID:6472-1726513200-1726524000@mapleleafacres.ca
SUMMARY:Euchre Night
DESCRIPTION:
URL:https://mapleleafacres.ca/event/euchre-night/2024-09-16/
CATEGORIES:Activities,Adult Hall
END:VEVENT
BEGIN:VEVENT
DTSTART;TZID=America/Toronto:20240916T130000
DTEND;TZID=America/Toronto:20240916T150000
DTSTAMP:20260423T045712
CREATED:20240131T192816Z
LAST-MODIFIED:20240131T192816Z
UID:6163-1726491600-1726498800@mapleleafacres.ca
SUMMARY:Pokeno
DESCRIPTION:
URL:https://mapleleafacres.ca/event/pokeno-29/2024-09-16/
CATEGORIES:Activities,Fireside Room
END:VEVENT
BEGIN:VEVENT
DTSTART;TZID=America/Toronto:20240916T100000
DTEND;TZID=America/Toronto:20240916T230000
DTSTAMP:20260423T045712
CREATED:20240131T191511Z
LAST-MODIFIED:20240131T191511Z
UID:6035-1726480800-1726527600@mapleleafacres.ca
SUMMARY:Line Dancing
DESCRIPTION:
URL:https://mapleleafacres.ca/event/line-dancing-46/2024-09-16/
CATEGORIES:Activities,Rec. Hall
END:VEVENT
BEGIN:VEVENT
DTSTART;TZID=America/Toronto:20240913T200000
DTEND;TZID=America/Toronto:20240913T220000
DTSTAMP:20260423T045712
CREATED:20240131T190540Z
LAST-MODIFIED:20240131T190540Z
UID:6006-1726257600-1726264800@mapleleafacres.ca
SUMMARY:Bingo
DESCRIPTION:
URL:https://mapleleafacres.ca/event/bingo-24/2024-09-13/
CATEGORIES:Activities,Rec. Hall
END:VEVENT
BEGIN:VEVENT
DTSTART;TZID=America/Toronto:20240913T133000
DTEND;TZID=America/Toronto:20240913T160000
DTSTAMP:20260423T045712
CREATED:20240131T185238Z
LAST-MODIFIED:20240131T185238Z
UID:5912-1726234200-1726243200@mapleleafacres.ca
SUMMARY:Shuffle Board
DESCRIPTION:
URL:https://mapleleafacres.ca/event/shuffle-board-51/2024-09-13/
CATEGORIES:Activities,Rec. Hall
END:VEVENT
BEGIN:VEVENT
DTSTART;TZID=America/Toronto:20240912T190000
DTEND;TZID=America/Toronto:20240912T210000
DTSTAMP:20260423T045712
CREATED:20240131T192632Z
LAST-MODIFIED:20240131T192632Z
UID:6115-1726167600-1726174800@mapleleafacres.ca
SUMMARY:Pickle Ball
DESCRIPTION:
URL:https://mapleleafacres.ca/event/pickle-ball/2024-09-12/
CATEGORIES:Activities,Rec. Hall
END:VEVENT
BEGIN:VEVENT
DTSTART;TZID=America/Toronto:20240912T130000
DTEND;TZID=America/Toronto:20240912T160000
DTSTAMP:20260423T045712
CREATED:20240411T171035Z
LAST-MODIFIED:20240411T171035Z
UID:6342-1726146000-1726156800@mapleleafacres.ca
SUMMARY:Card Bingo
DESCRIPTION:
URL:https://mapleleafacres.ca/event/card-bingo-62/2024-09-12/
CATEGORIES:Adult Hall
END:VEVENT
BEGIN:VEVENT
DTSTART;TZID=America/Toronto:20240911T190000
DTEND;TZID=America/Toronto:20240911T220000
DTSTAMP:20260423T045712
CREATED:20240131T192245Z
LAST-MODIFIED:20240131T192245Z
UID:6074-1726081200-1726092000@mapleleafacres.ca
SUMMARY:Darts
DESCRIPTION:
URL:https://mapleleafacres.ca/event/darts-45/2024-09-11/
CATEGORIES:Activities,Rec. Hall
END:VEVENT
BEGIN:VEVENT
DTSTART;TZID=America/Toronto:20240909T190000
DTEND;TZID=America/Toronto:20240909T220000
DTSTAMP:20260423T045712
CREATED:20240528T131849Z
LAST-MODIFIED:20240528T131849Z
UID:6471-1725908400-1725919200@mapleleafacres.ca
SUMMARY:Euchre Night
DESCRIPTION:
URL:https://mapleleafacres.ca/event/euchre-night/2024-09-09/
CATEGORIES:Activities,Adult Hall
END:VEVENT
BEGIN:VEVENT
DTSTART;TZID=America/Toronto:20240909T130000
DTEND;TZID=America/Toronto:20240909T150000
DTSTAMP:20260423T045712
CREATED:20240131T192816Z
LAST-MODIFIED:20240131T192816Z
UID:6162-1725886800-1725894000@mapleleafacres.ca
SUMMARY:Pokeno
DESCRIPTION:
URL:https://mapleleafacres.ca/event/pokeno-29/2024-09-09/
CATEGORIES:Activities,Fireside Room
END:VEVENT
BEGIN:VEVENT
DTSTART;TZID=America/Toronto:20240909T100000
DTEND;TZID=America/Toronto:20240909T230000
DTSTAMP:20260423T045712
CREATED:20240131T191511Z
LAST-MODIFIED:20240131T191511Z
UID:6034-1725876000-1725922800@mapleleafacres.ca
SUMMARY:Line Dancing
DESCRIPTION:
URL:https://mapleleafacres.ca/event/line-dancing-46/2024-09-09/
CATEGORIES:Activities,Rec. Hall
END:VEVENT
BEGIN:VEVENT
DTSTART;TZID=America/Toronto:20240908T090000
DTEND;TZID=America/Toronto:20240908T110000
DTSTAMP:20260423T045712
CREATED:20240528T132232Z
LAST-MODIFIED:20240528T132232Z
UID:6480-1725786000-1725793200@mapleleafacres.ca
SUMMARY:Coffee Chat
DESCRIPTION:
URL:https://mapleleafacres.ca/event/coffee-chat-54/
CATEGORIES:Activities,Adult Hall
END:VEVENT
BEGIN:VEVENT
DTSTART;TZID=America/Toronto:20240907T170000
DTEND;TZID=America/Toronto:20240907T210000
DTSTAMP:20260423T045712
CREATED:20240116T185240Z
LAST-MODIFIED:20240116T185240Z
UID:5869-1725728400-1725742800@mapleleafacres.ca
SUMMARY:Mexican Stack'um Dinner
DESCRIPTION:
URL:https://mapleleafacres.ca/event/mexican-stackum-dinner/
CATEGORIES:Activities,Adult Hall
END:VEVENT
BEGIN:VEVENT
DTSTART;TZID=America/Toronto:20240906T200000
DTEND;TZID=America/Toronto:20240906T220000
DTSTAMP:20260423T045712
CREATED:20240131T190540Z
LAST-MODIFIED:20240131T190540Z
UID:6005-1725652800-1725660000@mapleleafacres.ca
SUMMARY:Bingo
DESCRIPTION:
URL:https://mapleleafacres.ca/event/bingo-24/2024-09-06/
CATEGORIES:Activities,Rec. Hall
END:VEVENT
BEGIN:VEVENT
DTSTART;TZID=America/Toronto:20240906T133000
DTEND;TZID=America/Toronto:20240906T160000
DTSTAMP:20260423T045712
CREATED:20240131T185238Z
LAST-MODIFIED:20240131T185238Z
UID:5911-1725629400-1725638400@mapleleafacres.ca
SUMMARY:Shuffle Board
DESCRIPTION:
URL:https://mapleleafacres.ca/event/shuffle-board-51/2024-09-06/
CATEGORIES:Activities,Rec. Hall
END:VEVENT
BEGIN:VEVENT
DTSTART;TZID=America/Toronto:20240905T190000
DTEND;TZID=America/Toronto:20240905T210000
DTSTAMP:20260423T045712
CREATED:20240131T192632Z
LAST-MODIFIED:20240131T192632Z
UID:6114-1725562800-1725570000@mapleleafacres.ca
SUMMARY:Pickle Ball
DESCRIPTION:
URL:https://mapleleafacres.ca/event/pickle-ball/2024-09-05/
CATEGORIES:Activities,Rec. Hall
END:VEVENT
BEGIN:VEVENT
DTSTART;TZID=America/Toronto:20240905T130000
DTEND;TZID=America/Toronto:20240905T160000
DTSTAMP:20260423T045712
CREATED:20240411T171035Z
LAST-MODIFIED:20240411T171035Z
UID:6341-1725541200-1725552000@mapleleafacres.ca
SUMMARY:Card Bingo
DESCRIPTION:
URL:https://mapleleafacres.ca/event/card-bingo-62/2024-09-05/
CATEGORIES:Adult Hall
END:VEVENT
BEGIN:VEVENT
DTSTART;TZID=America/Toronto:20240904T190000
DTEND;TZID=America/Toronto:20240904T220000
DTSTAMP:20260423T045712
CREATED:20240131T192245Z
LAST-MODIFIED:20240131T192245Z
UID:6073-1725476400-1725487200@mapleleafacres.ca
SUMMARY:Darts
DESCRIPTION:
URL:https://mapleleafacres.ca/event/darts-45/2024-09-04/
CATEGORIES:Activities,Rec. Hall
END:VEVENT
BEGIN:VEVENT
DTSTART;TZID=America/Toronto:20240902T190000
DTEND;TZID=America/Toronto:20240902T220000
DTSTAMP:20260423T045712
CREATED:20240528T131849Z
LAST-MODIFIED:20240528T131849Z
UID:6470-1725303600-1725314400@mapleleafacres.ca
SUMMARY:Euchre Night
DESCRIPTION:
URL:https://mapleleafacres.ca/event/euchre-night/2024-09-02/
CATEGORIES:Activities,Adult Hall
END:VEVENT
BEGIN:VEVENT
DTSTART;TZID=America/Toronto:20240902T130000
DTEND;TZID=America/Toronto:20240902T150000
DTSTAMP:20260423T045712
CREATED:20240131T192816Z
LAST-MODIFIED:20240131T192816Z
UID:6161-1725282000-1725289200@mapleleafacres.ca
SUMMARY:Pokeno
DESCRIPTION:
URL:https://mapleleafacres.ca/event/pokeno-29/2024-09-02/
CATEGORIES:Activities,Fireside Room
END:VEVENT
BEGIN:VEVENT
DTSTART;TZID=America/Toronto:20240902T100000
DTEND;TZID=America/Toronto:20240902T230000
DTSTAMP:20260423T045712
CREATED:20240131T191511Z
LAST-MODIFIED:20240131T191511Z
UID:6033-1725271200-1725318000@mapleleafacres.ca
SUMMARY:Line Dancing
DESCRIPTION:
URL:https://mapleleafacres.ca/event/line-dancing-46/2024-09-02/
CATEGORIES:Activities,Rec. Hall
END:VEVENT
BEGIN:VEVENT
DTSTART;TZID=America/Toronto:20240901T130000
DTEND;TZID=America/Toronto:20240901T150000
DTSTAMP:20260423T045712
CREATED:20240116T185124Z
LAST-MODIFIED:20240116T185124Z
UID:5867-1725195600-1725202800@mapleleafacres.ca
SUMMARY:Kids Craft
DESCRIPTION:
URL:https://mapleleafacres.ca/event/kids-craft-5/
CATEGORIES:Activities,Adult Hall
END:VEVENT
BEGIN:VEVENT
DTSTART;VALUE=DATE:20240901
DTEND;VALUE=DATE:20240902
DTSTAMP:20260423T045712
CREATED:20240411T151342Z
LAST-MODIFIED:20240411T151342Z
UID:6314-1725148800-1725235199@mapleleafacres.ca
SUMMARY:Trinity function
DESCRIPTION:
URL:https://mapleleafacres.ca/event/trinity-function/
CATEGORIES:Rec. Hall
END:VEVENT
BEGIN:VEVENT
DTSTART;TZID=America/Toronto:20240831T200000
DTEND;TZID=America/Toronto:20240901T000000
DTSTAMP:20260423T045712
CREATED:20240116T184715Z
LAST-MODIFIED:20240116T184715Z
UID:5865-1725134400-1725148800@mapleleafacres.ca
SUMMARY:Dance
DESCRIPTION:
URL:https://mapleleafacres.ca/event/dance/
CATEGORIES:Activities,Rec. Hall
END:VEVENT
BEGIN:VEVENT
DTSTART;TZID=America/Toronto:20240831T140000
DTEND;TZID=America/Toronto:20240831T160000
DTSTAMP:20260423T045712
CREATED:20240131T192040Z
LAST-MODIFIED:20240131T192040Z
UID:6052-1725112800-1725120000@mapleleafacres.ca
SUMMARY:Chocolate Bar Bingo
DESCRIPTION:
URL:https://mapleleafacres.ca/event/chocolate-bar-bingo-17/
CATEGORIES:Activities,Rec. Hall
END:VEVENT
BEGIN:VEVENT
DTSTART;TZID=America/Toronto:20240831T140000
DTEND;TZID=America/Toronto:20240831T160000
DTSTAMP:20260423T045712
CREATED:20240111T155442Z
LAST-MODIFIED:20240111T155442Z
UID:5797-1725112800-1725120000@mapleleafacres.ca
SUMMARY:Chocolat Bar Bingo
DESCRIPTION:
URL:https://mapleleafacres.ca/event/chocolat-bar-bingo-7/
CATEGORIES:Activities,Rec. Hall
END:VEVENT
BEGIN:VEVENT
DTSTART;TZID=America/Toronto:20240830T200000
DTEND;TZID=America/Toronto:20240830T220000
DTSTAMP:20260423T045712
CREATED:20240131T190540Z
LAST-MODIFIED:20240131T190540Z
UID:6004-1725048000-1725055200@mapleleafacres.ca
SUMMARY:Bingo
DESCRIPTION:
URL:https://mapleleafacres.ca/event/bingo-24/2024-08-30/
CATEGORIES:Activities,Rec. Hall
END:VEVENT
BEGIN:VEVENT
DTSTART;TZID=America/Toronto:20240830T133000
DTEND;TZID=America/Toronto:20240830T160000
DTSTAMP:20260423T045712
CREATED:20240131T185238Z
LAST-MODIFIED:20240131T185238Z
UID:5910-1725024600-1725033600@mapleleafacres.ca
SUMMARY:Shuffle Board
DESCRIPTION:
URL:https://mapleleafacres.ca/event/shuffle-board-51/2024-08-30/
CATEGORIES:Activities,Rec. Hall
END:VEVENT
BEGIN:VEVENT
DTSTART;TZID=America/Toronto:20240829T190000
DTEND;TZID=America/Toronto:20240829T210000
DTSTAMP:20260423T045712
CREATED:20240131T192632Z
LAST-MODIFIED:20240131T192632Z
UID:6113-1724958000-1724965200@mapleleafacres.ca
SUMMARY:Pickle Ball
DESCRIPTION:
URL:https://mapleleafacres.ca/event/pickle-ball/2024-08-29/
CATEGORIES:Activities,Rec. Hall
END:VEVENT
END:VCALENDAR