BEGIN:VCALENDAR
VERSION:2.0
PRODID:-//Maple Leaf Acres - ECPv6.15.18//NONSGML v1.0//EN
CALSCALE:GREGORIAN
METHOD:PUBLISH
X-WR-CALNAME:Maple Leaf Acres
X-ORIGINAL-URL:https://mapleleafacres.ca
X-WR-CALDESC:Events for Maple Leaf Acres
REFRESH-INTERVAL;VALUE=DURATION:PT1H
X-Robots-Tag:noindex
X-PUBLISHED-TTL:PT1H
BEGIN:VTIMEZONE
TZID:America/Toronto
BEGIN:DAYLIGHT
TZOFFSETFROM:-0500
TZOFFSETTO:-0400
TZNAME:EDT
DTSTART:20220313T070000
END:DAYLIGHT
BEGIN:STANDARD
TZOFFSETFROM:-0400
TZOFFSETTO:-0500
TZNAME:EST
DTSTART:20221106T060000
END:STANDARD
BEGIN:DAYLIGHT
TZOFFSETFROM:-0500
TZOFFSETTO:-0400
TZNAME:EDT
DTSTART:20230312T070000
END:DAYLIGHT
BEGIN:STANDARD
TZOFFSETFROM:-0400
TZOFFSETTO:-0500
TZNAME:EST
DTSTART:20231105T060000
END:STANDARD
BEGIN:DAYLIGHT
TZOFFSETFROM:-0500
TZOFFSETTO:-0400
TZNAME:EDT
DTSTART:20240310T070000
END:DAYLIGHT
BEGIN:STANDARD
TZOFFSETFROM:-0400
TZOFFSETTO:-0500
TZNAME:EST
DTSTART:20241103T060000
END:STANDARD
END:VTIMEZONE
BEGIN:VEVENT
DTSTART;TZID=America/Toronto:20231016T100000
DTEND;TZID=America/Toronto:20231016T120000
DTSTAMP:20260422T224555
CREATED:20230609T160719Z
LAST-MODIFIED:20230609T160719Z
UID:5480-1697450400-1697457600@mapleleafacres.ca
SUMMARY:Yoga
DESCRIPTION:
URL:https://mapleleafacres.ca/event/yoga-24/
CATEGORIES:Activities,Adult Hall
END:VEVENT
BEGIN:VEVENT
DTSTART;TZID=America/Toronto:20231016T100000
DTEND;TZID=America/Toronto:20231016T120000
DTSTAMP:20260422T224555
CREATED:20230118T162626Z
LAST-MODIFIED:20230414T140527Z
UID:4245-1697450400-1697457600@mapleleafacres.ca
SUMMARY:Line Dancing
DESCRIPTION:
URL:https://mapleleafacres.ca/event/line-dancing-39/
CATEGORIES:Activities,Rec. Hall
END:VEVENT
BEGIN:VEVENT
DTSTART;VALUE=DATE:20231014
DTEND;VALUE=DATE:20231015
DTSTAMP:20260422T224555
CREATED:20230717T181358Z
LAST-MODIFIED:20230717T181425Z
UID:5584-1697241600-1697327999@mapleleafacres.ca
SUMMARY:Celebration of Life
DESCRIPTION:
URL:https://mapleleafacres.ca/event/celebration-of-life/
CATEGORIES:Activities,Rec. Hall
END:VEVENT
BEGIN:VEVENT
DTSTART;TZID=America/Toronto:20231013T200000
DTEND;TZID=America/Toronto:20231013T220000
DTSTAMP:20260422T224555
CREATED:20230907T175306Z
LAST-MODIFIED:20230907T175306Z
UID:5651-1697227200-1697234400@mapleleafacres.ca
SUMMARY:Bingo
DESCRIPTION:
URL:https://mapleleafacres.ca/event/bingo-21/
CATEGORIES:Activities,Rec. Hall
END:VEVENT
BEGIN:VEVENT
DTSTART;TZID=America/Toronto:20231013T200000
DTEND;TZID=America/Toronto:20231013T220000
DTSTAMP:20260422T224555
CREATED:20230907T175234Z
LAST-MODIFIED:20230907T175234Z
UID:5649-1697227200-1697234400@mapleleafacres.ca
SUMMARY:Bingo
DESCRIPTION:
URL:https://mapleleafacres.ca/event/bingo-20/
CATEGORIES:Activities
END:VEVENT
BEGIN:VEVENT
DTSTART;TZID=America/Toronto:20231013T133000
DTEND;TZID=America/Toronto:20231013T163000
DTSTAMP:20260422T224555
CREATED:20230126T181252Z
LAST-MODIFIED:20230414T140446Z
UID:4610-1697203800-1697214600@mapleleafacres.ca
SUMMARY:Shuffle Board
DESCRIPTION:
URL:https://mapleleafacres.ca/event/shuffle-board-39/
CATEGORIES:Activities,Rec. Hall
END:VEVENT
BEGIN:VEVENT
DTSTART;TZID=America/Toronto:20231013T130000
DTEND;TZID=America/Toronto:20231013T160000
DTSTAMP:20260422T224555
CREATED:20230201T170125Z
LAST-MODIFIED:20230414T140446Z
UID:4844-1697202000-1697212800@mapleleafacres.ca
SUMMARY:Bid Euchre
DESCRIPTION:
URL:https://mapleleafacres.ca/event/bid-euchre-157/
CATEGORIES:Activities,Adult Hall
END:VEVENT
BEGIN:VEVENT
DTSTART;TZID=America/Toronto:20231012T130000
DTEND;TZID=America/Toronto:20231012T160000
DTSTAMP:20260422T224555
CREATED:20230201T160331Z
LAST-MODIFIED:20230414T140446Z
UID:4748-1697115600-1697126400@mapleleafacres.ca
SUMMARY:Card Bingo
DESCRIPTION:
URL:https://mapleleafacres.ca/event/card-bingo-49/
CATEGORIES:Activities,Adult Hall
END:VEVENT
BEGIN:VEVENT
DTSTART;TZID=America/Toronto:20231011T130000
DTEND;TZID=America/Toronto:20231011T160000
DTSTAMP:20260422T224555
CREATED:20230201T165921Z
LAST-MODIFIED:20230414T140446Z
UID:4836-1697029200-1697040000@mapleleafacres.ca
SUMMARY:Bid Euchre
DESCRIPTION:
URL:https://mapleleafacres.ca/event/bid-euchre-153/
CATEGORIES:Activities,Adult Hall
END:VEVENT
BEGIN:VEVENT
DTSTART;TZID=America/Toronto:20231010T140000
DTEND;TZID=America/Toronto:20231010T160000
DTSTAMP:20260422T224555
CREATED:20230324T171842Z
LAST-MODIFIED:20230414T140446Z
UID:5205-1696946400-1696953600@mapleleafacres.ca
SUMMARY:Pickle Ball
DESCRIPTION:
URL:https://mapleleafacres.ca/event/pickle-ball-66/
CATEGORIES:Activities,Rec. Hall
END:VEVENT
BEGIN:VEVENT
DTSTART;TZID=America/Toronto:20231009T130000
DTEND;TZID=America/Toronto:20231009T160000
DTSTAMP:20260422T224555
CREATED:20230201T165655Z
LAST-MODIFIED:20230414T140446Z
UID:4826-1696856400-1696867200@mapleleafacres.ca
SUMMARY:Bid Euchre
DESCRIPTION:
URL:https://mapleleafacres.ca/event/bid-euchre-148/
CATEGORIES:Activities,Adult Hall
END:VEVENT
BEGIN:VEVENT
DTSTART;TZID=America/Toronto:20231009T100000
DTEND;TZID=America/Toronto:20231009T120000
DTSTAMP:20260422T224555
CREATED:20230118T162555Z
LAST-MODIFIED:20230414T140446Z
UID:4243-1696845600-1696852800@mapleleafacres.ca
SUMMARY:Line Dancing
DESCRIPTION:
URL:https://mapleleafacres.ca/event/line-dancing-38/
CATEGORIES:Activities,Rec. Hall
END:VEVENT
BEGIN:VEVENT
DTSTART;TZID=America/Toronto:20231009T100000
DTEND;TZID=America/Toronto:20231009T110000
DTSTAMP:20260422T224555
CREATED:20230609T160649Z
LAST-MODIFIED:20230609T160649Z
UID:5478-1696845600-1696849200@mapleleafacres.ca
SUMMARY:Yoga
DESCRIPTION:
URL:https://mapleleafacres.ca/event/yoga-23/
CATEGORIES:Activities,Adult Hall
END:VEVENT
BEGIN:VEVENT
DTSTART;TZID=America/Toronto:20231008T090000
DTEND;TZID=America/Toronto:20231008T110000
DTSTAMP:20260422T224555
CREATED:20230118T212750Z
LAST-MODIFIED:20230414T140446Z
UID:4525-1696755600-1696762800@mapleleafacres.ca
SUMMARY:Coffee Chat
DESCRIPTION:
URL:https://mapleleafacres.ca/event/coffee-chat-35/
CATEGORIES:Activities,Adult Hall
END:VEVENT
BEGIN:VEVENT
DTSTART;TZID=America/Toronto:20231007T170000
DTEND;TZID=America/Toronto:20231007T233000
DTSTAMP:20260422T224555
CREATED:20230705T174228Z
LAST-MODIFIED:20230705T174228Z
UID:5570-1696698000-1696721400@mapleleafacres.ca
SUMMARY:Private party
DESCRIPTION:
URL:https://mapleleafacres.ca/event/private-party-82/
CATEGORIES:Activities,Adult Hall
END:VEVENT
BEGIN:VEVENT
DTSTART;VALUE=DATE:20231007
DTEND;VALUE=DATE:20231008
DTSTAMP:20260422T224555
CREATED:20230818T161705Z
LAST-MODIFIED:20230818T162102Z
UID:5620-1696636800-1696723199@mapleleafacres.ca
SUMMARY:Private Party
DESCRIPTION:
URL:https://mapleleafacres.ca/event/private-party-85/
CATEGORIES:Activities,Adult Hall
END:VEVENT
BEGIN:VEVENT
DTSTART;TZID=America/Toronto:20231006T200000
DTEND;TZID=America/Toronto:20231006T220000
DTSTAMP:20260422T224555
CREATED:20230907T175204Z
LAST-MODIFIED:20230907T175204Z
UID:5647-1696622400-1696629600@mapleleafacres.ca
SUMMARY:Bingo
DESCRIPTION:
URL:https://mapleleafacres.ca/event/bingo-19/
CATEGORIES:Activities,Rec. Hall
END:VEVENT
BEGIN:VEVENT
DTSTART;TZID=America/Toronto:20231006T133000
DTEND;TZID=America/Toronto:20231006T163000
DTSTAMP:20260422T224555
CREATED:20230126T181225Z
LAST-MODIFIED:20230414T140446Z
UID:4608-1696599000-1696609800@mapleleafacres.ca
SUMMARY:Shuffle Board
DESCRIPTION:
URL:https://mapleleafacres.ca/event/shuffle-board-38/
CATEGORIES:Activities,Rec. Hall
END:VEVENT
BEGIN:VEVENT
DTSTART;TZID=America/Toronto:20231006T130000
DTEND;TZID=America/Toronto:20231006T160000
DTSTAMP:20260422T224555
CREATED:20230201T170058Z
LAST-MODIFIED:20230414T140446Z
UID:4842-1696597200-1696608000@mapleleafacres.ca
SUMMARY:Bid Euchre
DESCRIPTION:
URL:https://mapleleafacres.ca/event/bid-euchre-156/
CATEGORIES:Activities,Adult Hall
END:VEVENT
BEGIN:VEVENT
DTSTART;TZID=America/Toronto:20231005T130000
DTEND;TZID=America/Toronto:20231005T160000
DTSTAMP:20260422T224555
CREATED:20230201T160233Z
LAST-MODIFIED:20230414T140446Z
UID:4746-1696510800-1696521600@mapleleafacres.ca
SUMMARY:Card Bingo
DESCRIPTION:
URL:https://mapleleafacres.ca/event/card-bingo-48/
CATEGORIES:Activities,Adult Hall
END:VEVENT
BEGIN:VEVENT
DTSTART;TZID=America/Toronto:20231004T130000
DTEND;TZID=America/Toronto:20231004T160000
DTSTAMP:20260422T224555
CREATED:20230201T165849Z
LAST-MODIFIED:20230414T140446Z
UID:4834-1696424400-1696435200@mapleleafacres.ca
SUMMARY:Bid Euchre
DESCRIPTION:
URL:https://mapleleafacres.ca/event/bid-euchre-152/
CATEGORIES:Activities,Adult Hall
END:VEVENT
BEGIN:VEVENT
DTSTART;TZID=America/Toronto:20231003T140000
DTEND;TZID=America/Toronto:20231003T160000
DTSTAMP:20260422T224555
CREATED:20230324T171745Z
LAST-MODIFIED:20230414T140446Z
UID:5203-1696341600-1696348800@mapleleafacres.ca
SUMMARY:Pickle Ball
DESCRIPTION:
URL:https://mapleleafacres.ca/event/pickle-ball-65/
CATEGORIES:Activities,Rec. Hall
END:VEVENT
BEGIN:VEVENT
DTSTART;TZID=America/Toronto:20231002T130000
DTEND;TZID=America/Toronto:20231002T160000
DTSTAMP:20260422T224555
CREATED:20230201T165308Z
LAST-MODIFIED:20230414T140446Z
UID:4824-1696251600-1696262400@mapleleafacres.ca
SUMMARY:Bid Euchre
DESCRIPTION:
URL:https://mapleleafacres.ca/event/bid-euchre-147/
CATEGORIES:Activities,Adult Hall
END:VEVENT
BEGIN:VEVENT
DTSTART;TZID=America/Toronto:20231002T100000
DTEND;TZID=America/Toronto:20231002T120000
DTSTAMP:20260422T224555
CREATED:20230118T162524Z
LAST-MODIFIED:20230414T140446Z
UID:4241-1696240800-1696248000@mapleleafacres.ca
SUMMARY:Line Dancing
DESCRIPTION:
URL:https://mapleleafacres.ca/event/line-dancing-37/
CATEGORIES:Activities,Rec. Hall
END:VEVENT
BEGIN:VEVENT
DTSTART;TZID=America/Toronto:20231002T100000
DTEND;TZID=America/Toronto:20231002T110000
DTSTAMP:20260422T224555
CREATED:20230609T160619Z
LAST-MODIFIED:20230609T160619Z
UID:5476-1696240800-1696244400@mapleleafacres.ca
SUMMARY:Yoga
DESCRIPTION:
URL:https://mapleleafacres.ca/event/yoga-22/
CATEGORIES:Activities,Adult Hall
END:VEVENT
BEGIN:VEVENT
DTSTART;TZID=America/Toronto:20230930T190000
DTEND;TZID=America/Toronto:20230930T235900
DTSTAMP:20260422T224555
CREATED:20230322T174850Z
LAST-MODIFIED:20230414T140447Z
UID:5107-1696100400-1696118340@mapleleafacres.ca
SUMMARY:Octoberfest Party
DESCRIPTION:
URL:https://mapleleafacres.ca/event/octoberfest-party/
CATEGORIES:Activities,Rec. Hall
END:VEVENT
BEGIN:VEVENT
DTSTART;TZID=America/Toronto:20230929T200000
DTEND;TZID=America/Toronto:20230929T200000
DTSTAMP:20260422T224555
CREATED:20230907T175137Z
LAST-MODIFIED:20230907T175137Z
UID:5645-1696017600-1696017600@mapleleafacres.ca
SUMMARY:Bingo
DESCRIPTION:
URL:https://mapleleafacres.ca/event/bingo-18/
CATEGORIES:Activities,Rec. Hall
END:VEVENT
BEGIN:VEVENT
DTSTART;TZID=America/Toronto:20230929T133000
DTEND;TZID=America/Toronto:20230929T163000
DTSTAMP:20260422T224555
CREATED:20230126T181152Z
LAST-MODIFIED:20230414T140447Z
UID:4606-1695994200-1696005000@mapleleafacres.ca
SUMMARY:Shuffle Board
DESCRIPTION:
URL:https://mapleleafacres.ca/event/shuffle-board-37/
CATEGORIES:Activities,Rec. Hall
END:VEVENT
BEGIN:VEVENT
DTSTART;TZID=America/Toronto:20230929T130000
DTEND;TZID=America/Toronto:20230929T160000
DTSTAMP:20260422T224555
CREATED:20230201T165203Z
LAST-MODIFIED:20230414T140447Z
UID:4822-1695992400-1696003200@mapleleafacres.ca
SUMMARY:Bid Euchre
DESCRIPTION:
URL:https://mapleleafacres.ca/event/bid-euchre-146/
CATEGORIES:Activities,Adult Hall
END:VEVENT
BEGIN:VEVENT
DTSTART;TZID=America/Toronto:20230928T130000
DTEND;TZID=America/Toronto:20230928T160000
DTSTAMP:20260422T224555
CREATED:20230201T160140Z
LAST-MODIFIED:20230414T140447Z
UID:4744-1695906000-1695916800@mapleleafacres.ca
SUMMARY:Card Bingo
DESCRIPTION:
URL:https://mapleleafacres.ca/event/card-bingo-47/
CATEGORIES:Activities,Adult Hall
END:VEVENT
END:VCALENDAR