BEGIN:VCALENDAR
VERSION:2.0
PRODID:-//Maple Leaf Acres - ECPv6.15.18//NONSGML v1.0//EN
CALSCALE:GREGORIAN
METHOD:PUBLISH
X-WR-CALNAME:Maple Leaf Acres
X-ORIGINAL-URL:https://mapleleafacres.ca
X-WR-CALDESC:Events for Maple Leaf Acres
REFRESH-INTERVAL;VALUE=DURATION:PT1H
X-Robots-Tag:noindex
X-PUBLISHED-TTL:PT1H
BEGIN:VTIMEZONE
TZID:America/Toronto
BEGIN:DAYLIGHT
TZOFFSETFROM:-0500
TZOFFSETTO:-0400
TZNAME:EDT
DTSTART:20220313T070000
END:DAYLIGHT
BEGIN:STANDARD
TZOFFSETFROM:-0400
TZOFFSETTO:-0500
TZNAME:EST
DTSTART:20221106T060000
END:STANDARD
BEGIN:DAYLIGHT
TZOFFSETFROM:-0500
TZOFFSETTO:-0400
TZNAME:EDT
DTSTART:20230312T070000
END:DAYLIGHT
BEGIN:STANDARD
TZOFFSETFROM:-0400
TZOFFSETTO:-0500
TZNAME:EST
DTSTART:20231105T060000
END:STANDARD
BEGIN:DAYLIGHT
TZOFFSETFROM:-0500
TZOFFSETTO:-0400
TZNAME:EDT
DTSTART:20240310T070000
END:DAYLIGHT
BEGIN:STANDARD
TZOFFSETFROM:-0400
TZOFFSETTO:-0500
TZNAME:EST
DTSTART:20241103T060000
END:STANDARD
END:VTIMEZONE
BEGIN:VEVENT
DTSTART;TZID=America/Toronto:20230911T130000
DTEND;TZID=America/Toronto:20230911T160000
DTSTAMP:20260423T001330
CREATED:20230201T162836Z
LAST-MODIFIED:20230414T140607Z
UID:4800-1694437200-1694448000@mapleleafacres.ca
SUMMARY:Bid Euchre
DESCRIPTION:
URL:https://mapleleafacres.ca/event/bid-euchre-135/
CATEGORIES:Activities,Adult Hall
END:VEVENT
BEGIN:VEVENT
DTSTART;TZID=America/Toronto:20230911T100000
DTEND;TZID=America/Toronto:20230911T120000
DTSTAMP:20260423T001330
CREATED:20230118T162215Z
LAST-MODIFIED:20230414T140607Z
UID:4235-1694426400-1694433600@mapleleafacres.ca
SUMMARY:Line Dancing
DESCRIPTION:
URL:https://mapleleafacres.ca/event/line-dancing-34/
CATEGORIES:Activities,Rec. Hall
END:VEVENT
BEGIN:VEVENT
DTSTART;TZID=America/Toronto:20230911T100000
DTEND;TZID=America/Toronto:20230911T110000
DTSTAMP:20260423T001330
CREATED:20230609T160429Z
LAST-MODIFIED:20230609T160429Z
UID:5470-1694426400-1694430000@mapleleafacres.ca
SUMMARY:Yoga
DESCRIPTION:
URL:https://mapleleafacres.ca/event/yoga-19/
CATEGORIES:Activities,Adult Hall
END:VEVENT
BEGIN:VEVENT
DTSTART;TZID=America/Toronto:20230910T090000
DTEND;TZID=America/Toronto:20230910T110000
DTSTAMP:20260423T001330
CREATED:20230118T212610Z
LAST-MODIFIED:20230414T140607Z
UID:4521-1694336400-1694343600@mapleleafacres.ca
SUMMARY:Coffee Chat
DESCRIPTION:
URL:https://mapleleafacres.ca/event/coffee-chat-33/
CATEGORIES:Activities,Adult Hall
END:VEVENT
BEGIN:VEVENT
DTSTART;VALUE=DATE:20230909
DTEND;VALUE=DATE:20230910
DTSTAMP:20260423T001330
CREATED:20230322T174000Z
LAST-MODIFIED:20230414T140607Z
UID:5093-1694217600-1694303999@mapleleafacres.ca
SUMMARY:MLA Golf Tournament
DESCRIPTION:
URL:https://mapleleafacres.ca/event/mla-golf-tournament/
CATEGORIES:Activities
END:VEVENT
BEGIN:VEVENT
DTSTART;TZID=America/Toronto:20230908T200000
DTEND;TZID=America/Toronto:20230908T220000
DTSTAMP:20260423T001330
CREATED:20230907T174508Z
LAST-MODIFIED:20230907T174508Z
UID:5639-1694203200-1694210400@mapleleafacres.ca
SUMMARY:Bingo
DESCRIPTION:
URL:https://mapleleafacres.ca/event/bingo/
CATEGORIES:Activities,Rec. Hall
END:VEVENT
BEGIN:VEVENT
DTSTART;TZID=America/Toronto:20230908T170000
DTEND;TZID=America/Toronto:20230909T170000
DTSTAMP:20260423T001330
CREATED:20230615T173031Z
LAST-MODIFIED:20230615T173031Z
UID:5509-1694192400-1694278800@mapleleafacres.ca
SUMMARY:Private Party
DESCRIPTION:
URL:https://mapleleafacres.ca/event/private-party-78/
CATEGORIES:Activities,Adult Hall
END:VEVENT
BEGIN:VEVENT
DTSTART;TZID=America/Toronto:20230908T133000
DTEND;TZID=America/Toronto:20230908T163000
DTSTAMP:20260423T001330
CREATED:20230126T181029Z
LAST-MODIFIED:20230414T140607Z
UID:4600-1694179800-1694190600@mapleleafacres.ca
SUMMARY:Shuffle Board
DESCRIPTION:
URL:https://mapleleafacres.ca/event/shuffle-board-34/
CATEGORIES:Activities,Rec. Hall
END:VEVENT
BEGIN:VEVENT
DTSTART;TZID=America/Toronto:20230908T130000
DTEND;TZID=America/Toronto:20230908T160000
DTSTAMP:20260423T001330
CREATED:20230201T164958Z
LAST-MODIFIED:20230414T140607Z
UID:4816-1694178000-1694188800@mapleleafacres.ca
SUMMARY:Bid Euchre
DESCRIPTION:
URL:https://mapleleafacres.ca/event/bid-euchre-143/
CATEGORIES:Activities,Adult Hall
END:VEVENT
BEGIN:VEVENT
DTSTART;TZID=America/Toronto:20230907T130000
DTEND;TZID=America/Toronto:20230907T160000
DTSTAMP:20260423T001330
CREATED:20230201T154102Z
LAST-MODIFIED:20230414T140607Z
UID:4738-1694091600-1694102400@mapleleafacres.ca
SUMMARY:Card Bingo
DESCRIPTION:
URL:https://mapleleafacres.ca/event/card-bingo-44/
CATEGORIES:Activities,Adult Hall
END:VEVENT
BEGIN:VEVENT
DTSTART;TZID=America/Toronto:20230906T130000
DTEND;TZID=America/Toronto:20230906T160000
DTSTAMP:20260423T001330
CREATED:20230201T163032Z
LAST-MODIFIED:20230414T140607Z
UID:4806-1694005200-1694016000@mapleleafacres.ca
SUMMARY:Bid Euchre
DESCRIPTION:
URL:https://mapleleafacres.ca/event/bid-euchre-138/
CATEGORIES:Activities,Adult Hall
END:VEVENT
BEGIN:VEVENT
DTSTART;TZID=America/Toronto:20230905T140000
DTEND;TZID=America/Toronto:20230905T160000
DTSTAMP:20260423T001330
CREATED:20230324T153520Z
LAST-MODIFIED:20230414T140607Z
UID:5195-1693922400-1693929600@mapleleafacres.ca
SUMMARY:Pickle Ball
DESCRIPTION:
URL:https://mapleleafacres.ca/event/pickle-ball-60/
CATEGORIES:Activities,Rec. Hall
END:VEVENT
BEGIN:VEVENT
DTSTART;TZID=America/Toronto:20230904T130000
DTEND;TZID=America/Toronto:20230904T160000
DTSTAMP:20260423T001330
CREATED:20230201T162744Z
LAST-MODIFIED:20230414T140607Z
UID:4798-1693832400-1693843200@mapleleafacres.ca
SUMMARY:Bid Euchre
DESCRIPTION:
URL:https://mapleleafacres.ca/event/bid-euchre-134/
CATEGORIES:Activities,Adult Hall
END:VEVENT
BEGIN:VEVENT
DTSTART;TZID=America/Toronto:20230904T100000
DTEND;TZID=America/Toronto:20230904T120000
DTSTAMP:20260423T001330
CREATED:20230118T162144Z
LAST-MODIFIED:20230414T140607Z
UID:4233-1693821600-1693828800@mapleleafacres.ca
SUMMARY:Line Dancing
DESCRIPTION:
URL:https://mapleleafacres.ca/event/line-dancing-33/
CATEGORIES:Activities,Rec. Hall
END:VEVENT
BEGIN:VEVENT
DTSTART;TZID=America/Toronto:20230904T100000
DTEND;TZID=America/Toronto:20230904T110000
DTSTAMP:20260423T001330
CREATED:20230609T160401Z
LAST-MODIFIED:20230609T160401Z
UID:5468-1693821600-1693825200@mapleleafacres.ca
SUMMARY:Yoga
DESCRIPTION:
URL:https://mapleleafacres.ca/event/yoga-18/
CATEGORIES:Activities,Adult Hall
END:VEVENT
BEGIN:VEVENT
DTSTART;TZID=America/Toronto:20230903T130000
DTEND;TZID=America/Toronto:20230903T170000
DTSTAMP:20260423T001330
CREATED:20230322T173627Z
LAST-MODIFIED:20230426T160905Z
UID:5089-1693746000-1693760400@mapleleafacres.ca
SUMMARY:Chocolate Bar Bingo
DESCRIPTION:
URL:https://mapleleafacres.ca/event/chocolate-bar-bingo-11/
CATEGORIES:Activities,Rec. Hall
END:VEVENT
BEGIN:VEVENT
DTSTART;VALUE=DATE:20230903
DTEND;VALUE=DATE:20230904
DTSTAMP:20260423T001330
CREATED:20230624T152449Z
LAST-MODIFIED:20230624T152449Z
UID:5538-1693699200-1693785599@mapleleafacres.ca
SUMMARY:Horseshoe Banquet
DESCRIPTION:
URL:https://mapleleafacres.ca/event/horseshoe-banquet/
CATEGORIES:Activities,Adult Hall
END:VEVENT
BEGIN:VEVENT
DTSTART;TZID=America/Toronto:20230902T190000
DTEND;TZID=America/Toronto:20230902T220000
DTSTAMP:20260423T001330
CREATED:20230322T173522Z
LAST-MODIFIED:20230414T140607Z
UID:5087-1693681200-1693692000@mapleleafacres.ca
SUMMARY:All Ages Kids Dance
DESCRIPTION:
URL:https://mapleleafacres.ca/event/all-ages-kids-dance/
CATEGORIES:Activities,Rec. Hall
END:VEVENT
BEGIN:VEVENT
DTSTART;TZID=America/Toronto:20230902T100000
DTEND;TZID=America/Toronto:20230902T120000
DTSTAMP:20260423T001330
CREATED:20230322T173430Z
LAST-MODIFIED:20230414T140607Z
UID:5085-1693648800-1693656000@mapleleafacres.ca
SUMMARY:Kids Craft
DESCRIPTION:FREE
URL:https://mapleleafacres.ca/event/kids-craft-3/
CATEGORIES:Activities,Rec. Hall
END:VEVENT
BEGIN:VEVENT
DTSTART;TZID=America/Toronto:20230901T200000
DTEND;TZID=America/Toronto:20230901T220000
DTSTAMP:20260423T001330
CREATED:20230322T173342Z
LAST-MODIFIED:20230420T174451Z
UID:5083-1693598400-1693605600@mapleleafacres.ca
SUMMARY:Bingo
DESCRIPTION:
URL:https://mapleleafacres.ca/event/bingo-15/
CATEGORIES:Activities,Rec. Hall
END:VEVENT
BEGIN:VEVENT
DTSTART;TZID=America/Toronto:20230901T130000
DTEND;TZID=America/Toronto:20230901T160000
DTSTAMP:20260423T001330
CREATED:20230201T164929Z
LAST-MODIFIED:20230414T140607Z
UID:4814-1693573200-1693584000@mapleleafacres.ca
SUMMARY:Bid Euchre
DESCRIPTION:
URL:https://mapleleafacres.ca/event/bid-euchre-142/
CATEGORIES:Activities,Adult Hall
END:VEVENT
BEGIN:VEVENT
DTSTART;TZID=America/Toronto:20230831T190000
DTEND;TZID=America/Toronto:20230831T220000
DTSTAMP:20260423T001330
CREATED:20230324T151633Z
LAST-MODIFIED:20230414T140607Z
UID:5193-1693508400-1693519200@mapleleafacres.ca
SUMMARY:Pickle Ball
DESCRIPTION:
URL:https://mapleleafacres.ca/event/pickle-ball-61/
CATEGORIES:Activities,Rec. Hall
END:VEVENT
BEGIN:VEVENT
DTSTART;TZID=America/Toronto:20230831T130000
DTEND;TZID=America/Toronto:20230831T160000
DTSTAMP:20260423T001330
CREATED:20230201T154026Z
LAST-MODIFIED:20230414T140622Z
UID:4736-1693486800-1693497600@mapleleafacres.ca
SUMMARY:Card Bingo
DESCRIPTION:
URL:https://mapleleafacres.ca/event/card-bingo-43/
CATEGORIES:Activities,Adult Hall
END:VEVENT
BEGIN:VEVENT
DTSTART;TZID=America/Toronto:20230830T130000
DTEND;TZID=America/Toronto:20230830T160000
DTSTAMP:20260423T001330
CREATED:20230201T162154Z
LAST-MODIFIED:20230414T140622Z
UID:4790-1693400400-1693411200@mapleleafacres.ca
SUMMARY:Bid Euchre
DESCRIPTION:
URL:https://mapleleafacres.ca/event/bid-euchre-130/
CATEGORIES:Activities,Adult Hall
END:VEVENT
BEGIN:VEVENT
DTSTART;TZID=America/Toronto:20230829T140000
DTEND;TZID=America/Toronto:20230829T160000
DTSTAMP:20260423T001330
CREATED:20230324T150727Z
LAST-MODIFIED:20230414T140622Z
UID:5181-1693317600-1693324800@mapleleafacres.ca
SUMMARY:Pickle Ball
DESCRIPTION:
URL:https://mapleleafacres.ca/event/pickle-ball-55/
CATEGORIES:Activities,Rec. Hall
END:VEVENT
BEGIN:VEVENT
DTSTART;TZID=America/Toronto:20230828T130000
DTEND;TZID=America/Toronto:20230828T160000
DTSTAMP:20260423T001330
CREATED:20230201T161800Z
LAST-MODIFIED:20230414T140622Z
UID:4782-1693227600-1693238400@mapleleafacres.ca
SUMMARY:Bid Euchre
DESCRIPTION:
URL:https://mapleleafacres.ca/event/bid-euchre-126/
CATEGORIES:Activities,Adult Hall
END:VEVENT
BEGIN:VEVENT
DTSTART;TZID=America/Toronto:20230828T100000
DTEND;TZID=America/Toronto:20230828T120000
DTSTAMP:20260423T001330
CREATED:20230118T162102Z
LAST-MODIFIED:20230414T140622Z
UID:4231-1693216800-1693224000@mapleleafacres.ca
SUMMARY:Line Dancing
DESCRIPTION:
URL:https://mapleleafacres.ca/event/line-dancing-32/
CATEGORIES:Activities,Rec. Hall
END:VEVENT
BEGIN:VEVENT
DTSTART;TZID=America/Toronto:20230828T100000
DTEND;TZID=America/Toronto:20230828T110000
DTSTAMP:20260423T001330
CREATED:20230609T160322Z
LAST-MODIFIED:20230609T160322Z
UID:5466-1693216800-1693220400@mapleleafacres.ca
SUMMARY:Yoga
DESCRIPTION:
URL:https://mapleleafacres.ca/event/yoga-17/
CATEGORIES:Activities,Adult Hall
END:VEVENT
BEGIN:VEVENT
DTSTART;TZID=America/Toronto:20230827T140000
DTEND;TZID=America/Toronto:20230827T160000
DTSTAMP:20260423T001330
CREATED:20230322T173117Z
LAST-MODIFIED:20230426T170356Z
UID:5081-1693144800-1693152000@mapleleafacres.ca
SUMMARY:Ice Cream " Sunday"
DESCRIPTION: 
URL:https://mapleleafacres.ca/event/ice-cream-sunday/
CATEGORIES:Activities,Adult Hall
END:VEVENT
BEGIN:VEVENT
DTSTART;TZID=America/Toronto:20230827T130000
DTEND;TZID=America/Toronto:20230827T170000
DTSTAMP:20260423T001330
CREATED:20230628T193420Z
LAST-MODIFIED:20230628T193420Z
UID:5558-1693141200-1693155600@mapleleafacres.ca
SUMMARY:Private Party
DESCRIPTION:
URL:https://mapleleafacres.ca/event/private-party-81/
CATEGORIES:Activities,Adult Hall
END:VEVENT
END:VCALENDAR