BEGIN:VCALENDAR
VERSION:2.0
PRODID:-//Maple Leaf Acres - ECPv6.15.18//NONSGML v1.0//EN
CALSCALE:GREGORIAN
METHOD:PUBLISH
X-WR-CALNAME:Maple Leaf Acres
X-ORIGINAL-URL:https://mapleleafacres.ca
X-WR-CALDESC:Events for Maple Leaf Acres
REFRESH-INTERVAL;VALUE=DURATION:PT1H
X-Robots-Tag:noindex
X-PUBLISHED-TTL:PT1H
BEGIN:VTIMEZONE
TZID:America/Toronto
BEGIN:DAYLIGHT
TZOFFSETFROM:-0500
TZOFFSETTO:-0400
TZNAME:EDT
DTSTART:20230312T070000
END:DAYLIGHT
BEGIN:STANDARD
TZOFFSETFROM:-0400
TZOFFSETTO:-0500
TZNAME:EST
DTSTART:20231105T060000
END:STANDARD
BEGIN:DAYLIGHT
TZOFFSETFROM:-0500
TZOFFSETTO:-0400
TZNAME:EDT
DTSTART:20240310T070000
END:DAYLIGHT
BEGIN:STANDARD
TZOFFSETFROM:-0400
TZOFFSETTO:-0500
TZNAME:EST
DTSTART:20241103T060000
END:STANDARD
BEGIN:DAYLIGHT
TZOFFSETFROM:-0500
TZOFFSETTO:-0400
TZNAME:EDT
DTSTART:20250309T070000
END:DAYLIGHT
BEGIN:STANDARD
TZOFFSETFROM:-0400
TZOFFSETTO:-0500
TZNAME:EST
DTSTART:20251102T060000
END:STANDARD
END:VTIMEZONE
BEGIN:VEVENT
DTSTART;TZID=America/Toronto:20240726T200000
DTEND;TZID=America/Toronto:20240726T220000
DTSTAMP:20260422T182617
CREATED:20240131T190540Z
LAST-MODIFIED:20240131T190540Z
UID:5999-1722024000-1722031200@mapleleafacres.ca
SUMMARY:Bingo
DESCRIPTION:
URL:https://mapleleafacres.ca/event/bingo-24/2024-07-26/
CATEGORIES:Activities,Rec. Hall
END:VEVENT
BEGIN:VEVENT
DTSTART;TZID=America/Toronto:20240726T133000
DTEND;TZID=America/Toronto:20240726T160000
DTSTAMP:20260422T182617
CREATED:20240131T185238Z
LAST-MODIFIED:20240131T185238Z
UID:5905-1722000600-1722009600@mapleleafacres.ca
SUMMARY:Shuffle Board
DESCRIPTION:
URL:https://mapleleafacres.ca/event/shuffle-board-51/2024-07-26/
CATEGORIES:Activities,Rec. Hall
END:VEVENT
BEGIN:VEVENT
DTSTART;TZID=America/Toronto:20240725T190000
DTEND;TZID=America/Toronto:20240725T210000
DTSTAMP:20260422T182617
CREATED:20240131T192632Z
LAST-MODIFIED:20240131T192632Z
UID:6108-1721934000-1721941200@mapleleafacres.ca
SUMMARY:Pickle Ball
DESCRIPTION:
URL:https://mapleleafacres.ca/event/pickle-ball/2024-07-25/
CATEGORIES:Activities,Rec. Hall
END:VEVENT
BEGIN:VEVENT
DTSTART;TZID=America/Toronto:20240725T130000
DTEND;TZID=America/Toronto:20240725T160000
DTSTAMP:20260422T182617
CREATED:20240411T171035Z
LAST-MODIFIED:20240411T171035Z
UID:6335-1721912400-1721923200@mapleleafacres.ca
SUMMARY:Card Bingo
DESCRIPTION:
URL:https://mapleleafacres.ca/event/card-bingo-62/2024-07-25/
CATEGORIES:Adult Hall
END:VEVENT
BEGIN:VEVENT
DTSTART;TZID=America/Toronto:20240724T190000
DTEND;TZID=America/Toronto:20240724T220000
DTSTAMP:20260422T182617
CREATED:20240131T192245Z
LAST-MODIFIED:20240131T192245Z
UID:6067-1721847600-1721858400@mapleleafacres.ca
SUMMARY:Darts
DESCRIPTION:
URL:https://mapleleafacres.ca/event/darts-45/2024-07-24/
CATEGORIES:Activities,Rec. Hall
END:VEVENT
BEGIN:VEVENT
DTSTART;TZID=America/Toronto:20240722T190000
DTEND;TZID=America/Toronto:20240722T220000
DTSTAMP:20260422T182617
CREATED:20240528T131849Z
LAST-MODIFIED:20240528T131849Z
UID:6463-1721674800-1721685600@mapleleafacres.ca
SUMMARY:Euchre Night
DESCRIPTION:
URL:https://mapleleafacres.ca/event/euchre-night/2024-07-22/
CATEGORIES:Activities,Adult Hall
END:VEVENT
BEGIN:VEVENT
DTSTART;TZID=America/Toronto:20240722T130000
DTEND;TZID=America/Toronto:20240722T150000
DTSTAMP:20260422T182617
CREATED:20240131T192816Z
LAST-MODIFIED:20240131T192816Z
UID:6155-1721653200-1721660400@mapleleafacres.ca
SUMMARY:Pokeno
DESCRIPTION:
URL:https://mapleleafacres.ca/event/pokeno-29/2024-07-22/
CATEGORIES:Activities,Fireside Room
END:VEVENT
BEGIN:VEVENT
DTSTART;TZID=America/Toronto:20240722T100000
DTEND;TZID=America/Toronto:20240722T230000
DTSTAMP:20260422T182617
CREATED:20240131T191511Z
LAST-MODIFIED:20240131T191511Z
UID:6026-1721642400-1721689200@mapleleafacres.ca
SUMMARY:Line Dancing
DESCRIPTION:
URL:https://mapleleafacres.ca/event/line-dancing-46/2024-07-22/
CATEGORIES:Activities,Rec. Hall
END:VEVENT
BEGIN:VEVENT
DTSTART;TZID=America/Toronto:20240720T200000
DTEND;TZID=America/Toronto:20240721T000000
DTSTAMP:20260422T182617
CREATED:20240116T182100Z
LAST-MODIFIED:20240116T182133Z
UID:5839-1721505600-1721520000@mapleleafacres.ca
SUMMARY:Movie night under the stars
DESCRIPTION:
URL:https://mapleleafacres.ca/event/movie-night-under-the-stars-2/
CATEGORIES:Activities,Adult Hall
END:VEVENT
BEGIN:VEVENT
DTSTART;TZID=America/Toronto:20240720T160000
DTEND;TZID=America/Toronto:20240720T233000
DTSTAMP:20260422T182617
CREATED:20240411T201324Z
LAST-MODIFIED:20240411T201324Z
UID:6388-1721491200-1721518200@mapleleafacres.ca
SUMMARY:Private Party
DESCRIPTION:
URL:https://mapleleafacres.ca/event/private-party-99/
CATEGORIES:Adult Hall
END:VEVENT
BEGIN:VEVENT
DTSTART;TZID=America/Toronto:20240719T200000
DTEND;TZID=America/Toronto:20240720T000000
DTSTAMP:20260422T182617
CREATED:20240116T181822Z
LAST-MODIFIED:20240116T181822Z
UID:5837-1721419200-1721433600@mapleleafacres.ca
SUMMARY:Music Trivia Night
DESCRIPTION:
URL:https://mapleleafacres.ca/event/music-trivia-night-2/
CATEGORIES:Activities,Adult Hall
END:VEVENT
BEGIN:VEVENT
DTSTART;TZID=America/Toronto:20240719T200000
DTEND;TZID=America/Toronto:20240719T220000
DTSTAMP:20260422T182617
CREATED:20240131T190540Z
LAST-MODIFIED:20240131T190540Z
UID:5997-1721419200-1721426400@mapleleafacres.ca
SUMMARY:Bingo
DESCRIPTION:
URL:https://mapleleafacres.ca/event/bingo-24/2024-07-19/
CATEGORIES:Activities,Rec. Hall
END:VEVENT
BEGIN:VEVENT
DTSTART;TZID=America/Toronto:20240719T133000
DTEND;TZID=America/Toronto:20240719T160000
DTSTAMP:20260422T182617
CREATED:20240131T185238Z
LAST-MODIFIED:20240131T185238Z
UID:5904-1721395800-1721404800@mapleleafacres.ca
SUMMARY:Shuffle Board
DESCRIPTION:
URL:https://mapleleafacres.ca/event/shuffle-board-51/2024-07-19/
CATEGORIES:Activities,Rec. Hall
END:VEVENT
BEGIN:VEVENT
DTSTART;TZID=America/Toronto:20240718T190000
DTEND;TZID=America/Toronto:20240718T210000
DTSTAMP:20260422T182617
CREATED:20240131T192632Z
LAST-MODIFIED:20240131T192632Z
UID:6107-1721329200-1721336400@mapleleafacres.ca
SUMMARY:Pickle Ball
DESCRIPTION:
URL:https://mapleleafacres.ca/event/pickle-ball/2024-07-18/
CATEGORIES:Activities,Rec. Hall
END:VEVENT
BEGIN:VEVENT
DTSTART;TZID=America/Toronto:20240718T130000
DTEND;TZID=America/Toronto:20240718T160000
DTSTAMP:20260422T182617
CREATED:20240411T171035Z
LAST-MODIFIED:20240411T171035Z
UID:6334-1721307600-1721318400@mapleleafacres.ca
SUMMARY:Card Bingo
DESCRIPTION:
URL:https://mapleleafacres.ca/event/card-bingo-62/2024-07-18/
CATEGORIES:Adult Hall
END:VEVENT
BEGIN:VEVENT
DTSTART;TZID=America/Toronto:20240717T190000
DTEND;TZID=America/Toronto:20240717T220000
DTSTAMP:20260422T182617
CREATED:20240131T192245Z
LAST-MODIFIED:20240131T192245Z
UID:6066-1721242800-1721253600@mapleleafacres.ca
SUMMARY:Darts
DESCRIPTION:
URL:https://mapleleafacres.ca/event/darts-45/2024-07-17/
CATEGORIES:Activities,Rec. Hall
END:VEVENT
BEGIN:VEVENT
DTSTART;TZID=America/Toronto:20240715T190000
DTEND;TZID=America/Toronto:20240715T220000
DTSTAMP:20260422T182617
CREATED:20240528T131849Z
LAST-MODIFIED:20240528T131849Z
UID:6462-1721070000-1721080800@mapleleafacres.ca
SUMMARY:Euchre Night
DESCRIPTION:
URL:https://mapleleafacres.ca/event/euchre-night/2024-07-15/
CATEGORIES:Activities,Adult Hall
END:VEVENT
BEGIN:VEVENT
DTSTART;TZID=America/Toronto:20240715T130000
DTEND;TZID=America/Toronto:20240715T150000
DTSTAMP:20260422T182617
CREATED:20240131T192816Z
LAST-MODIFIED:20240131T192816Z
UID:6154-1721048400-1721055600@mapleleafacres.ca
SUMMARY:Pokeno
DESCRIPTION:
URL:https://mapleleafacres.ca/event/pokeno-29/2024-07-15/
CATEGORIES:Activities,Fireside Room
END:VEVENT
BEGIN:VEVENT
DTSTART;TZID=America/Toronto:20240715T100000
DTEND;TZID=America/Toronto:20240715T230000
DTSTAMP:20260422T182617
CREATED:20240131T191511Z
LAST-MODIFIED:20240131T191511Z
UID:6025-1721037600-1721084400@mapleleafacres.ca
SUMMARY:Line Dancing
DESCRIPTION:
URL:https://mapleleafacres.ca/event/line-dancing-46/2024-07-15/
CATEGORIES:Activities,Rec. Hall
END:VEVENT
BEGIN:VEVENT
DTSTART;TZID=America/Toronto:20240714T090000
DTEND;TZID=America/Toronto:20240714T110000
DTSTAMP:20260422T182617
CREATED:20240411T201403Z
LAST-MODIFIED:20240411T201403Z
UID:6390-1720947600-1720954800@mapleleafacres.ca
SUMMARY:Coffee Chat
DESCRIPTION:
URL:https://mapleleafacres.ca/event/coffee-chat-50/
CATEGORIES:Adult Hall
END:VEVENT
BEGIN:VEVENT
DTSTART;TZID=America/Toronto:20240713T190000
DTEND;TZID=America/Toronto:20240714T000000
DTSTAMP:20260422T182617
CREATED:20240116T181725Z
LAST-MODIFIED:20240116T181725Z
UID:5835-1720897200-1720915200@mapleleafacres.ca
SUMMARY:Family Dance
DESCRIPTION:
URL:https://mapleleafacres.ca/event/family-dance/
CATEGORIES:Activities,Rec. Hall
END:VEVENT
BEGIN:VEVENT
DTSTART;TZID=America/Toronto:20240713T150000
DTEND;TZID=America/Toronto:20240713T233000
DTSTAMP:20260422T182617
CREATED:20240411T201222Z
LAST-MODIFIED:20240411T201222Z
UID:6384-1720882800-1720913400@mapleleafacres.ca
SUMMARY:Trinity Committee
DESCRIPTION:
URL:https://mapleleafacres.ca/event/trinity-committee/
CATEGORIES:Adult Hall
END:VEVENT
BEGIN:VEVENT
DTSTART;TZID=America/Toronto:20240713T080000
DTEND;TZID=America/Toronto:20240713T170000
DTSTAMP:20260422T182617
CREATED:20240116T181627Z
LAST-MODIFIED:20240116T181627Z
UID:5833-1720857600-1720890000@mapleleafacres.ca
SUMMARY:Family Olympics - time TBD
DESCRIPTION:
URL:https://mapleleafacres.ca/event/family-olympics-time-tbd/
CATEGORIES:Activities
END:VEVENT
BEGIN:VEVENT
DTSTART;TZID=America/Toronto:20240712T200000
DTEND;TZID=America/Toronto:20240712T220000
DTSTAMP:20260422T182617
CREATED:20240131T190540Z
LAST-MODIFIED:20240131T190540Z
UID:5996-1720814400-1720821600@mapleleafacres.ca
SUMMARY:Bingo
DESCRIPTION:
URL:https://mapleleafacres.ca/event/bingo-24/2024-07-12/
CATEGORIES:Activities,Rec. Hall
END:VEVENT
BEGIN:VEVENT
DTSTART;TZID=America/Toronto:20240712T200000
DTEND;TZID=America/Toronto:20240712T220000
DTSTAMP:20260422T182617
CREATED:20240116T181538Z
LAST-MODIFIED:20240116T181538Z
UID:5831-1720814400-1720821600@mapleleafacres.ca
SUMMARY:Family Bingo
DESCRIPTION:
URL:https://mapleleafacres.ca/event/family-bingo/
CATEGORIES:Activities,Rec. Hall
END:VEVENT
BEGIN:VEVENT
DTSTART;TZID=America/Toronto:20240712T133000
DTEND;TZID=America/Toronto:20240712T160000
DTSTAMP:20260422T182617
CREATED:20240131T185238Z
LAST-MODIFIED:20240131T185238Z
UID:5903-1720791000-1720800000@mapleleafacres.ca
SUMMARY:Shuffle Board
DESCRIPTION:
URL:https://mapleleafacres.ca/event/shuffle-board-51/2024-07-12/
CATEGORIES:Activities,Rec. Hall
END:VEVENT
BEGIN:VEVENT
DTSTART;TZID=America/Toronto:20240711T190000
DTEND;TZID=America/Toronto:20240711T210000
DTSTAMP:20260422T182617
CREATED:20240131T192632Z
LAST-MODIFIED:20240131T192632Z
UID:6106-1720724400-1720731600@mapleleafacres.ca
SUMMARY:Pickle Ball
DESCRIPTION:
URL:https://mapleleafacres.ca/event/pickle-ball/2024-07-11/
CATEGORIES:Activities,Rec. Hall
END:VEVENT
BEGIN:VEVENT
DTSTART;TZID=America/Toronto:20240711T130000
DTEND;TZID=America/Toronto:20240711T160000
DTSTAMP:20260422T182617
CREATED:20240411T171035Z
LAST-MODIFIED:20240411T171035Z
UID:6333-1720702800-1720713600@mapleleafacres.ca
SUMMARY:Card Bingo
DESCRIPTION:
URL:https://mapleleafacres.ca/event/card-bingo-62/2024-07-11/
CATEGORIES:Adult Hall
END:VEVENT
BEGIN:VEVENT
DTSTART;TZID=America/Toronto:20240710T190000
DTEND;TZID=America/Toronto:20240710T220000
DTSTAMP:20260422T182617
CREATED:20240131T192245Z
LAST-MODIFIED:20240131T192245Z
UID:6064-1720638000-1720648800@mapleleafacres.ca
SUMMARY:Darts
DESCRIPTION:
URL:https://mapleleafacres.ca/event/darts-45/2024-07-10/
CATEGORIES:Activities,Rec. Hall
END:VEVENT
BEGIN:VEVENT
DTSTART;TZID=America/Toronto:20240708T190000
DTEND;TZID=America/Toronto:20240708T220000
DTSTAMP:20260422T182617
CREATED:20240528T131849Z
LAST-MODIFIED:20240528T131849Z
UID:6461-1720465200-1720476000@mapleleafacres.ca
SUMMARY:Euchre Night
DESCRIPTION:
URL:https://mapleleafacres.ca/event/euchre-night/2024-07-08/
CATEGORIES:Activities,Adult Hall
END:VEVENT
END:VCALENDAR