BEGIN:VCALENDAR
VERSION:2.0
PRODID:-//Maple Leaf Acres - ECPv6.15.18//NONSGML v1.0//EN
CALSCALE:GREGORIAN
METHOD:PUBLISH
X-WR-CALNAME:Maple Leaf Acres
X-ORIGINAL-URL:https://mapleleafacres.ca
X-WR-CALDESC:Events for Maple Leaf Acres
REFRESH-INTERVAL;VALUE=DURATION:PT1H
X-Robots-Tag:noindex
X-PUBLISHED-TTL:PT1H
BEGIN:VTIMEZONE
TZID:America/Toronto
BEGIN:DAYLIGHT
TZOFFSETFROM:-0500
TZOFFSETTO:-0400
TZNAME:EDT
DTSTART:20230312T070000
END:DAYLIGHT
BEGIN:STANDARD
TZOFFSETFROM:-0400
TZOFFSETTO:-0500
TZNAME:EST
DTSTART:20231105T060000
END:STANDARD
BEGIN:DAYLIGHT
TZOFFSETFROM:-0500
TZOFFSETTO:-0400
TZNAME:EDT
DTSTART:20240310T070000
END:DAYLIGHT
BEGIN:STANDARD
TZOFFSETFROM:-0400
TZOFFSETTO:-0500
TZNAME:EST
DTSTART:20241103T060000
END:STANDARD
BEGIN:DAYLIGHT
TZOFFSETFROM:-0500
TZOFFSETTO:-0400
TZNAME:EDT
DTSTART:20250309T070000
END:DAYLIGHT
BEGIN:STANDARD
TZOFFSETFROM:-0400
TZOFFSETTO:-0500
TZNAME:EST
DTSTART:20251102T060000
END:STANDARD
END:VTIMEZONE
BEGIN:VEVENT
DTSTART;TZID=America/Toronto:20240516T130000
DTEND;TZID=America/Toronto:20240516T160000
DTSTAMP:20260422T211559
CREATED:20240411T171035Z
LAST-MODIFIED:20240411T171035Z
UID:6324-1715864400-1715875200@mapleleafacres.ca
SUMMARY:Card Bingo
DESCRIPTION:
URL:https://mapleleafacres.ca/event/card-bingo-62/2024-05-16/
CATEGORIES:Adult Hall
END:VEVENT
BEGIN:VEVENT
DTSTART;TZID=America/Toronto:20240515T190000
DTEND;TZID=America/Toronto:20240515T220000
DTSTAMP:20260422T211559
CREATED:20240131T192245Z
LAST-MODIFIED:20240131T192245Z
UID:6056-1715799600-1715810400@mapleleafacres.ca
SUMMARY:Darts
DESCRIPTION:
URL:https://mapleleafacres.ca/event/darts-45/2024-05-15/
CATEGORIES:Activities,Rec. Hall
END:VEVENT
BEGIN:VEVENT
DTSTART;TZID=America/Toronto:20240513T130000
DTEND;TZID=America/Toronto:20240513T150000
DTSTAMP:20260422T211559
CREATED:20240131T192816Z
LAST-MODIFIED:20240131T192816Z
UID:6145-1715605200-1715612400@mapleleafacres.ca
SUMMARY:Pokeno
DESCRIPTION:
URL:https://mapleleafacres.ca/event/pokeno-29/2024-05-13/
CATEGORIES:Activities,Fireside Room
END:VEVENT
BEGIN:VEVENT
DTSTART;TZID=America/Toronto:20240513T100000
DTEND;TZID=America/Toronto:20240513T110000
DTSTAMP:20260422T211559
CREATED:20231025T190121Z
LAST-MODIFIED:20231025T190121Z
UID:5711-1715594400-1715598000@mapleleafacres.ca
SUMMARY:Line Dancing
DESCRIPTION:
URL:https://mapleleafacres.ca/event/line-dancing-43/
CATEGORIES:Activities,Rec. Hall
END:VEVENT
BEGIN:VEVENT
DTSTART;TZID=America/Toronto:20240510T200000
DTEND;TZID=America/Toronto:20240510T220000
DTSTAMP:20260422T211559
CREATED:20240131T190540Z
LAST-MODIFIED:20240131T190540Z
UID:5988-1715371200-1715378400@mapleleafacres.ca
SUMMARY:Bingo
DESCRIPTION:
URL:https://mapleleafacres.ca/event/bingo-24/2024-05-10/
CATEGORIES:Activities,Rec. Hall
END:VEVENT
BEGIN:VEVENT
DTSTART;TZID=America/Toronto:20240510T133000
DTEND;TZID=America/Toronto:20240510T160000
DTSTAMP:20260422T211559
CREATED:20240131T185238Z
LAST-MODIFIED:20240131T185238Z
UID:5894-1715347800-1715356800@mapleleafacres.ca
SUMMARY:Shuffle Board
DESCRIPTION:
URL:https://mapleleafacres.ca/event/shuffle-board-51/2024-05-10/
CATEGORIES:Activities,Rec. Hall
END:VEVENT
BEGIN:VEVENT
DTSTART;TZID=America/Toronto:20240509T190000
DTEND;TZID=America/Toronto:20240509T210000
DTSTAMP:20260422T211559
CREATED:20240131T192632Z
LAST-MODIFIED:20240131T192632Z
UID:6097-1715281200-1715288400@mapleleafacres.ca
SUMMARY:Pickle Ball
DESCRIPTION:
URL:https://mapleleafacres.ca/event/pickle-ball/2024-05-09/
CATEGORIES:Activities,Rec. Hall
END:VEVENT
BEGIN:VEVENT
DTSTART;TZID=America/Toronto:20240509T130000
DTEND;TZID=America/Toronto:20240509T160000
DTSTAMP:20260422T211559
CREATED:20240411T171035Z
LAST-MODIFIED:20240411T171035Z
UID:6323-1715259600-1715270400@mapleleafacres.ca
SUMMARY:Card Bingo
DESCRIPTION:
URL:https://mapleleafacres.ca/event/card-bingo-62/2024-05-09/
CATEGORIES:Adult Hall
END:VEVENT
BEGIN:VEVENT
DTSTART;TZID=America/Toronto:20240508T190000
DTEND;TZID=America/Toronto:20240508T220000
DTSTAMP:20260422T211559
CREATED:20240131T192245Z
LAST-MODIFIED:20240131T192245Z
UID:6055-1715194800-1715205600@mapleleafacres.ca
SUMMARY:Darts
DESCRIPTION:
URL:https://mapleleafacres.ca/event/darts-45/2024-05-08/
CATEGORIES:Activities,Rec. Hall
END:VEVENT
BEGIN:VEVENT
DTSTART;TZID=America/Toronto:20240507T110000
DTEND;TZID=America/Toronto:20240507T140000
DTSTAMP:20260422T211559
CREATED:20240111T155007Z
LAST-MODIFIED:20240111T155007Z
UID:5785-1715079600-1715090400@mapleleafacres.ca
SUMMARY:Soup & Sandwich
DESCRIPTION:
URL:https://mapleleafacres.ca/event/soup-sandwich-2/
CATEGORIES:Activities,Adult Hall
END:VEVENT
BEGIN:VEVENT
DTSTART;TZID=America/Toronto:20240506T130000
DTEND;TZID=America/Toronto:20240506T150000
DTSTAMP:20260422T211559
CREATED:20240131T192816Z
LAST-MODIFIED:20240131T192816Z
UID:6144-1715000400-1715007600@mapleleafacres.ca
SUMMARY:Pokeno
DESCRIPTION:
URL:https://mapleleafacres.ca/event/pokeno-29/2024-05-06/
CATEGORIES:Activities,Fireside Room
END:VEVENT
BEGIN:VEVENT
DTSTART;TZID=America/Toronto:20240506T100000
DTEND;TZID=America/Toronto:20240506T110000
DTSTAMP:20260422T211559
CREATED:20231025T190043Z
LAST-MODIFIED:20231025T190043Z
UID:5709-1714989600-1714993200@mapleleafacres.ca
SUMMARY:Line Dancing
DESCRIPTION:
URL:https://mapleleafacres.ca/event/line-dancing-42/
CATEGORIES:Activities,Rec. Hall
END:VEVENT
BEGIN:VEVENT
DTSTART;TZID=America/Toronto:20240505T090000
DTEND;TZID=America/Toronto:20240505T110000
DTSTAMP:20260422T211559
CREATED:20240411T195430Z
LAST-MODIFIED:20240411T195430Z
UID:6370-1714899600-1714906800@mapleleafacres.ca
SUMMARY:Coffee Chat
DESCRIPTION:
URL:https://mapleleafacres.ca/event/coffee-chat-45/
CATEGORIES:Adult Hall
END:VEVENT
BEGIN:VEVENT
DTSTART;TZID=America/Toronto:20240504T140000
DTEND;TZID=America/Toronto:20240504T160000
DTSTAMP:20260422T211559
CREATED:20240131T190843Z
LAST-MODIFIED:20240131T190843Z
UID:6013-1714831200-1714838400@mapleleafacres.ca
SUMMARY:Chocolate Bar Bingo
DESCRIPTION:
URL:https://mapleleafacres.ca/event/chocolate-bar-bingo-12/
CATEGORIES:Activities,Rec. Hall
END:VEVENT
BEGIN:VEVENT
DTSTART;TZID=America/Toronto:20240504T140000
DTEND;TZID=America/Toronto:20240504T160000
DTSTAMP:20260422T211559
CREATED:20240111T154901Z
LAST-MODIFIED:20240111T154901Z
UID:5783-1714831200-1714838400@mapleleafacres.ca
SUMMARY:Chocolat Bar Bingo
DESCRIPTION:
URL:https://mapleleafacres.ca/event/chocolat-bar-bingo/
CATEGORIES:Activities,Rec. Hall
END:VEVENT
BEGIN:VEVENT
DTSTART;TZID=America/Toronto:20240503T200000
DTEND;TZID=America/Toronto:20240503T220000
DTSTAMP:20260422T211559
CREATED:20240131T190540Z
LAST-MODIFIED:20240131T190540Z
UID:5987-1714766400-1714773600@mapleleafacres.ca
SUMMARY:Bingo
DESCRIPTION:
URL:https://mapleleafacres.ca/event/bingo-24/2024-05-03/
CATEGORIES:Activities,Rec. Hall
END:VEVENT
BEGIN:VEVENT
DTSTART;TZID=America/Toronto:20240503T133000
DTEND;TZID=America/Toronto:20240503T160000
DTSTAMP:20260422T211600
CREATED:20240131T185238Z
LAST-MODIFIED:20240131T185238Z
UID:5893-1714743000-1714752000@mapleleafacres.ca
SUMMARY:Shuffle Board
DESCRIPTION:
URL:https://mapleleafacres.ca/event/shuffle-board-51/2024-05-03/
CATEGORIES:Activities,Rec. Hall
END:VEVENT
BEGIN:VEVENT
DTSTART;TZID=America/Toronto:20240502T190000
DTEND;TZID=America/Toronto:20240502T220000
DTSTAMP:20260422T211600
CREATED:20240131T192245Z
LAST-MODIFIED:20240131T192245Z
UID:6054-1714676400-1714687200@mapleleafacres.ca
SUMMARY:Darts
DESCRIPTION:
URL:https://mapleleafacres.ca/event/darts-45/2024-05-02/
CATEGORIES:Activities,Rec. Hall
END:VEVENT
BEGIN:VEVENT
DTSTART;TZID=America/Toronto:20240502T190000
DTEND;TZID=America/Toronto:20240502T210000
DTSTAMP:20260422T211600
CREATED:20240131T192632Z
LAST-MODIFIED:20240131T192632Z
UID:6096-1714676400-1714683600@mapleleafacres.ca
SUMMARY:Pickle Ball
DESCRIPTION:
URL:https://mapleleafacres.ca/event/pickle-ball/2024-05-02/
CATEGORIES:Activities,Rec. Hall
END:VEVENT
BEGIN:VEVENT
DTSTART;TZID=America/Toronto:20240502T130000
DTEND;TZID=America/Toronto:20240502T160000
DTSTAMP:20260422T211600
CREATED:20240411T171035Z
LAST-MODIFIED:20240411T171035Z
UID:6322-1714654800-1714665600@mapleleafacres.ca
SUMMARY:Card Bingo
DESCRIPTION:
URL:https://mapleleafacres.ca/event/card-bingo-62/2024-05-02/
CATEGORIES:Adult Hall
END:VEVENT
BEGIN:VEVENT
DTSTART;TZID=America/Toronto:20240429T130000
DTEND;TZID=America/Toronto:20240429T150000
DTSTAMP:20260422T211600
CREATED:20240131T192816Z
LAST-MODIFIED:20240131T192816Z
UID:6143-1714395600-1714402800@mapleleafacres.ca
SUMMARY:Pokeno
DESCRIPTION:
URL:https://mapleleafacres.ca/event/pokeno-29/2024-04-29/
CATEGORIES:Activities,Fireside Room
END:VEVENT
BEGIN:VEVENT
DTSTART;TZID=America/Toronto:20240428T130000
DTEND;TZID=America/Toronto:20240428T170000
DTSTAMP:20260422T211600
CREATED:20240411T151014Z
LAST-MODIFIED:20240411T151014Z
UID:6312-1714309200-1714323600@mapleleafacres.ca
SUMMARY:Corn Hole Tournament
DESCRIPTION:
URL:https://mapleleafacres.ca/event/corn-hole-tournament/
CATEGORIES:Rec. Hall
END:VEVENT
BEGIN:VEVENT
DTSTART;TZID=America/Toronto:20240427T190000
DTEND;TZID=America/Toronto:20240427T220000
DTSTAMP:20260422T211600
CREATED:20240131T185541Z
LAST-MODIFIED:20240131T185541Z
UID:5955-1714244400-1714255200@mapleleafacres.ca
SUMMARY:Darts
DESCRIPTION:
URL:https://mapleleafacres.ca/event/darts-44/2024-04-27/
CATEGORIES:Activities,Rec. Hall
END:VEVENT
BEGIN:VEVENT
DTSTART;TZID=America/Toronto:20240427T173000
DTEND;TZID=America/Toronto:20240427T233000
DTSTAMP:20260422T211600
CREATED:20240312T190001Z
LAST-MODIFIED:20240312T190001Z
UID:6229-1714239000-1714260600@mapleleafacres.ca
SUMMARY:Dart Banquet
DESCRIPTION:
URL:https://mapleleafacres.ca/event/dart-banquet/
CATEGORIES:Activities,Rec. Hall
END:VEVENT
BEGIN:VEVENT
DTSTART;TZID=America/Toronto:20240427T130000
DTEND;TZID=America/Toronto:20240427T160000
DTSTAMP:20260422T211600
CREATED:20240131T185713Z
LAST-MODIFIED:20240131T185713Z
UID:5982-1714222800-1714233600@mapleleafacres.ca
SUMMARY:Corn Hole
DESCRIPTION:
URL:https://mapleleafacres.ca/event/corn-hole/2024-04-27/
CATEGORIES:Activities,Rec. Hall
END:VEVENT
BEGIN:VEVENT
DTSTART;TZID=America/Toronto:20240427T130000
DTEND;TZID=America/Toronto:20240427T143000
DTSTAMP:20260422T211600
CREATED:20240312T194315Z
LAST-MODIFIED:20240312T194315Z
UID:6244-1714222800-1714228200@mapleleafacres.ca
SUMMARY:Garden Club
DESCRIPTION:
URL:https://mapleleafacres.ca/event/garden-club/
CATEGORIES:Activities,Fireside Room
END:VEVENT
BEGIN:VEVENT
DTSTART;TZID=America/Toronto:20240426T190000
DTEND;TZID=America/Toronto:20240426T190000
DTSTAMP:20260422T211600
CREATED:20231025T185943Z
LAST-MODIFIED:20231025T185943Z
UID:5707-1714158000-1714158000@mapleleafacres.ca
SUMMARY:Casino Night Season Finale
DESCRIPTION:
URL:https://mapleleafacres.ca/event/casino-night-season-finale/
CATEGORIES:Activities,Rec. Hall
END:VEVENT
BEGIN:VEVENT
DTSTART;VALUE=DATE:20240426
DTEND;VALUE=DATE:20240427
DTSTAMP:20260422T211600
CREATED:20240111T142909Z
LAST-MODIFIED:20240111T142909Z
UID:5769-1714089600-1714175999@mapleleafacres.ca
SUMMARY:Shuffle Board CANCELLED
DESCRIPTION:
URL:https://mapleleafacres.ca/event/shuffle-board-cancelled/
CATEGORIES:Activities,Rec. Hall
END:VEVENT
BEGIN:VEVENT
DTSTART;TZID=America/Toronto:20240425T190000
DTEND;TZID=America/Toronto:20240425T210000
DTSTAMP:20260422T211600
CREATED:20240131T192632Z
LAST-MODIFIED:20240131T192632Z
UID:6095-1714071600-1714078800@mapleleafacres.ca
SUMMARY:Pickle Ball
DESCRIPTION:
URL:https://mapleleafacres.ca/event/pickle-ball/2024-04-25/
CATEGORIES:Activities,Rec. Hall
END:VEVENT
BEGIN:VEVENT
DTSTART;TZID=America/Toronto:20240425T130000
DTEND;TZID=America/Toronto:20240425T160000
DTSTAMP:20260422T211600
CREATED:20240411T171035Z
LAST-MODIFIED:20240411T171035Z
UID:6321-1714050000-1714060800@mapleleafacres.ca
SUMMARY:Card Bingo
DESCRIPTION:
URL:https://mapleleafacres.ca/event/card-bingo-62/2024-04-25/
CATEGORIES:Adult Hall
END:VEVENT
END:VCALENDAR