BEGIN:VCALENDAR
VERSION:2.0
PRODID:-//Maple Leaf Acres - ECPv6.15.18//NONSGML v1.0//EN
CALSCALE:GREGORIAN
METHOD:PUBLISH
X-WR-CALNAME:Maple Leaf Acres
X-ORIGINAL-URL:https://mapleleafacres.ca
X-WR-CALDESC:Events for Maple Leaf Acres
REFRESH-INTERVAL;VALUE=DURATION:PT1H
X-Robots-Tag:noindex
X-PUBLISHED-TTL:PT1H
BEGIN:VTIMEZONE
TZID:America/Toronto
BEGIN:DAYLIGHT
TZOFFSETFROM:-0500
TZOFFSETTO:-0400
TZNAME:EDT
DTSTART:20220313T070000
END:DAYLIGHT
BEGIN:STANDARD
TZOFFSETFROM:-0400
TZOFFSETTO:-0500
TZNAME:EST
DTSTART:20221106T060000
END:STANDARD
BEGIN:DAYLIGHT
TZOFFSETFROM:-0500
TZOFFSETTO:-0400
TZNAME:EDT
DTSTART:20230312T070000
END:DAYLIGHT
BEGIN:STANDARD
TZOFFSETFROM:-0400
TZOFFSETTO:-0500
TZNAME:EST
DTSTART:20231105T060000
END:STANDARD
BEGIN:DAYLIGHT
TZOFFSETFROM:-0500
TZOFFSETTO:-0400
TZNAME:EDT
DTSTART:20240310T070000
END:DAYLIGHT
BEGIN:STANDARD
TZOFFSETFROM:-0400
TZOFFSETTO:-0500
TZNAME:EST
DTSTART:20241103T060000
END:STANDARD
END:VTIMEZONE
BEGIN:VEVENT
DTSTART;TZID=America/Toronto:20230520T130000
DTEND;TZID=America/Toronto:20230520T150000
DTSTAMP:20260423T190544
CREATED:20230322T151039Z
LAST-MODIFIED:20230414T141129Z
UID:4985-1684587600-1684594800@mapleleafacres.ca
SUMMARY:Chocolate Bar Bingo
DESCRIPTION:For ALL ages
URL:https://mapleleafacres.ca/event/chocolate-bar-bingo-4/
CATEGORIES:Activities,Rec. Hall
END:VEVENT
BEGIN:VEVENT
DTSTART;VALUE=DATE:20230520
DTEND;VALUE=DATE:20230521
DTSTAMP:20260423T190544
CREATED:20230118T193659Z
LAST-MODIFIED:20230414T141129Z
UID:4427-1684540800-1684627199@mapleleafacres.ca
SUMMARY:Private Party
DESCRIPTION:
URL:https://mapleleafacres.ca/event/private-party-55/
CATEGORIES:Activities,Fireside Room
END:VEVENT
BEGIN:VEVENT
DTSTART;TZID=America/Toronto:20230519T200000
DTEND;TZID=America/Toronto:20230519T220000
DTSTAMP:20260423T190544
CREATED:20230322T150943Z
LAST-MODIFIED:20230420T170529Z
UID:4983-1684526400-1684533600@mapleleafacres.ca
SUMMARY:Bingo
DESCRIPTION:
URL:https://mapleleafacres.ca/event/bingo-3/
CATEGORIES:Activities,Rec. Hall
END:VEVENT
BEGIN:VEVENT
DTSTART;TZID=America/Toronto:20230519T133000
DTEND;TZID=America/Toronto:20230519T163000
DTSTAMP:20260423T190544
CREATED:20230126T165938Z
LAST-MODIFIED:20230414T141129Z
UID:4572-1684503000-1684513800@mapleleafacres.ca
SUMMARY:Shuffle Board
DESCRIPTION:
URL:https://mapleleafacres.ca/event/shuffle-board-20/
CATEGORIES:Activities,Rec. Hall
END:VEVENT
BEGIN:VEVENT
DTSTART;TZID=America/Toronto:20230519T130000
DTEND;TZID=America/Toronto:20230519T160000
DTSTAMP:20260423T190544
CREATED:20230126T190710Z
LAST-MODIFIED:20230414T141129Z
UID:4658-1684501200-1684512000@mapleleafacres.ca
SUMMARY:Bid Euchre
DESCRIPTION:
URL:https://mapleleafacres.ca/event/bid-euchre-101/
CATEGORIES:Activities,Adult Hall
END:VEVENT
BEGIN:VEVENT
DTSTART;TZID=America/Toronto:20230518T190000
DTEND;TZID=America/Toronto:20230518T220000
DTSTAMP:20260423T190544
CREATED:20230324T140046Z
LAST-MODIFIED:20230414T141129Z
UID:5135-1684436400-1684447200@mapleleafacres.ca
SUMMARY:Pickle Ball
DESCRIPTION:
URL:https://mapleleafacres.ca/event/pickle-ball-32/
CATEGORIES:Activities,Rec. Hall
END:VEVENT
BEGIN:VEVENT
DTSTART;TZID=America/Toronto:20230518T130000
DTEND;TZID=America/Toronto:20230518T160000
DTSTAMP:20260423T190544
CREATED:20230126T190952Z
LAST-MODIFIED:20230414T141213Z
UID:4666-1684414800-1684425600@mapleleafacres.ca
SUMMARY:Card Bingo
DESCRIPTION:
URL:https://mapleleafacres.ca/event/card-bingo-28/
CATEGORIES:Activities,Adult Hall
END:VEVENT
BEGIN:VEVENT
DTSTART;TZID=America/Toronto:20230517T130000
DTEND;TZID=America/Toronto:20230517T160000
DTSTAMP:20260423T190544
CREATED:20230126T190246Z
LAST-MODIFIED:20230414T141213Z
UID:4646-1684328400-1684339200@mapleleafacres.ca
SUMMARY:Bid Euchre
DESCRIPTION:
URL:https://mapleleafacres.ca/event/sld209yahoo-ca/
CATEGORIES:Activities,Adult Hall
END:VEVENT
BEGIN:VEVENT
DTSTART;TZID=America/Toronto:20230516T140000
DTEND;TZID=America/Toronto:20230516T160000
DTSTAMP:20260423T190544
CREATED:20230324T135755Z
LAST-MODIFIED:20230414T141213Z
UID:5125-1684245600-1684252800@mapleleafacres.ca
SUMMARY:Pickle Ball
DESCRIPTION:
URL:https://mapleleafacres.ca/event/pickle-ball-27/
CATEGORIES:Activities,Rec. Hall
END:VEVENT
BEGIN:VEVENT
DTSTART;TZID=America/Toronto:20230515T130000
DTEND;TZID=America/Toronto:20230515T160000
DTSTAMP:20260423T190544
CREATED:20230126T183552Z
LAST-MODIFIED:20230414T141213Z
UID:4636-1684155600-1684166400@mapleleafacres.ca
SUMMARY:Bid Euchre
DESCRIPTION:
URL:https://mapleleafacres.ca/event/bid-euchre-93/
CATEGORIES:Activities,Adult Hall
END:VEVENT
BEGIN:VEVENT
DTSTART;TZID=America/Toronto:20230515T100000
DTEND;TZID=America/Toronto:20230515T120000
DTSTAMP:20260423T190544
CREATED:20230118T160336Z
LAST-MODIFIED:20230414T141213Z
UID:4203-1684144800-1684152000@mapleleafacres.ca
SUMMARY:Line Dancing
DESCRIPTION:
URL:https://mapleleafacres.ca/event/line-dancing-18/
CATEGORIES:Activities,Rec. Hall
END:VEVENT
BEGIN:VEVENT
DTSTART;VALUE=DATE:20230514
DTEND;VALUE=DATE:20230515
DTSTAMP:20260423T190544
CREATED:20230415T141631Z
LAST-MODIFIED:20230415T141631Z
UID:5262-1684022400-1684108799@mapleleafacres.ca
SUMMARY:Private party
DESCRIPTION:
URL:https://mapleleafacres.ca/event/private-party-74/
CATEGORIES:Activities,Adult Hall
END:VEVENT
BEGIN:VEVENT
DTSTART;VALUE=DATE:20230514
DTEND;VALUE=DATE:20230515
DTSTAMP:20260423T190544
CREATED:20230315T154908Z
LAST-MODIFIED:20230414T141213Z
UID:4951-1684022400-1684108799@mapleleafacres.ca
SUMMARY:Private Party
DESCRIPTION:
URL:https://mapleleafacres.ca/event/private-party-66/
CATEGORIES:Activities,Fireside Room
END:VEVENT
BEGIN:VEVENT
DTSTART;VALUE=DATE:20230513
DTEND;VALUE=DATE:20230514
DTSTAMP:20260423T190544
CREATED:20230208T192834Z
LAST-MODIFIED:20230414T141214Z
UID:4907-1683936000-1684022399@mapleleafacres.ca
SUMMARY:Private function
DESCRIPTION:
URL:https://mapleleafacres.ca/event/private-function-4/
CATEGORIES:Activities,Fireside Room
END:VEVENT
BEGIN:VEVENT
DTSTART;TZID=America/Toronto:20230512T200000
DTEND;TZID=America/Toronto:20230512T220000
DTSTAMP:20260423T190544
CREATED:20230322T150906Z
LAST-MODIFIED:20230420T170331Z
UID:4981-1683921600-1683928800@mapleleafacres.ca
SUMMARY:Bingo
DESCRIPTION:
URL:https://mapleleafacres.ca/event/bingo-2/
CATEGORIES:Activities,Rec. Hall
END:VEVENT
BEGIN:VEVENT
DTSTART;TZID=America/Toronto:20230512T130000
DTEND;TZID=America/Toronto:20230512T163000
DTSTAMP:20260423T190544
CREATED:20230126T165909Z
LAST-MODIFIED:20230414T141214Z
UID:4570-1683896400-1683909000@mapleleafacres.ca
SUMMARY:Shuffle Board
DESCRIPTION:
URL:https://mapleleafacres.ca/event/shuffle-board-19/
CATEGORIES:Activities,Rec. Hall
END:VEVENT
BEGIN:VEVENT
DTSTART;TZID=America/Toronto:20230512T130000
DTEND;TZID=America/Toronto:20230512T160000
DTSTAMP:20260423T190544
CREATED:20230126T190640Z
LAST-MODIFIED:20230414T141214Z
UID:4656-1683896400-1683907200@mapleleafacres.ca
SUMMARY:Bid Euchre
DESCRIPTION:
URL:https://mapleleafacres.ca/event/bid-euchre-100/
CATEGORIES:Activities,Adult Hall
END:VEVENT
BEGIN:VEVENT
DTSTART;TZID=America/Toronto:20230511T190000
DTEND;TZID=America/Toronto:20230511T220000
DTSTAMP:20260423T190544
CREATED:20230324T140012Z
LAST-MODIFIED:20230414T141214Z
UID:5133-1683831600-1683842400@mapleleafacres.ca
SUMMARY:Pickle Ball
DESCRIPTION:
URL:https://mapleleafacres.ca/event/pickle-ball-31/
CATEGORIES:Activities,Rec. Hall
END:VEVENT
BEGIN:VEVENT
DTSTART;TZID=America/Toronto:20230511T130000
DTEND;TZID=America/Toronto:20230511T160000
DTSTAMP:20260423T190544
CREATED:20230126T190925Z
LAST-MODIFIED:20230414T141214Z
UID:4664-1683810000-1683820800@mapleleafacres.ca
SUMMARY:Card Bingo
DESCRIPTION:
URL:https://mapleleafacres.ca/event/card-bingo-27/
CATEGORIES:Activities,Adult Hall
END:VEVENT
BEGIN:VEVENT
DTSTART;TZID=America/Toronto:20230510T130000
DTEND;TZID=America/Toronto:20230510T160000
DTSTAMP:20260423T190544
CREATED:20230126T190220Z
LAST-MODIFIED:20230414T141214Z
UID:4644-1683723600-1683734400@mapleleafacres.ca
SUMMARY:Bid Euchre
DESCRIPTION:
URL:https://mapleleafacres.ca/event/bid-euchre-97/
CATEGORIES:Activities,Adult Hall
END:VEVENT
BEGIN:VEVENT
DTSTART;TZID=America/Toronto:20230509T140000
DTEND;TZID=America/Toronto:20230509T160000
DTSTAMP:20260423T190544
CREATED:20230324T135726Z
LAST-MODIFIED:20230414T141214Z
UID:5123-1683640800-1683648000@mapleleafacres.ca
SUMMARY:Pickle Ball
DESCRIPTION:
URL:https://mapleleafacres.ca/event/pickle-ball-26/
CATEGORIES:Activities,Rec. Hall
END:VEVENT
BEGIN:VEVENT
DTSTART;TZID=America/Toronto:20230509T113000
DTEND;TZID=America/Toronto:20230509T140000
DTSTAMP:20260423T190544
CREATED:20230322T150825Z
LAST-MODIFIED:20230420T132622Z
UID:4979-1683631800-1683640800@mapleleafacres.ca
SUMMARY:Soup & Sandwich
DESCRIPTION:Download (PPTX\, Unknown)
URL:https://mapleleafacres.ca/event/soup-sandwich/
CATEGORIES:Activities,Adult Hall
END:VEVENT
BEGIN:VEVENT
DTSTART;TZID=America/Toronto:20230508T100000
DTEND;TZID=America/Toronto:20230508T120000
DTSTAMP:20260423T190544
CREATED:20230118T160308Z
LAST-MODIFIED:20230414T141214Z
UID:4201-1683540000-1683547200@mapleleafacres.ca
SUMMARY:Line Dancing
DESCRIPTION:
URL:https://mapleleafacres.ca/event/line-dancing-17/
CATEGORIES:Activities,Rec. Hall
END:VEVENT
BEGIN:VEVENT
DTSTART;TZID=America/Toronto:20230507T090000
DTEND;TZID=America/Toronto:20230507T110000
DTSTAMP:20260423T190544
CREATED:20230118T211931Z
LAST-MODIFIED:20230414T141214Z
UID:4503-1683450000-1683457200@mapleleafacres.ca
SUMMARY:Coffee Chat
DESCRIPTION:
URL:https://mapleleafacres.ca/event/coffee-chat-24/
CATEGORIES:Activities,Adult Hall
END:VEVENT
BEGIN:VEVENT
DTSTART;TZID=America/Toronto:20230506T130000
DTEND;TZID=America/Toronto:20230506T160000
DTSTAMP:20260423T190544
CREATED:20230420T142833Z
LAST-MODIFIED:20230503T144507Z
UID:5282-1683378000-1683388800@mapleleafacres.ca
SUMMARY:Natural Beauty Workshop - CANCELLED
DESCRIPTION:Download (PDF\, Unknown)
URL:https://mapleleafacres.ca/event/natural-beauty-workshop/
CATEGORIES:Activities,Fireside Room
END:VEVENT
BEGIN:VEVENT
DTSTART;TZID=America/Toronto:20230506T130000
DTEND;TZID=America/Toronto:20230506T150000
DTSTAMP:20260423T190544
CREATED:20230322T150649Z
LAST-MODIFIED:20230420T152931Z
UID:4976-1683378000-1683385200@mapleleafacres.ca
SUMMARY:Chocolate Bar Bingo
DESCRIPTION:
URL:https://mapleleafacres.ca/event/chicolate-bar-bingo/
CATEGORIES:Activities,Rec. Hall
END:VEVENT
BEGIN:VEVENT
DTSTART;TZID=America/Toronto:20230505T200000
DTEND;TZID=America/Toronto:20230505T220000
DTSTAMP:20260423T190544
CREATED:20230322T150537Z
LAST-MODIFIED:20230420T152712Z
UID:4974-1683316800-1683324000@mapleleafacres.ca
SUMMARY:Bingo - Opening Night
DESCRIPTION:
URL:https://mapleleafacres.ca/event/bingo-opening-night/
CATEGORIES:Activities,Rec. Hall
END:VEVENT
BEGIN:VEVENT
DTSTART;TZID=America/Toronto:20230505T133000
DTEND;TZID=America/Toronto:20230505T160000
DTSTAMP:20260423T190545
CREATED:20230126T165837Z
LAST-MODIFIED:20230414T141235Z
UID:4568-1683293400-1683302400@mapleleafacres.ca
SUMMARY:Shuffle Board
DESCRIPTION:
URL:https://mapleleafacres.ca/event/shuffle-board-18/
CATEGORIES:Activities,Rec. Hall
END:VEVENT
BEGIN:VEVENT
DTSTART;TZID=America/Toronto:20230505T130000
DTEND;TZID=America/Toronto:20230505T160000
DTSTAMP:20260423T190545
CREATED:20230126T190615Z
LAST-MODIFIED:20230414T141235Z
UID:4654-1683291600-1683302400@mapleleafacres.ca
SUMMARY:Bid Euchre
DESCRIPTION:
URL:https://mapleleafacres.ca/event/bid-euchre-99/
CATEGORIES:Activities,Adult Hall
END:VEVENT
BEGIN:VEVENT
DTSTART;TZID=America/Toronto:20230504T190000
DTEND;TZID=America/Toronto:20230504T220000
DTSTAMP:20260423T190545
CREATED:20230324T135942Z
LAST-MODIFIED:20230414T141235Z
UID:5131-1683226800-1683237600@mapleleafacres.ca
SUMMARY:Pickle Ball
DESCRIPTION:
URL:https://mapleleafacres.ca/event/pickle-ball-30/
CATEGORIES:Activities,Rec. Hall
END:VEVENT
END:VCALENDAR