BEGIN:VCALENDAR
VERSION:2.0
PRODID:-//Maple Leaf Acres - ECPv6.15.18//NONSGML v1.0//EN
CALSCALE:GREGORIAN
METHOD:PUBLISH
X-WR-CALNAME:Maple Leaf Acres
X-ORIGINAL-URL:https://mapleleafacres.ca
X-WR-CALDESC:Events for Maple Leaf Acres
REFRESH-INTERVAL;VALUE=DURATION:PT1H
X-Robots-Tag:noindex
X-PUBLISHED-TTL:PT1H
BEGIN:VTIMEZONE
TZID:America/Toronto
BEGIN:DAYLIGHT
TZOFFSETFROM:-0500
TZOFFSETTO:-0400
TZNAME:EDT
DTSTART:20220313T070000
END:DAYLIGHT
BEGIN:STANDARD
TZOFFSETFROM:-0400
TZOFFSETTO:-0500
TZNAME:EST
DTSTART:20221106T060000
END:STANDARD
BEGIN:DAYLIGHT
TZOFFSETFROM:-0500
TZOFFSETTO:-0400
TZNAME:EDT
DTSTART:20230312T070000
END:DAYLIGHT
BEGIN:STANDARD
TZOFFSETFROM:-0400
TZOFFSETTO:-0500
TZNAME:EST
DTSTART:20231105T060000
END:STANDARD
BEGIN:DAYLIGHT
TZOFFSETFROM:-0500
TZOFFSETTO:-0400
TZNAME:EDT
DTSTART:20240310T070000
END:DAYLIGHT
BEGIN:STANDARD
TZOFFSETFROM:-0400
TZOFFSETTO:-0500
TZNAME:EST
DTSTART:20241103T060000
END:STANDARD
END:VTIMEZONE
BEGIN:VEVENT
DTSTART;TZID=America/Toronto:20230611T130000
DTEND;TZID=America/Toronto:20230611T160000
DTSTAMP:20260423T053515
CREATED:20230415T134420Z
LAST-MODIFIED:20230415T134420Z
UID:5258-1686488400-1686499200@mapleleafacres.ca
SUMMARY:Private party
DESCRIPTION:
URL:https://mapleleafacres.ca/event/private-party-72/
CATEGORIES:Activities,Adult Hall
END:VEVENT
BEGIN:VEVENT
DTSTART;TZID=America/Toronto:20230610T200000
DTEND;TZID=America/Toronto:20230610T235900
DTSTAMP:20260423T053515
CREATED:20230426T153013Z
LAST-MODIFIED:20230426T160027Z
UID:5004-1686427200-1686441540@mapleleafacres.ca
SUMMARY:Dance - "Just Us" Live Band
DESCRIPTION:
URL:https://mapleleafacres.ca/event/dance-just-us-live-band/
CATEGORIES:Activities,Rec. Hall
END:VEVENT
BEGIN:VEVENT
DTSTART;TZID=America/Toronto:20230610T120000
DTEND;TZID=America/Toronto:20230610T233000
DTSTAMP:20260423T053515
CREATED:20230301T160305Z
LAST-MODIFIED:20230414T141109Z
UID:4945-1686398400-1686439800@mapleleafacres.ca
SUMMARY:Private Party
DESCRIPTION:
URL:https://mapleleafacres.ca/event/private-party-63/
CATEGORIES:Activities,Adult Hall
END:VEVENT
BEGIN:VEVENT
DTSTART;TZID=America/Toronto:20230610T090000
DTEND;TZID=America/Toronto:20230610T140000
DTSTAMP:20260423T053515
CREATED:20230426T152821Z
LAST-MODIFIED:20230426T160145Z
UID:5002-1686387600-1686405600@mapleleafacres.ca
SUMMARY:Garage Sale
DESCRIPTION:
URL:https://mapleleafacres.ca/event/garage-sale-2/
CATEGORIES:Activities
END:VEVENT
BEGIN:VEVENT
DTSTART;TZID=America/Toronto:20230609T200000
DTEND;TZID=America/Toronto:20230609T220000
DTSTAMP:20260423T053515
CREATED:20230322T152652Z
LAST-MODIFIED:20230420T170930Z
UID:5000-1686340800-1686348000@mapleleafacres.ca
SUMMARY:Bingo
DESCRIPTION:
URL:https://mapleleafacres.ca/event/bingo-5/
CATEGORIES:Activities,Rec. Hall
END:VEVENT
BEGIN:VEVENT
DTSTART;TZID=America/Toronto:20230609T133000
DTEND;TZID=America/Toronto:20230609T163000
DTSTAMP:20260423T053515
CREATED:20230126T170111Z
LAST-MODIFIED:20230414T141109Z
UID:4578-1686317400-1686328200@mapleleafacres.ca
SUMMARY:Shuffle Board
DESCRIPTION:
URL:https://mapleleafacres.ca/event/shuffle-board-23/
CATEGORIES:Activities,Rec. Hall
END:VEVENT
BEGIN:VEVENT
DTSTART;TZID=America/Toronto:20230609T130000
DTEND;TZID=America/Toronto:20230609T160000
DTSTAMP:20260423T053515
CREATED:20230201T151415Z
LAST-MODIFIED:20230414T141109Z
UID:4684-1686315600-1686326400@mapleleafacres.ca
SUMMARY:Bid Euchre
DESCRIPTION:
URL:https://mapleleafacres.ca/event/bid-euchre-104/
CATEGORIES:Activities,Adult Hall
END:VEVENT
BEGIN:VEVENT
DTSTART;TZID=America/Toronto:20230608T190000
DTEND;TZID=America/Toronto:20230608T220000
DTSTAMP:20260423T053515
CREATED:20230324T140858Z
LAST-MODIFIED:20230414T141109Z
UID:5149-1686250800-1686261600@mapleleafacres.ca
SUMMARY:Pickle Ball
DESCRIPTION:
URL:https://mapleleafacres.ca/event/pickle-ball-39/
CATEGORIES:Activities,Rec. Hall
END:VEVENT
BEGIN:VEVENT
DTSTART;TZID=America/Toronto:20230608T130000
DTEND;TZID=America/Toronto:20230608T160000
DTSTAMP:20260423T053515
CREATED:20230126T191141Z
LAST-MODIFIED:20230414T141109Z
UID:4672-1686229200-1686240000@mapleleafacres.ca
SUMMARY:Card Bingo
DESCRIPTION:
URL:https://mapleleafacres.ca/event/card-bingo-31/
CATEGORIES:Activities,Adult Hall
END:VEVENT
BEGIN:VEVENT
DTSTART;TZID=America/Toronto:20230606T140000
DTEND;TZID=America/Toronto:20230606T160000
DTSTAMP:20260423T053515
CREATED:20230324T140244Z
LAST-MODIFIED:20230414T141109Z
UID:5139-1686060000-1686067200@mapleleafacres.ca
SUMMARY:Pickle Ball
DESCRIPTION:
URL:https://mapleleafacres.ca/event/pickle-ball-34/
CATEGORIES:Activities,Rec. Hall
END:VEVENT
BEGIN:VEVENT
DTSTART;TZID=America/Toronto:20230605T100000
DTEND;TZID=America/Toronto:20230605T120000
DTSTAMP:20260423T053515
CREATED:20230118T161012Z
LAST-MODIFIED:20230414T141109Z
UID:4209-1685959200-1685966400@mapleleafacres.ca
SUMMARY:Line Dancing
DESCRIPTION:
URL:https://mapleleafacres.ca/event/line-dancing-21/
CATEGORIES:Activities,Rec. Hall
END:VEVENT
BEGIN:VEVENT
DTSTART;TZID=America/Toronto:20230604T113000
DTEND;TZID=America/Toronto:20230604T140000
DTSTAMP:20260423T053515
CREATED:20230322T152551Z
LAST-MODIFIED:20230426T160358Z
UID:4998-1685878200-1685887200@mapleleafacres.ca
SUMMARY:Chocolate bar Bingo
DESCRIPTION:
URL:https://mapleleafacres.ca/event/chocolate-bar-bingo-5/
CATEGORIES:Activities,Rec. Hall
END:VEVENT
BEGIN:VEVENT
DTSTART;TZID=America/Toronto:20230604T090000
DTEND;TZID=America/Toronto:20230604T110000
DTSTAMP:20260423T053515
CREATED:20230118T212142Z
LAST-MODIFIED:20230414T141109Z
UID:4507-1685869200-1685876400@mapleleafacres.ca
SUMMARY:Coffee Chat
DESCRIPTION:
URL:https://mapleleafacres.ca/event/coffee-chat-26/
CATEGORIES:Activities,Adult Hall
END:VEVENT
BEGIN:VEVENT
DTSTART;TZID=America/Toronto:20230603T110000
DTEND;TZID=America/Toronto:20230603T170000
DTSTAMP:20260423T053515
CREATED:20230322T152444Z
LAST-MODIFIED:20230414T141109Z
UID:4996-1685790000-1685811600@mapleleafacres.ca
SUMMARY:Clean up @ the lake
DESCRIPTION:Calling ALL volunteers!!
URL:https://mapleleafacres.ca/event/clean-up-the-lake/
CATEGORIES:Activities,MLA Events
END:VEVENT
BEGIN:VEVENT
DTSTART;TZID=America/Toronto:20230602T200000
DTEND;TZID=America/Toronto:20230602T220000
DTSTAMP:20260423T053515
CREATED:20230322T152248Z
LAST-MODIFIED:20230420T170656Z
UID:4993-1685736000-1685743200@mapleleafacres.ca
SUMMARY:Bingo
DESCRIPTION:
URL:https://mapleleafacres.ca/event/bingo-4/
CATEGORIES:Activities,Rec. Hall
END:VEVENT
BEGIN:VEVENT
DTSTART;TZID=America/Toronto:20230602T133000
DTEND;TZID=America/Toronto:20230602T163000
DTSTAMP:20260423T053515
CREATED:20230126T170041Z
LAST-MODIFIED:20230414T141109Z
UID:4576-1685712600-1685723400@mapleleafacres.ca
SUMMARY:Shuffle Board
DESCRIPTION:
URL:https://mapleleafacres.ca/event/shuffle-board-22/
CATEGORIES:Activities,Rec. Hall
END:VEVENT
BEGIN:VEVENT
DTSTART;TZID=America/Toronto:20230602T130000
DTEND;TZID=America/Toronto:20230602T160000
DTSTAMP:20260423T053515
CREATED:20230201T151323Z
LAST-MODIFIED:20230414T141110Z
UID:4682-1685710800-1685721600@mapleleafacres.ca
SUMMARY:Bid Euchre
DESCRIPTION:
URL:https://mapleleafacres.ca/event/bid-euchre-103/
CATEGORIES:Activities,Adult Hall
END:VEVENT
BEGIN:VEVENT
DTSTART;TZID=America/Toronto:20230601T190000
DTEND;TZID=America/Toronto:20230601T220000
DTSTAMP:20260423T053515
CREATED:20230324T140829Z
LAST-MODIFIED:20230414T141110Z
UID:5147-1685646000-1685656800@mapleleafacres.ca
SUMMARY:Pickle Ball
DESCRIPTION:
URL:https://mapleleafacres.ca/event/pickle-ball-38/
CATEGORIES:Activities,Rec. Hall
END:VEVENT
BEGIN:VEVENT
DTSTART;TZID=America/Toronto:20230601T130000
DTEND;TZID=America/Toronto:20230601T160000
DTSTAMP:20260423T053515
CREATED:20230126T191113Z
LAST-MODIFIED:20230414T141110Z
UID:4670-1685624400-1685635200@mapleleafacres.ca
SUMMARY:Card Bingo
DESCRIPTION:
URL:https://mapleleafacres.ca/event/card-bingo-30/
CATEGORIES:Activities,Adult Hall
END:VEVENT
BEGIN:VEVENT
DTSTART;TZID=America/Toronto:20230531T130000
DTEND;TZID=America/Toronto:20230531T160000
DTSTAMP:20260423T053515
CREATED:20230126T190543Z
LAST-MODIFIED:20230414T141110Z
UID:4652-1685538000-1685548800@mapleleafacres.ca
SUMMARY:Bid Euchre
DESCRIPTION:
URL:https://mapleleafacres.ca/event/bid-euchre-98/
CATEGORIES:Activities,Adult Hall
END:VEVENT
BEGIN:VEVENT
DTSTART;TZID=America/Toronto:20230530T140000
DTEND;TZID=America/Toronto:20230530T160000
DTSTAMP:20260423T053515
CREATED:20230324T135849Z
LAST-MODIFIED:20230414T141110Z
UID:5129-1685455200-1685462400@mapleleafacres.ca
SUMMARY:Pickle Ball
DESCRIPTION:
URL:https://mapleleafacres.ca/event/pickle-ball-29/
CATEGORIES:Activities,Rec. Hall
END:VEVENT
BEGIN:VEVENT
DTSTART;TZID=America/Toronto:20230529T130000
DTEND;TZID=America/Toronto:20230529T160000
DTSTAMP:20260423T053515
CREATED:20230126T183650Z
LAST-MODIFIED:20230414T141110Z
UID:4640-1685365200-1685376000@mapleleafacres.ca
SUMMARY:Bid Euchre
DESCRIPTION:
URL:https://mapleleafacres.ca/event/bid-euchre-95/
CATEGORIES:Activities,Adult Hall
END:VEVENT
BEGIN:VEVENT
DTSTART;TZID=America/Toronto:20230529T100000
DTEND;TZID=America/Toronto:20230529T120000
DTSTAMP:20260423T053515
CREATED:20230118T160437Z
LAST-MODIFIED:20230414T141128Z
UID:4207-1685354400-1685361600@mapleleafacres.ca
SUMMARY:Line Dancing
DESCRIPTION:
URL:https://mapleleafacres.ca/event/line-dancing-20/
CATEGORIES:Activities,Rec. Hall
END:VEVENT
BEGIN:VEVENT
DTSTART;TZID=America/Toronto:20230528T020000
DTEND;TZID=America/Toronto:20230528T160000
DTSTAMP:20260423T053515
CREATED:20230322T152037Z
LAST-MODIFIED:20230426T170612Z
UID:4991-1685239200-1685289600@mapleleafacres.ca
SUMMARY:Ice Cream "Sundays"
DESCRIPTION:
URL:https://mapleleafacres.ca/event/ice-cream-sundays/
CATEGORIES:Activities,Adult Hall
END:VEVENT
BEGIN:VEVENT
DTSTART;TZID=America/Toronto:20230527T100000
DTEND;TZID=America/Toronto:20230527T130000
DTSTAMP:20260423T053515
CREATED:20230222T151559Z
LAST-MODIFIED:20230414T141128Z
UID:4935-1685181600-1685192400@mapleleafacres.ca
SUMMARY:Spring Info Meeting
DESCRIPTION:
URL:https://mapleleafacres.ca/event/spring-info-meeting/
CATEGORIES:Activities,Rec. Hall
END:VEVENT
BEGIN:VEVENT
DTSTART;TZID=America/Toronto:20230526T133000
DTEND;TZID=America/Toronto:20230526T163000
DTSTAMP:20260423T053515
CREATED:20230126T170005Z
LAST-MODIFIED:20230414T141128Z
UID:4574-1685107800-1685118600@mapleleafacres.ca
SUMMARY:Shuffle Board
DESCRIPTION:
URL:https://mapleleafacres.ca/event/shuffle-board-21/
CATEGORIES:Activities,Rec. Hall
END:VEVENT
BEGIN:VEVENT
DTSTART;TZID=America/Toronto:20230526T130000
DTEND;TZID=America/Toronto:20230526T160000
DTSTAMP:20260423T053515
CREATED:20230126T190742Z
LAST-MODIFIED:20230414T141128Z
UID:4660-1685106000-1685116800@mapleleafacres.ca
SUMMARY:Bid Euchre
DESCRIPTION:
URL:https://mapleleafacres.ca/event/bid-euchre-102/
CATEGORIES:Activities,Adult Hall
END:VEVENT
BEGIN:VEVENT
DTSTART;TZID=America/Toronto:20230525T190000
DTEND;TZID=America/Toronto:20230525T220000
DTSTAMP:20260423T053515
CREATED:20230324T140120Z
LAST-MODIFIED:20230414T141128Z
UID:5137-1685041200-1685052000@mapleleafacres.ca
SUMMARY:Pickle Ball
DESCRIPTION:
URL:https://mapleleafacres.ca/event/pickle-ball-33/
CATEGORIES:Activities,Rec. Hall
END:VEVENT
BEGIN:VEVENT
DTSTART;TZID=America/Toronto:20230525T130000
DTEND;TZID=America/Toronto:20230525T160000
DTSTAMP:20260423T053515
CREATED:20230126T191022Z
LAST-MODIFIED:20230414T141129Z
UID:4668-1685019600-1685030400@mapleleafacres.ca
SUMMARY:Card Bingo
DESCRIPTION:
URL:https://mapleleafacres.ca/event/card-bingo-29/
CATEGORIES:Activities,Adult Hall
END:VEVENT
BEGIN:VEVENT
DTSTART;TZID=America/Toronto:20230524T130000
DTEND;TZID=America/Toronto:20230524T160000
DTSTAMP:20260423T053515
CREATED:20230126T190315Z
LAST-MODIFIED:20230414T141129Z
UID:4648-1684933200-1684944000@mapleleafacres.ca
SUMMARY:Bid Euchre
DESCRIPTION:
URL:https://mapleleafacres.ca/event/sld209yahoo-ca-2/
CATEGORIES:Activities,Rec. Hall
END:VEVENT
END:VCALENDAR