BEGIN:VCALENDAR
VERSION:2.0
PRODID:-//Maple Leaf Acres - ECPv6.15.18//NONSGML v1.0//EN
CALSCALE:GREGORIAN
METHOD:PUBLISH
X-WR-CALNAME:Maple Leaf Acres
X-ORIGINAL-URL:https://mapleleafacres.ca
X-WR-CALDESC:Events for Maple Leaf Acres
REFRESH-INTERVAL;VALUE=DURATION:PT1H
X-Robots-Tag:noindex
X-PUBLISHED-TTL:PT1H
BEGIN:VTIMEZONE
TZID:America/Toronto
BEGIN:DAYLIGHT
TZOFFSETFROM:-0500
TZOFFSETTO:-0400
TZNAME:EDT
DTSTART:20220313T070000
END:DAYLIGHT
BEGIN:STANDARD
TZOFFSETFROM:-0400
TZOFFSETTO:-0500
TZNAME:EST
DTSTART:20221106T060000
END:STANDARD
BEGIN:DAYLIGHT
TZOFFSETFROM:-0500
TZOFFSETTO:-0400
TZNAME:EDT
DTSTART:20230312T070000
END:DAYLIGHT
BEGIN:STANDARD
TZOFFSETFROM:-0400
TZOFFSETTO:-0500
TZNAME:EST
DTSTART:20231105T060000
END:STANDARD
BEGIN:DAYLIGHT
TZOFFSETFROM:-0500
TZOFFSETTO:-0400
TZNAME:EDT
DTSTART:20240310T070000
END:DAYLIGHT
BEGIN:STANDARD
TZOFFSETFROM:-0400
TZOFFSETTO:-0500
TZNAME:EST
DTSTART:20241103T060000
END:STANDARD
BEGIN:DAYLIGHT
TZOFFSETFROM:-0500
TZOFFSETTO:-0400
TZNAME:EDT
DTSTART:20250309T070000
END:DAYLIGHT
BEGIN:STANDARD
TZOFFSETFROM:-0400
TZOFFSETTO:-0500
TZNAME:EST
DTSTART:20251102T060000
END:STANDARD
END:VTIMEZONE
BEGIN:VEVENT
DTSTART;TZID=America/Toronto:20240101T080000
DTEND;TZID=America/Toronto:20240101T170000
DTSTAMP:20260422T224546
CREATED:20231025T190333Z
LAST-MODIFIED:20231025T190333Z
UID:5717-1704096000-1704128400@mapleleafacres.ca
SUMMARY:Private Party
DESCRIPTION:
URL:https://mapleleafacres.ca/event/private-party-86/
CATEGORIES:Activities,Fireside Room
END:VEVENT
BEGIN:VEVENT
DTSTART;TZID=America/Toronto:20231231T090000
DTEND;TZID=America/Toronto:20231231T110000
DTSTAMP:20260422T224546
CREATED:20230118T213224Z
LAST-MODIFIED:20230414T135705Z
UID:4537-1704013200-1704020400@mapleleafacres.ca
SUMMARY:Coffee Chat
DESCRIPTION:
URL:https://mapleleafacres.ca/event/coffee-chat-41/
CATEGORIES:Activities,Adult Hall
END:VEVENT
BEGIN:VEVENT
DTSTART;VALUE=DATE:20231231
DTEND;VALUE=DATE:20240101
DTSTAMP:20260422T224546
CREATED:20230322T175355Z
LAST-MODIFIED:20230414T135705Z
UID:5118-1703980800-1704067199@mapleleafacres.ca
SUMMARY:New Years Eve Dance
DESCRIPTION:
URL:https://mapleleafacres.ca/event/new-years-eve-dance/
CATEGORIES:Activities
END:VEVENT
BEGIN:VEVENT
DTSTART;TZID=America/Toronto:20231229T133000
DTEND;TZID=America/Toronto:20231229T163000
DTSTAMP:20260422T224546
CREATED:20230126T183237Z
LAST-MODIFIED:20230414T135705Z
UID:4632-1703856600-1703867400@mapleleafacres.ca
SUMMARY:Shuffle Board
DESCRIPTION:
URL:https://mapleleafacres.ca/event/shuffle-board-50/
CATEGORIES:Activities,Rec. Hall
END:VEVENT
BEGIN:VEVENT
DTSTART;TZID=America/Toronto:20231229T130000
DTEND;TZID=America/Toronto:20231229T160000
DTSTAMP:20260422T224546
CREATED:20230201T185727Z
LAST-MODIFIED:20230414T135705Z
UID:4905-1703854800-1703865600@mapleleafacres.ca
SUMMARY:Bid Euchre
DESCRIPTION:
URL:https://mapleleafacres.ca/event/bid-euchre-183/
CATEGORIES:Activities,Adult Hall
END:VEVENT
BEGIN:VEVENT
DTSTART;TZID=America/Toronto:20231228T130000
DTEND;TZID=America/Toronto:20231228T160000
DTSTAMP:20260422T224546
CREATED:20230201T161304Z
LAST-MODIFIED:20230414T135705Z
UID:4770-1703768400-1703779200@mapleleafacres.ca
SUMMARY:Card Bingo
DESCRIPTION:
URL:https://mapleleafacres.ca/event/card-bingo-60/
CATEGORIES:Activities,Adult Hall
END:VEVENT
BEGIN:VEVENT
DTSTART;VALUE=DATE:20231226
DTEND;VALUE=DATE:20231227
DTSTAMP:20260422T224546
CREATED:20230118T193828Z
LAST-MODIFIED:20230414T135705Z
UID:4433-1703548800-1703635199@mapleleafacres.ca
SUMMARY:Private Party
DESCRIPTION:
URL:https://mapleleafacres.ca/event/private-party-58/
CATEGORIES:Activities,Fireside Room
END:VEVENT
BEGIN:VEVENT
DTSTART;VALUE=DATE:20231225
DTEND;VALUE=DATE:20231226
DTSTAMP:20260422T224546
CREATED:20230118T193800Z
LAST-MODIFIED:20230414T135705Z
UID:4431-1703462400-1703548799@mapleleafacres.ca
SUMMARY:Private Party
DESCRIPTION:
URL:https://mapleleafacres.ca/event/private-party-57/
CATEGORIES:Activities
END:VEVENT
BEGIN:VEVENT
DTSTART;VALUE=DATE:20231224
DTEND;VALUE=DATE:20231225
DTSTAMP:20260422T224546
CREATED:20230705T174322Z
LAST-MODIFIED:20230705T174322Z
UID:5572-1703376000-1703462399@mapleleafacres.ca
SUMMARY:Private Party
DESCRIPTION:
URL:https://mapleleafacres.ca/event/private-party-83/
CATEGORIES:Activities,Fireside Room
END:VEVENT
BEGIN:VEVENT
DTSTART;TZID=America/Toronto:20231222T133000
DTEND;TZID=America/Toronto:20231222T163000
DTSTAMP:20260422T224546
CREATED:20230126T183142Z
LAST-MODIFIED:20230414T135705Z
UID:4630-1703251800-1703262600@mapleleafacres.ca
SUMMARY:Shuffle Board
DESCRIPTION:
URL:https://mapleleafacres.ca/event/shuffle-board-49/
CATEGORIES:Activities,Rec. Hall
END:VEVENT
BEGIN:VEVENT
DTSTART;TZID=America/Toronto:20231222T130000
DTEND;TZID=America/Toronto:20231222T160000
DTSTAMP:20260422T224546
CREATED:20230201T185659Z
LAST-MODIFIED:20230414T135705Z
UID:4903-1703250000-1703260800@mapleleafacres.ca
SUMMARY:Bid Euchre
DESCRIPTION:
URL:https://mapleleafacres.ca/event/bid-euchre-182/
CATEGORIES:Activities,Adult Hall
END:VEVENT
BEGIN:VEVENT
DTSTART;TZID=America/Toronto:20231221T130000
DTEND;TZID=America/Toronto:20231221T160000
DTSTAMP:20260422T224546
CREATED:20230201T161221Z
LAST-MODIFIED:20230414T135705Z
UID:4768-1703163600-1703174400@mapleleafacres.ca
SUMMARY:Card Bingo
DESCRIPTION:
URL:https://mapleleafacres.ca/event/card-bingo-59/
CATEGORIES:Activities,Adult Hall
END:VEVENT
BEGIN:VEVENT
DTSTART;TZID=America/Toronto:20231220T130000
DTEND;TZID=America/Toronto:20231220T160000
DTSTAMP:20260422T224546
CREATED:20230201T185456Z
LAST-MODIFIED:20230414T135705Z
UID:4895-1703077200-1703088000@mapleleafacres.ca
SUMMARY:Bid Euchre
DESCRIPTION:
URL:https://mapleleafacres.ca/event/bid-euchre-178/
CATEGORIES:Activities,Adult Hall
END:VEVENT
BEGIN:VEVENT
DTSTART;TZID=America/Toronto:20231219T140000
DTEND;TZID=America/Toronto:20231219T160000
DTSTAMP:20260422T224546
CREATED:20230324T174931Z
LAST-MODIFIED:20230414T135705Z
UID:5225-1702994400-1703001600@mapleleafacres.ca
SUMMARY:Pickle Ball
DESCRIPTION:
URL:https://mapleleafacres.ca/event/pickle-ball-76/
CATEGORIES:Activities,Rec. Hall
END:VEVENT
BEGIN:VEVENT
DTSTART;TZID=America/Toronto:20231218T130000
DTEND;TZID=America/Toronto:20231218T160000
DTSTAMP:20260422T224546
CREATED:20230201T185245Z
LAST-MODIFIED:20230414T135705Z
UID:4889-1702904400-1702915200@mapleleafacres.ca
SUMMARY:Bid Euchre
DESCRIPTION:
URL:https://mapleleafacres.ca/event/bid-euchre-175/
CATEGORIES:Activities,Adult Hall
END:VEVENT
BEGIN:VEVENT
DTSTART;TZID=America/Toronto:20231217T090000
DTEND;TZID=America/Toronto:20231217T110000
DTSTAMP:20260422T224546
CREATED:20230118T213118Z
LAST-MODIFIED:20230414T135705Z
UID:4535-1702803600-1702810800@mapleleafacres.ca
SUMMARY:Coffee Chat
DESCRIPTION:
URL:https://mapleleafacres.ca/event/coffee-chat-40/
CATEGORIES:Activities,Adult Hall
END:VEVENT
BEGIN:VEVENT
DTSTART;VALUE=DATE:20231216
DTEND;VALUE=DATE:20231217
DTSTAMP:20260422T224546
CREATED:20230118T193738Z
LAST-MODIFIED:20230414T135705Z
UID:4429-1702684800-1702771199@mapleleafacres.ca
SUMMARY:Private Party
DESCRIPTION:
URL:https://mapleleafacres.ca/event/private-party-56/
CATEGORIES:Activities,Fireside Room
END:VEVENT
BEGIN:VEVENT
DTSTART;TZID=America/Toronto:20231215T133000
DTEND;TZID=America/Toronto:20231215T163000
DTSTAMP:20260422T224546
CREATED:20230126T183038Z
LAST-MODIFIED:20230414T135705Z
UID:4628-1702647000-1702657800@mapleleafacres.ca
SUMMARY:Shuffle Board
DESCRIPTION:
URL:https://mapleleafacres.ca/event/shuffle-board-48/
CATEGORIES:Activities,Rec. Hall
END:VEVENT
BEGIN:VEVENT
DTSTART;TZID=America/Toronto:20231215T130000
DTEND;TZID=America/Toronto:20231215T160000
DTSTAMP:20260422T224546
CREATED:20230201T185633Z
LAST-MODIFIED:20230414T135705Z
UID:4901-1702645200-1702656000@mapleleafacres.ca
SUMMARY:Bid Euchre
DESCRIPTION:
URL:https://mapleleafacres.ca/event/bid-euchre-181/
CATEGORIES:Activities,Adult Hall
END:VEVENT
BEGIN:VEVENT
DTSTART;TZID=America/Toronto:20231214T130000
DTEND;TZID=America/Toronto:20231214T160000
DTSTAMP:20260422T224546
CREATED:20230201T161146Z
LAST-MODIFIED:20230414T135705Z
UID:4766-1702558800-1702569600@mapleleafacres.ca
SUMMARY:Card Bingo
DESCRIPTION:
URL:https://mapleleafacres.ca/event/card-bingo-58/
CATEGORIES:Activities,Adult Hall
END:VEVENT
BEGIN:VEVENT
DTSTART;TZID=America/Toronto:20231213T130000
DTEND;TZID=America/Toronto:20231213T160000
DTSTAMP:20260422T224546
CREATED:20230201T185358Z
LAST-MODIFIED:20230414T135705Z
UID:4893-1702472400-1702483200@mapleleafacres.ca
SUMMARY:Bid Euchre
DESCRIPTION:
URL:https://mapleleafacres.ca/event/bid-euchre-177/
CATEGORIES:Activities,Adult Hall
END:VEVENT
BEGIN:VEVENT
DTSTART;TZID=America/Toronto:20231212T140000
DTEND;TZID=America/Toronto:20231212T160000
DTSTAMP:20260422T224546
CREATED:20230324T174859Z
LAST-MODIFIED:20230414T135705Z
UID:5223-1702389600-1702396800@mapleleafacres.ca
SUMMARY:Pickle Ball
DESCRIPTION:
URL:https://mapleleafacres.ca/event/pickle-ball-75/
CATEGORIES:Activities,Rec. Hall
END:VEVENT
BEGIN:VEVENT
DTSTART;TZID=America/Toronto:20231211T130000
DTEND;TZID=America/Toronto:20231211T160000
DTSTAMP:20260422T224546
CREATED:20230201T185206Z
LAST-MODIFIED:20230414T135730Z
UID:4887-1702299600-1702310400@mapleleafacres.ca
SUMMARY:Bid Euchre
DESCRIPTION:
URL:https://mapleleafacres.ca/event/bid-euchre-174/
CATEGORIES:Activities,Adult Hall
END:VEVENT
BEGIN:VEVENT
DTSTART;TZID=America/Toronto:20231208T133000
DTEND;TZID=America/Toronto:20231208T163000
DTSTAMP:20260422T224546
CREATED:20230126T183007Z
LAST-MODIFIED:20230414T135730Z
UID:4626-1702042200-1702053000@mapleleafacres.ca
SUMMARY:Shuffle Board
DESCRIPTION:
URL:https://mapleleafacres.ca/event/shuffle-board-47/
CATEGORIES:Activities,Rec. Hall
END:VEVENT
BEGIN:VEVENT
DTSTART;TZID=America/Toronto:20231208T130000
DTEND;TZID=America/Toronto:20231208T160000
DTSTAMP:20260422T224546
CREATED:20230201T185557Z
LAST-MODIFIED:20230414T135730Z
UID:4899-1702040400-1702051200@mapleleafacres.ca
SUMMARY:Bid Euchre
DESCRIPTION:
URL:https://mapleleafacres.ca/event/bid-euchre-180/
CATEGORIES:Activities,Adult Hall
END:VEVENT
BEGIN:VEVENT
DTSTART;TZID=America/Toronto:20231207T130000
DTEND;TZID=America/Toronto:20231207T160000
DTSTAMP:20260422T224546
CREATED:20230201T161103Z
LAST-MODIFIED:20230414T135730Z
UID:4764-1701954000-1701964800@mapleleafacres.ca
SUMMARY:Card Bingo
DESCRIPTION:
URL:https://mapleleafacres.ca/event/card-bingo-57/
CATEGORIES:Activities,Adult Hall
END:VEVENT
BEGIN:VEVENT
DTSTART;TZID=America/Toronto:20231206T130000
DTEND;TZID=America/Toronto:20231206T160000
DTSTAMP:20260422T224546
CREATED:20230201T185324Z
LAST-MODIFIED:20230414T135730Z
UID:4891-1701867600-1701878400@mapleleafacres.ca
SUMMARY:Bid Euchre
DESCRIPTION:
URL:https://mapleleafacres.ca/event/bid-euchre-176/
CATEGORIES:Activities,Adult Hall
END:VEVENT
BEGIN:VEVENT
DTSTART;TZID=America/Toronto:20231205T140000
DTEND;TZID=America/Toronto:20231205T160000
DTSTAMP:20260422T224546
CREATED:20230324T174832Z
LAST-MODIFIED:20230414T135730Z
UID:5221-1701784800-1701792000@mapleleafacres.ca
SUMMARY:Pickle Ball
DESCRIPTION:
URL:https://mapleleafacres.ca/event/pickle-ball-74/
CATEGORIES:Activities,Rec. Hall
END:VEVENT
BEGIN:VEVENT
DTSTART;TZID=America/Toronto:20231204T130000
DTEND;TZID=America/Toronto:20231204T160000
DTSTAMP:20260422T224546
CREATED:20230201T185138Z
LAST-MODIFIED:20230414T135730Z
UID:4885-1701694800-1701705600@mapleleafacres.ca
SUMMARY:Bid Euchre
DESCRIPTION:
URL:https://mapleleafacres.ca/event/bid-euchre-173/
CATEGORIES:Activities,Adult Hall
END:VEVENT
BEGIN:VEVENT
DTSTART;TZID=America/Toronto:20231203T090000
DTEND;TZID=America/Toronto:20231203T110000
DTSTAMP:20260422T224546
CREATED:20230118T213040Z
LAST-MODIFIED:20230414T135730Z
UID:4533-1701594000-1701601200@mapleleafacres.ca
SUMMARY:Coffee Chat
DESCRIPTION:
URL:https://mapleleafacres.ca/event/coffee-chat-39/
CATEGORIES:Activities,Adult Hall
END:VEVENT
END:VCALENDAR