BEGIN:VCALENDAR
VERSION:2.0
PRODID:-//Maple Leaf Acres - ECPv6.15.18//NONSGML v1.0//EN
CALSCALE:GREGORIAN
METHOD:PUBLISH
X-WR-CALNAME:Maple Leaf Acres
X-ORIGINAL-URL:https://mapleleafacres.ca
X-WR-CALDESC:Events for Maple Leaf Acres
REFRESH-INTERVAL;VALUE=DURATION:PT1H
X-Robots-Tag:noindex
X-PUBLISHED-TTL:PT1H
BEGIN:VTIMEZONE
TZID:America/Toronto
BEGIN:DAYLIGHT
TZOFFSETFROM:-0500
TZOFFSETTO:-0400
TZNAME:EDT
DTSTART:20230312T070000
END:DAYLIGHT
BEGIN:STANDARD
TZOFFSETFROM:-0400
TZOFFSETTO:-0500
TZNAME:EST
DTSTART:20231105T060000
END:STANDARD
BEGIN:DAYLIGHT
TZOFFSETFROM:-0500
TZOFFSETTO:-0400
TZNAME:EDT
DTSTART:20240310T070000
END:DAYLIGHT
BEGIN:STANDARD
TZOFFSETFROM:-0400
TZOFFSETTO:-0500
TZNAME:EST
DTSTART:20241103T060000
END:STANDARD
BEGIN:DAYLIGHT
TZOFFSETFROM:-0500
TZOFFSETTO:-0400
TZNAME:EDT
DTSTART:20250309T070000
END:DAYLIGHT
BEGIN:STANDARD
TZOFFSETFROM:-0400
TZOFFSETTO:-0500
TZNAME:EST
DTSTART:20251102T060000
END:STANDARD
END:VTIMEZONE
BEGIN:VEVENT
DTSTART;TZID=America/Toronto:20240525T100000
DTEND;TZID=America/Toronto:20240525T120000
DTSTAMP:20260422T231830
CREATED:20231019T155015Z
LAST-MODIFIED:20231019T155015Z
UID:5694-1716631200-1716638400@mapleleafacres.ca
SUMMARY:Information Meeting
DESCRIPTION:
URL:https://mapleleafacres.ca/event/information-meeting/
CATEGORIES:Activities,Rec. Hall
END:VEVENT
BEGIN:VEVENT
DTSTART;TZID=America/Toronto:20240524T200000
DTEND;TZID=America/Toronto:20240525T000000
DTSTAMP:20260422T231830
CREATED:20240111T160003Z
LAST-MODIFIED:20240111T160003Z
UID:5805-1716580800-1716595200@mapleleafacres.ca
SUMMARY:Music Trivia Night
DESCRIPTION:
URL:https://mapleleafacres.ca/event/music-trivia-night/
CATEGORIES:Activities,Adult Hall
END:VEVENT
BEGIN:VEVENT
DTSTART;TZID=America/Toronto:20240524T200000
DTEND;TZID=America/Toronto:20240524T220000
DTSTAMP:20260422T231830
CREATED:20240131T190540Z
LAST-MODIFIED:20240131T190540Z
UID:5990-1716580800-1716588000@mapleleafacres.ca
SUMMARY:Bingo
DESCRIPTION:
URL:https://mapleleafacres.ca/event/bingo-24/2024-05-24/
CATEGORIES:Activities,Rec. Hall
END:VEVENT
BEGIN:VEVENT
DTSTART;TZID=America/Toronto:20240524T133000
DTEND;TZID=America/Toronto:20240524T160000
DTSTAMP:20260422T231830
CREATED:20240131T185238Z
LAST-MODIFIED:20240131T185238Z
UID:5896-1716557400-1716566400@mapleleafacres.ca
SUMMARY:Shuffle Board
DESCRIPTION:
URL:https://mapleleafacres.ca/event/shuffle-board-51/2024-05-24/
CATEGORIES:Activities,Rec. Hall
END:VEVENT
BEGIN:VEVENT
DTSTART;TZID=America/Toronto:20240523T190000
DTEND;TZID=America/Toronto:20240523T210000
DTSTAMP:20260422T231830
CREATED:20240131T192632Z
LAST-MODIFIED:20240131T192632Z
UID:6099-1716490800-1716498000@mapleleafacres.ca
SUMMARY:Pickle Ball
DESCRIPTION:
URL:https://mapleleafacres.ca/event/pickle-ball/2024-05-23/
CATEGORIES:Activities,Rec. Hall
END:VEVENT
BEGIN:VEVENT
DTSTART;TZID=America/Toronto:20240523T130000
DTEND;TZID=America/Toronto:20240523T160000
DTSTAMP:20260422T231830
CREATED:20240411T171035Z
LAST-MODIFIED:20240411T171035Z
UID:6325-1716469200-1716480000@mapleleafacres.ca
SUMMARY:Card Bingo
DESCRIPTION:
URL:https://mapleleafacres.ca/event/card-bingo-62/2024-05-23/
CATEGORIES:Adult Hall
END:VEVENT
BEGIN:VEVENT
DTSTART;TZID=America/Toronto:20240522T190000
DTEND;TZID=America/Toronto:20240522T220000
DTSTAMP:20260422T231830
CREATED:20240131T192245Z
LAST-MODIFIED:20240131T192245Z
UID:6057-1716404400-1716415200@mapleleafacres.ca
SUMMARY:Darts
DESCRIPTION:
URL:https://mapleleafacres.ca/event/darts-45/2024-05-22/
CATEGORIES:Activities,Rec. Hall
END:VEVENT
BEGIN:VEVENT
DTSTART;TZID=America/Toronto:20240520T130000
DTEND;TZID=America/Toronto:20240520T150000
DTSTAMP:20260422T231830
CREATED:20240131T192816Z
LAST-MODIFIED:20240131T192816Z
UID:6146-1716210000-1716217200@mapleleafacres.ca
SUMMARY:Pokeno
DESCRIPTION:
URL:https://mapleleafacres.ca/event/pokeno-29/2024-05-20/
CATEGORIES:Activities,Fireside Room
END:VEVENT
BEGIN:VEVENT
DTSTART;TZID=America/Toronto:20240520T100000
DTEND;TZID=America/Toronto:20240520T110000
DTSTAMP:20260422T231831
CREATED:20231025T190156Z
LAST-MODIFIED:20231025T190156Z
UID:5713-1716199200-1716202800@mapleleafacres.ca
SUMMARY:Line Dancing
DESCRIPTION:
URL:https://mapleleafacres.ca/event/line-dancing-44/
CATEGORIES:Activities,Rec. Hall
END:VEVENT
BEGIN:VEVENT
DTSTART;TZID=America/Toronto:20240519T100000
DTEND;TZID=America/Toronto:20240519T120000
DTSTAMP:20260422T231831
CREATED:20240111T155907Z
LAST-MODIFIED:20240111T155907Z
UID:5803-1716112800-1716120000@mapleleafacres.ca
SUMMARY:Horseshoe Tournament
DESCRIPTION:
URL:https://mapleleafacres.ca/event/horseshoe-tournament-4/
CATEGORIES:Activities
END:VEVENT
BEGIN:VEVENT
DTSTART;TZID=America/Toronto:20240519T090000
DTEND;TZID=America/Toronto:20240519T110000
DTSTAMP:20260422T231831
CREATED:20240411T195515Z
LAST-MODIFIED:20240411T195515Z
UID:6372-1716109200-1716116400@mapleleafacres.ca
SUMMARY:Coffee Chat
DESCRIPTION:
URL:https://mapleleafacres.ca/event/coffee-chat-46/
CATEGORIES:Adult Hall
END:VEVENT
BEGIN:VEVENT
DTSTART;TZID=America/Toronto:20240518T200000
DTEND;TZID=America/Toronto:20240519T000000
DTSTAMP:20260422T231831
CREATED:20240111T155758Z
LAST-MODIFIED:20240111T155758Z
UID:5801-1716062400-1716076800@mapleleafacres.ca
SUMMARY:Dance - Silverados
DESCRIPTION:Adults Only
URL:https://mapleleafacres.ca/event/dance-silverados/
CATEGORIES:Activities,Rec. Hall
END:VEVENT
BEGIN:VEVENT
DTSTART;TZID=America/Toronto:20240518T200000
DTEND;TZID=America/Toronto:20240518T233000
DTSTAMP:20260422T231831
CREATED:20240131T191008Z
LAST-MODIFIED:20240131T191008Z
UID:6015-1716062400-1716075000@mapleleafacres.ca
SUMMARY:Dance - Silverados
DESCRIPTION:
URL:https://mapleleafacres.ca/event/dance-silverados-2/
CATEGORIES:Activities,Rec. Hall
END:VEVENT
BEGIN:VEVENT
DTSTART;TZID=America/Toronto:20240518T140000
DTEND;TZID=America/Toronto:20240518T160000
DTSTAMP:20260422T231831
CREATED:20240131T191152Z
LAST-MODIFIED:20240131T191152Z
UID:6017-1716040800-1716048000@mapleleafacres.ca
SUMMARY:Chocolate Bar Bingo
DESCRIPTION:
URL:https://mapleleafacres.ca/event/chocolate-bar-bingo-13/
CATEGORIES:Activities,Rec. Hall
END:VEVENT
BEGIN:VEVENT
DTSTART;TZID=America/Toronto:20240518T140000
DTEND;TZID=America/Toronto:20240518T160000
DTSTAMP:20260422T231831
CREATED:20240111T155102Z
LAST-MODIFIED:20240111T155102Z
UID:5787-1716040800-1716048000@mapleleafacres.ca
SUMMARY:Chocolat Bar Bingo
DESCRIPTION:
URL:https://mapleleafacres.ca/event/chocolat-bar-bingo-2/
CATEGORIES:Activities,Rec. Hall
END:VEVENT
BEGIN:VEVENT
DTSTART;TZID=America/Toronto:20240518T100000
DTEND;TZID=America/Toronto:20240518T120000
DTSTAMP:20260422T231831
CREATED:20240111T155555Z
LAST-MODIFIED:20240111T155555Z
UID:5799-1716026400-1716033600@mapleleafacres.ca
SUMMARY:Sports & Rec Meeting
DESCRIPTION:
URL:https://mapleleafacres.ca/event/sports-rec-meeting-7/
CATEGORIES:Activities,Adult Hall
END:VEVENT
BEGIN:VEVENT
DTSTART;TZID=America/Toronto:20240517T200000
DTEND;TZID=America/Toronto:20240517T220000
DTSTAMP:20260422T231831
CREATED:20240131T190540Z
LAST-MODIFIED:20240131T190540Z
UID:5989-1715976000-1715983200@mapleleafacres.ca
SUMMARY:Bingo
DESCRIPTION:
URL:https://mapleleafacres.ca/event/bingo-24/2024-05-17/
CATEGORIES:Activities,Rec. Hall
END:VEVENT
BEGIN:VEVENT
DTSTART;TZID=America/Toronto:20240517T133000
DTEND;TZID=America/Toronto:20240517T160000
DTSTAMP:20260422T231831
CREATED:20240131T185238Z
LAST-MODIFIED:20240131T185238Z
UID:5895-1715952600-1715961600@mapleleafacres.ca
SUMMARY:Shuffle Board
DESCRIPTION:
URL:https://mapleleafacres.ca/event/shuffle-board-51/2024-05-17/
CATEGORIES:Activities,Rec. Hall
END:VEVENT
BEGIN:VEVENT
DTSTART;TZID=America/Toronto:20240516T190000
DTEND;TZID=America/Toronto:20240516T210000
DTSTAMP:20260422T231831
CREATED:20240131T192632Z
LAST-MODIFIED:20240131T192632Z
UID:6098-1715886000-1715893200@mapleleafacres.ca
SUMMARY:Pickle Ball
DESCRIPTION:
URL:https://mapleleafacres.ca/event/pickle-ball/2024-05-16/
CATEGORIES:Activities,Rec. Hall
END:VEVENT
BEGIN:VEVENT
DTSTART;TZID=America/Toronto:20240516T130000
DTEND;TZID=America/Toronto:20240516T160000
DTSTAMP:20260422T231831
CREATED:20240411T171035Z
LAST-MODIFIED:20240411T171035Z
UID:6324-1715864400-1715875200@mapleleafacres.ca
SUMMARY:Card Bingo
DESCRIPTION:
URL:https://mapleleafacres.ca/event/card-bingo-62/2024-05-16/
CATEGORIES:Adult Hall
END:VEVENT
BEGIN:VEVENT
DTSTART;TZID=America/Toronto:20240515T190000
DTEND;TZID=America/Toronto:20240515T220000
DTSTAMP:20260422T231831
CREATED:20240131T192245Z
LAST-MODIFIED:20240131T192245Z
UID:6056-1715799600-1715810400@mapleleafacres.ca
SUMMARY:Darts
DESCRIPTION:
URL:https://mapleleafacres.ca/event/darts-45/2024-05-15/
CATEGORIES:Activities,Rec. Hall
END:VEVENT
BEGIN:VEVENT
DTSTART;TZID=America/Toronto:20240513T130000
DTEND;TZID=America/Toronto:20240513T150000
DTSTAMP:20260422T231831
CREATED:20240131T192816Z
LAST-MODIFIED:20240131T192816Z
UID:6145-1715605200-1715612400@mapleleafacres.ca
SUMMARY:Pokeno
DESCRIPTION:
URL:https://mapleleafacres.ca/event/pokeno-29/2024-05-13/
CATEGORIES:Activities,Fireside Room
END:VEVENT
BEGIN:VEVENT
DTSTART;TZID=America/Toronto:20240513T100000
DTEND;TZID=America/Toronto:20240513T110000
DTSTAMP:20260422T231831
CREATED:20231025T190121Z
LAST-MODIFIED:20231025T190121Z
UID:5711-1715594400-1715598000@mapleleafacres.ca
SUMMARY:Line Dancing
DESCRIPTION:
URL:https://mapleleafacres.ca/event/line-dancing-43/
CATEGORIES:Activities,Rec. Hall
END:VEVENT
BEGIN:VEVENT
DTSTART;TZID=America/Toronto:20240510T200000
DTEND;TZID=America/Toronto:20240510T220000
DTSTAMP:20260422T231831
CREATED:20240131T190540Z
LAST-MODIFIED:20240131T190540Z
UID:5988-1715371200-1715378400@mapleleafacres.ca
SUMMARY:Bingo
DESCRIPTION:
URL:https://mapleleafacres.ca/event/bingo-24/2024-05-10/
CATEGORIES:Activities,Rec. Hall
END:VEVENT
BEGIN:VEVENT
DTSTART;TZID=America/Toronto:20240510T133000
DTEND;TZID=America/Toronto:20240510T160000
DTSTAMP:20260422T231831
CREATED:20240131T185238Z
LAST-MODIFIED:20240131T185238Z
UID:5894-1715347800-1715356800@mapleleafacres.ca
SUMMARY:Shuffle Board
DESCRIPTION:
URL:https://mapleleafacres.ca/event/shuffle-board-51/2024-05-10/
CATEGORIES:Activities,Rec. Hall
END:VEVENT
BEGIN:VEVENT
DTSTART;TZID=America/Toronto:20240509T190000
DTEND;TZID=America/Toronto:20240509T210000
DTSTAMP:20260422T231831
CREATED:20240131T192632Z
LAST-MODIFIED:20240131T192632Z
UID:6097-1715281200-1715288400@mapleleafacres.ca
SUMMARY:Pickle Ball
DESCRIPTION:
URL:https://mapleleafacres.ca/event/pickle-ball/2024-05-09/
CATEGORIES:Activities,Rec. Hall
END:VEVENT
BEGIN:VEVENT
DTSTART;TZID=America/Toronto:20240509T130000
DTEND;TZID=America/Toronto:20240509T160000
DTSTAMP:20260422T231831
CREATED:20240411T171035Z
LAST-MODIFIED:20240411T171035Z
UID:6323-1715259600-1715270400@mapleleafacres.ca
SUMMARY:Card Bingo
DESCRIPTION:
URL:https://mapleleafacres.ca/event/card-bingo-62/2024-05-09/
CATEGORIES:Adult Hall
END:VEVENT
BEGIN:VEVENT
DTSTART;TZID=America/Toronto:20240508T190000
DTEND;TZID=America/Toronto:20240508T220000
DTSTAMP:20260422T231831
CREATED:20240131T192245Z
LAST-MODIFIED:20240131T192245Z
UID:6055-1715194800-1715205600@mapleleafacres.ca
SUMMARY:Darts
DESCRIPTION:
URL:https://mapleleafacres.ca/event/darts-45/2024-05-08/
CATEGORIES:Activities,Rec. Hall
END:VEVENT
BEGIN:VEVENT
DTSTART;TZID=America/Toronto:20240507T110000
DTEND;TZID=America/Toronto:20240507T140000
DTSTAMP:20260422T231831
CREATED:20240111T155007Z
LAST-MODIFIED:20240111T155007Z
UID:5785-1715079600-1715090400@mapleleafacres.ca
SUMMARY:Soup & Sandwich
DESCRIPTION:
URL:https://mapleleafacres.ca/event/soup-sandwich-2/
CATEGORIES:Activities,Adult Hall
END:VEVENT
BEGIN:VEVENT
DTSTART;TZID=America/Toronto:20240506T130000
DTEND;TZID=America/Toronto:20240506T150000
DTSTAMP:20260422T231831
CREATED:20240131T192816Z
LAST-MODIFIED:20240131T192816Z
UID:6144-1715000400-1715007600@mapleleafacres.ca
SUMMARY:Pokeno
DESCRIPTION:
URL:https://mapleleafacres.ca/event/pokeno-29/2024-05-06/
CATEGORIES:Activities,Fireside Room
END:VEVENT
END:VCALENDAR