BEGIN:VCALENDAR
VERSION:2.0
PRODID:-//Maple Leaf Acres - ECPv6.15.18//NONSGML v1.0//EN
CALSCALE:GREGORIAN
METHOD:PUBLISH
X-WR-CALNAME:Maple Leaf Acres
X-ORIGINAL-URL:https://mapleleafacres.ca
X-WR-CALDESC:Events for Maple Leaf Acres
REFRESH-INTERVAL;VALUE=DURATION:PT1H
X-Robots-Tag:noindex
X-PUBLISHED-TTL:PT1H
BEGIN:VTIMEZONE
TZID:America/Toronto
BEGIN:DAYLIGHT
TZOFFSETFROM:-0500
TZOFFSETTO:-0400
TZNAME:EDT
DTSTART:20220313T070000
END:DAYLIGHT
BEGIN:STANDARD
TZOFFSETFROM:-0400
TZOFFSETTO:-0500
TZNAME:EST
DTSTART:20221106T060000
END:STANDARD
BEGIN:DAYLIGHT
TZOFFSETFROM:-0500
TZOFFSETTO:-0400
TZNAME:EDT
DTSTART:20230312T070000
END:DAYLIGHT
BEGIN:STANDARD
TZOFFSETFROM:-0400
TZOFFSETTO:-0500
TZNAME:EST
DTSTART:20231105T060000
END:STANDARD
BEGIN:DAYLIGHT
TZOFFSETFROM:-0500
TZOFFSETTO:-0400
TZNAME:EDT
DTSTART:20240310T070000
END:DAYLIGHT
BEGIN:STANDARD
TZOFFSETFROM:-0400
TZOFFSETTO:-0500
TZNAME:EST
DTSTART:20241103T060000
END:STANDARD
END:VTIMEZONE
BEGIN:VEVENT
DTSTART;TZID=America/Toronto:20230717T100000
DTEND;TZID=America/Toronto:20230717T110000
DTSTAMP:20260423T044533
CREATED:20230609T160056Z
LAST-MODIFIED:20230609T160056Z
UID:5456-1689588000-1689591600@mapleleafacres.ca
SUMMARY:Yoga
DESCRIPTION:
URL:https://mapleleafacres.ca/event/yoga-12/
CATEGORIES:Activities,Adult Hall
END:VEVENT
BEGIN:VEVENT
DTSTART;TZID=America/Toronto:20230716T100000
DTEND;TZID=America/Toronto:20230716T140000
DTSTAMP:20260423T044533
CREATED:20230322T164645Z
LAST-MODIFIED:20230414T140837Z
UID:5037-1689501600-1689516000@mapleleafacres.ca
SUMMARY:Golf Cart Wash
DESCRIPTION:
URL:https://mapleleafacres.ca/event/golf-cart-wash-2/
CATEGORIES:Activities,Rec. Hall
END:VEVENT
BEGIN:VEVENT
DTSTART;TZID=America/Toronto:20230716T090000
DTEND;TZID=America/Toronto:20230716T110000
DTSTAMP:20260423T044533
CREATED:20230118T212335Z
LAST-MODIFIED:20230414T140837Z
UID:4513-1689498000-1689505200@mapleleafacres.ca
SUMMARY:Coffee Chat
DESCRIPTION:
URL:https://mapleleafacres.ca/event/coffee-chat-29/
CATEGORIES:Activities,Adult Hall
END:VEVENT
BEGIN:VEVENT
DTSTART;TZID=America/Toronto:20230715T200000
DTEND;TZID=America/Toronto:20230715T235900
DTSTAMP:20260423T044533
CREATED:20230322T155904Z
LAST-MODIFIED:20230414T140837Z
UID:5035-1689451200-1689465540@mapleleafacres.ca
SUMMARY:Street Dance - Brandon Silver & The Sylvrado
DESCRIPTION:
URL:https://mapleleafacres.ca/event/street-dance-brandon-silver-the-sylvrado/
CATEGORIES:Activities,Rec. Hall
END:VEVENT
BEGIN:VEVENT
DTSTART;TZID=America/Toronto:20230714T200000
DTEND;TZID=America/Toronto:20230714T220000
DTSTAMP:20260423T044533
CREATED:20230322T155129Z
LAST-MODIFIED:20230420T173857Z
UID:5033-1689364800-1689372000@mapleleafacres.ca
SUMMARY:Bingo
DESCRIPTION:
URL:https://mapleleafacres.ca/event/bingo-9/
CATEGORIES:Activities,Rec. Hall
END:VEVENT
BEGIN:VEVENT
DTSTART;TZID=America/Toronto:20230714T133000
DTEND;TZID=America/Toronto:20230714T163000
DTSTAMP:20260423T044533
CREATED:20230126T180506Z
LAST-MODIFIED:20230414T140837Z
UID:4586-1689341400-1689352200@mapleleafacres.ca
SUMMARY:Shuffle Board
DESCRIPTION:
URL:https://mapleleafacres.ca/event/shuffle-board-27/
CATEGORIES:Activities,Rec. Hall
END:VEVENT
BEGIN:VEVENT
DTSTART;TZID=America/Toronto:20230714T130000
DTEND;TZID=America/Toronto:20230714T160000
DTSTAMP:20260423T044533
CREATED:20230201T152710Z
LAST-MODIFIED:20230414T140837Z
UID:4712-1689339600-1689350400@mapleleafacres.ca
SUMMARY:Bid Euchre
DESCRIPTION:
URL:https://mapleleafacres.ca/event/bid-euchre-118/
CATEGORIES:Activities,Adult Hall
END:VEVENT
BEGIN:VEVENT
DTSTART;TZID=America/Toronto:20230713T190000
DTEND;TZID=America/Toronto:20230713T220000
DTSTAMP:20260423T044533
CREATED:20230324T144550Z
LAST-MODIFIED:20230414T140837Z
UID:5167-1689274800-1689285600@mapleleafacres.ca
SUMMARY:Pickle Ball
DESCRIPTION:
URL:https://mapleleafacres.ca/event/pickle-ball-48/
CATEGORIES:Activities,Rec. Hall
END:VEVENT
BEGIN:VEVENT
DTSTART;TZID=America/Toronto:20230713T190000
DTEND;TZID=America/Toronto:20230713T220000
DTSTAMP:20260423T044533
CREATED:20230324T144516Z
LAST-MODIFIED:20230414T140837Z
UID:5165-1689274800-1689285600@mapleleafacres.ca
SUMMARY:Pickle Ball
DESCRIPTION:
URL:https://mapleleafacres.ca/event/pickle-ball-47/
CATEGORIES:Activities,Rec. Hall
END:VEVENT
BEGIN:VEVENT
DTSTART;TZID=America/Toronto:20230713T130000
DTEND;TZID=America/Toronto:20230713T160000
DTSTAMP:20260423T044533
CREATED:20230201T153114Z
LAST-MODIFIED:20230414T140837Z
UID:4722-1689253200-1689264000@mapleleafacres.ca
SUMMARY:Card Bingo
DESCRIPTION:
URL:https://mapleleafacres.ca/event/card-bingo-36/
CATEGORIES:Activities,Adult Hall
END:VEVENT
BEGIN:VEVENT
DTSTART;TZID=America/Toronto:20230712T130000
DTEND;TZID=America/Toronto:20230712T160000
DTSTAMP:20260423T044533
CREATED:20230201T152453Z
LAST-MODIFIED:20230414T140837Z
UID:4704-1689166800-1689177600@mapleleafacres.ca
SUMMARY:Bid Euchre
DESCRIPTION:
URL:https://mapleleafacres.ca/event/bid-euchre-114/
CATEGORIES:Activities,Adult Hall
END:VEVENT
BEGIN:VEVENT
DTSTART;TZID=America/Toronto:20230711T140000
DTEND;TZID=America/Toronto:20230711T160000
DTSTAMP:20260423T044533
CREATED:20230324T144246Z
LAST-MODIFIED:20230414T140837Z
UID:5157-1689084000-1689091200@mapleleafacres.ca
SUMMARY:Pickle Ball
DESCRIPTION:
URL:https://mapleleafacres.ca/event/pickle-ball-43/
CATEGORIES:Activities,Rec. Hall
END:VEVENT
BEGIN:VEVENT
DTSTART;TZID=America/Toronto:20230710T130000
DTEND;TZID=America/Toronto:20230710T160000
DTSTAMP:20260423T044533
CREATED:20230201T152157Z
LAST-MODIFIED:20230414T140837Z
UID:4694-1688994000-1689004800@mapleleafacres.ca
SUMMARY:Bid Euchre
DESCRIPTION:
URL:https://mapleleafacres.ca/event/bid-euchre-109/
CATEGORIES:Activities,Adult Hall
END:VEVENT
BEGIN:VEVENT
DTSTART;TZID=America/Toronto:20230710T080000
DTEND;TZID=America/Toronto:20230710T170000
DTSTAMP:20260423T044533
CREATED:20230118T161436Z
LAST-MODIFIED:20230414T140837Z
UID:4217-1688976000-1689008400@mapleleafacres.ca
SUMMARY:Line Dancing
DESCRIPTION:
URL:https://mapleleafacres.ca/event/line-dancing-25/
CATEGORIES:Activities,Rec. Hall
END:VEVENT
BEGIN:VEVENT
DTSTART;TZID=America/Toronto:20230709T080000
DTEND;TZID=America/Toronto:20230709T170000
DTSTAMP:20260423T044533
CREATED:20230322T155048Z
LAST-MODIFIED:20230414T140837Z
UID:5031-1688889600-1688922000@mapleleafacres.ca
SUMMARY:Scavenger Hunt
DESCRIPTION:See poster for more details
URL:https://mapleleafacres.ca/event/scavenger-hunt/
CATEGORIES:Activities
END:VEVENT
BEGIN:VEVENT
DTSTART;TZID=America/Toronto:20230708T140000
DTEND;TZID=America/Toronto:20230708T180000
DTSTAMP:20260423T044533
CREATED:20230222T151640Z
LAST-MODIFIED:20230414T140837Z
UID:4937-1688824800-1688839200@mapleleafacres.ca
SUMMARY:Harmony Day
DESCRIPTION:
URL:https://mapleleafacres.ca/event/harmony-day-3/
CATEGORIES:Activities,Rec. Hall
END:VEVENT
BEGIN:VEVENT
DTSTART;TZID=America/Toronto:20230708T130000
DTEND;TZID=America/Toronto:20230708T170000
DTSTAMP:20260423T044533
CREATED:20230412T171900Z
LAST-MODIFIED:20230414T140837Z
UID:5251-1688821200-1688835600@mapleleafacres.ca
SUMMARY:Private Party
DESCRIPTION:
URL:https://mapleleafacres.ca/event/private-party-70/
CATEGORIES:Activities,Adult Hall
END:VEVENT
BEGIN:VEVENT
DTSTART;TZID=America/Toronto:20230708T100000
DTEND;TZID=America/Toronto:20230708T170000
DTSTAMP:20260423T044533
CREATED:20230415T134446Z
LAST-MODIFIED:20230415T134446Z
UID:5260-1688810400-1688835600@mapleleafacres.ca
SUMMARY:Private party
DESCRIPTION:
URL:https://mapleleafacres.ca/event/private-party-73/
CATEGORIES:Activities,Adult Hall
END:VEVENT
BEGIN:VEVENT
DTSTART;TZID=America/Toronto:20230707T200000
DTEND;TZID=America/Toronto:20230707T220000
DTSTAMP:20260423T044533
CREATED:20230322T154947Z
LAST-MODIFIED:20230420T173817Z
UID:5029-1688760000-1688767200@mapleleafacres.ca
SUMMARY:Bingo
DESCRIPTION:
URL:https://mapleleafacres.ca/event/bingo-8/
CATEGORIES:Activities,Rec. Hall
END:VEVENT
BEGIN:VEVENT
DTSTART;TZID=America/Toronto:20230707T133000
DTEND;TZID=America/Toronto:20230707T163000
DTSTAMP:20260423T044533
CREATED:20230126T180431Z
LAST-MODIFIED:20230414T140837Z
UID:4584-1688736600-1688747400@mapleleafacres.ca
SUMMARY:Shuffle Board
DESCRIPTION:
URL:https://mapleleafacres.ca/event/shuffle-board-26/
CATEGORIES:Activities,Rec. Hall
END:VEVENT
BEGIN:VEVENT
DTSTART;TZID=America/Toronto:20230707T130000
DTEND;TZID=America/Toronto:20230707T160000
DTSTAMP:20260423T044533
CREATED:20230201T152638Z
LAST-MODIFIED:20230414T140837Z
UID:4710-1688734800-1688745600@mapleleafacres.ca
SUMMARY:Bid Euchre
DESCRIPTION:
URL:https://mapleleafacres.ca/event/bid-euchre-117/
CATEGORIES:Activities,Adult Hall
END:VEVENT
BEGIN:VEVENT
DTSTART;TZID=America/Toronto:20230706T140000
DTEND;TZID=America/Toronto:20230706T160000
DTSTAMP:20260423T044533
CREATED:20230324T144430Z
LAST-MODIFIED:20230414T141035Z
UID:5163-1688652000-1688659200@mapleleafacres.ca
SUMMARY:Pickle Ball
DESCRIPTION:
URL:https://mapleleafacres.ca/event/pickle-ball-46/
CATEGORIES:Activities,Rec. Hall
END:VEVENT
BEGIN:VEVENT
DTSTART;TZID=America/Toronto:20230706T130000
DTEND;TZID=America/Toronto:20230706T160000
DTSTAMP:20260423T044533
CREATED:20230201T152951Z
LAST-MODIFIED:20230414T141035Z
UID:4720-1688648400-1688659200@mapleleafacres.ca
SUMMARY:Card Bingo
DESCRIPTION:
URL:https://mapleleafacres.ca/event/card-bingo-35/
CATEGORIES:Activities,Adult Hall
END:VEVENT
BEGIN:VEVENT
DTSTART;TZID=America/Toronto:20230705T130000
DTEND;TZID=America/Toronto:20230705T160000
DTSTAMP:20260423T044533
CREATED:20230201T152422Z
LAST-MODIFIED:20230414T141035Z
UID:4702-1688562000-1688572800@mapleleafacres.ca
SUMMARY:Bid Euchre
DESCRIPTION:
URL:https://mapleleafacres.ca/event/bid-euchre-113/
CATEGORIES:Activities,Rec. Hall
END:VEVENT
BEGIN:VEVENT
DTSTART;TZID=America/Toronto:20230704T140000
DTEND;TZID=America/Toronto:20230704T160000
DTSTAMP:20260423T044533
CREATED:20230324T144211Z
LAST-MODIFIED:20230414T141035Z
UID:5155-1688479200-1688486400@mapleleafacres.ca
SUMMARY:Pickle Ball
DESCRIPTION:
URL:https://mapleleafacres.ca/event/pickle-ball-42/
CATEGORIES:Activities,Rec. Hall
END:VEVENT
BEGIN:VEVENT
DTSTART;TZID=America/Toronto:20230703T130000
DTEND;TZID=America/Toronto:20230703T160000
DTSTAMP:20260423T044533
CREATED:20230201T152132Z
LAST-MODIFIED:20230414T141035Z
UID:4692-1688389200-1688400000@mapleleafacres.ca
SUMMARY:Bid Euchre
DESCRIPTION:
URL:https://mapleleafacres.ca/event/bid-euchre-108/
CATEGORIES:Activities,Adult Hall
END:VEVENT
BEGIN:VEVENT
DTSTART;TZID=America/Toronto:20230703T100000
DTEND;TZID=America/Toronto:20230703T120000
DTSTAMP:20260423T044533
CREATED:20230118T161204Z
LAST-MODIFIED:20230414T141035Z
UID:4215-1688378400-1688385600@mapleleafacres.ca
SUMMARY:Line Dancing
DESCRIPTION:
URL:https://mapleleafacres.ca/event/line-dancing-24/
CATEGORIES:Activities,Rec. Hall
END:VEVENT
BEGIN:VEVENT
DTSTART;TZID=America/Toronto:20230703T100000
DTEND;TZID=America/Toronto:20230703T110000
DTSTAMP:20260423T044533
CREATED:20230609T160004Z
LAST-MODIFIED:20230609T160004Z
UID:5453-1688378400-1688382000@mapleleafacres.ca
SUMMARY:Yoga
DESCRIPTION:
URL:https://mapleleafacres.ca/event/yoga-11/
CATEGORIES:Activities,Adult Hall
END:VEVENT
BEGIN:VEVENT
DTSTART;TZID=America/Toronto:20230702T120000
DTEND;TZID=America/Toronto:20230702T233000
DTSTAMP:20260423T044533
CREATED:20230201T152858Z
LAST-MODIFIED:20230414T141035Z
UID:4718-1688299200-1688340600@mapleleafacres.ca
SUMMARY:Private Party
DESCRIPTION:
URL:https://mapleleafacres.ca/event/private-party-48/
CATEGORIES:Activities,Adult Hall
END:VEVENT
BEGIN:VEVENT
DTSTART;TZID=America/Toronto:20230702T120000
DTEND;TZID=America/Toronto:20230702T230000
DTSTAMP:20260423T044533
CREATED:20230621T140152Z
LAST-MODIFIED:20230621T140152Z
UID:5515-1688299200-1688338800@mapleleafacres.ca
SUMMARY:Private Party
DESCRIPTION:
URL:https://mapleleafacres.ca/event/private-party-80/
CATEGORIES:Activities,Adult Hall
END:VEVENT
END:VCALENDAR