BEGIN:VCALENDAR
VERSION:2.0
PRODID:-//Maple Leaf Acres - ECPv6.15.18//NONSGML v1.0//EN
CALSCALE:GREGORIAN
METHOD:PUBLISH
X-WR-CALNAME:Maple Leaf Acres
X-ORIGINAL-URL:https://mapleleafacres.ca
X-WR-CALDESC:Events for Maple Leaf Acres
REFRESH-INTERVAL;VALUE=DURATION:PT1H
X-Robots-Tag:noindex
X-PUBLISHED-TTL:PT1H
BEGIN:VTIMEZONE
TZID:America/Toronto
BEGIN:DAYLIGHT
TZOFFSETFROM:-0500
TZOFFSETTO:-0400
TZNAME:EDT
DTSTART:20220313T070000
END:DAYLIGHT
BEGIN:STANDARD
TZOFFSETFROM:-0400
TZOFFSETTO:-0500
TZNAME:EST
DTSTART:20221106T060000
END:STANDARD
BEGIN:DAYLIGHT
TZOFFSETFROM:-0500
TZOFFSETTO:-0400
TZNAME:EDT
DTSTART:20230312T070000
END:DAYLIGHT
BEGIN:STANDARD
TZOFFSETFROM:-0400
TZOFFSETTO:-0500
TZNAME:EST
DTSTART:20231105T060000
END:STANDARD
BEGIN:DAYLIGHT
TZOFFSETFROM:-0500
TZOFFSETTO:-0400
TZNAME:EDT
DTSTART:20240310T070000
END:DAYLIGHT
BEGIN:STANDARD
TZOFFSETFROM:-0400
TZOFFSETTO:-0500
TZNAME:EST
DTSTART:20241103T060000
END:STANDARD
END:VTIMEZONE
BEGIN:VEVENT
DTSTART;TZID=America/Toronto:20231117T130000
DTEND;TZID=America/Toronto:20231117T160000
DTSTAMP:20260422T201621
CREATED:20230201T184134Z
LAST-MODIFIED:20230414T135800Z
UID:4881-1700226000-1700236800@mapleleafacres.ca
SUMMARY:Bid Euchre
DESCRIPTION:
URL:https://mapleleafacres.ca/event/bid-euchre-171/
CATEGORIES:Activities,Adult Hall
END:VEVENT
BEGIN:VEVENT
DTSTART;TZID=America/Toronto:20231116T130000
DTEND;TZID=America/Toronto:20231116T160000
DTSTAMP:20260422T201621
CREATED:20230201T160746Z
LAST-MODIFIED:20230414T135800Z
UID:4758-1700139600-1700150400@mapleleafacres.ca
SUMMARY:Card Bingo
DESCRIPTION:
URL:https://mapleleafacres.ca/event/card-bingo-54/
CATEGORIES:Activities,Adult Hall
END:VEVENT
BEGIN:VEVENT
DTSTART;TZID=America/Toronto:20231115T130000
DTEND;TZID=America/Toronto:20231115T160000
DTSTAMP:20260422T201621
CREATED:20230201T183704Z
LAST-MODIFIED:20230414T135800Z
UID:4871-1700053200-1700064000@mapleleafacres.ca
SUMMARY:Bid Euchre
DESCRIPTION:
URL:https://mapleleafacres.ca/event/bid-euchre-166/
CATEGORIES:Activities,Adult Hall
END:VEVENT
BEGIN:VEVENT
DTSTART;TZID=America/Toronto:20231114T140000
DTEND;TZID=America/Toronto:20231114T160000
DTSTAMP:20260422T201621
CREATED:20230324T172237Z
LAST-MODIFIED:20230414T135800Z
UID:5215-1699970400-1699977600@mapleleafacres.ca
SUMMARY:Pickle Ball
DESCRIPTION:
URL:https://mapleleafacres.ca/event/pickle-ball-71/
CATEGORIES:Activities,Rec. Hall
END:VEVENT
BEGIN:VEVENT
DTSTART;TZID=America/Toronto:20231113T130000
DTEND;TZID=America/Toronto:20231113T160000
DTSTAMP:20260422T201621
CREATED:20230201T183152Z
LAST-MODIFIED:20230414T135800Z
UID:4861-1699880400-1699891200@mapleleafacres.ca
SUMMARY:Bid Euchre
DESCRIPTION:
URL:https://mapleleafacres.ca/event/bid-euchre-161/
CATEGORIES:Activities,Adult Hall
END:VEVENT
BEGIN:VEVENT
DTSTART;TZID=America/Toronto:20231110T133000
DTEND;TZID=America/Toronto:20231110T163000
DTSTAMP:20260422T201621
CREATED:20230126T181504Z
LAST-MODIFIED:20230414T135800Z
UID:4618-1699623000-1699633800@mapleleafacres.ca
SUMMARY:Shuffle Board
DESCRIPTION:
URL:https://mapleleafacres.ca/event/shuffle-board-43/
CATEGORIES:Activities,Rec. Hall
END:VEVENT
BEGIN:VEVENT
DTSTART;TZID=America/Toronto:20231110T130000
DTEND;TZID=America/Toronto:20231110T160000
DTSTAMP:20260422T201621
CREATED:20230201T184109Z
LAST-MODIFIED:20230414T135800Z
UID:4879-1699621200-1699632000@mapleleafacres.ca
SUMMARY:Bid Euchre
DESCRIPTION:
URL:https://mapleleafacres.ca/event/bid-euchre-170/
CATEGORIES:Activities,Adult Hall
END:VEVENT
BEGIN:VEVENT
DTSTART;TZID=America/Toronto:20231109T130000
DTEND;TZID=America/Toronto:20231109T160000
DTSTAMP:20260422T201621
CREATED:20230201T160712Z
LAST-MODIFIED:20230414T135800Z
UID:4756-1699534800-1699545600@mapleleafacres.ca
SUMMARY:Card Bingo
DESCRIPTION:
URL:https://mapleleafacres.ca/event/card-bingo-53/
CATEGORIES:Activities,Adult Hall
END:VEVENT
BEGIN:VEVENT
DTSTART;TZID=America/Toronto:20231108T130000
DTEND;TZID=America/Toronto:20231108T160000
DTSTAMP:20260422T201621
CREATED:20230201T183635Z
LAST-MODIFIED:20230414T135800Z
UID:4869-1699448400-1699459200@mapleleafacres.ca
SUMMARY:Bid Euchre
DESCRIPTION:
URL:https://mapleleafacres.ca/event/bid-euchre-165/
CATEGORIES:Activities,Adult Hall
END:VEVENT
BEGIN:VEVENT
DTSTART;TZID=America/Toronto:20231107T140000
DTEND;TZID=America/Toronto:20231107T160000
DTSTAMP:20260422T201621
CREATED:20230324T172152Z
LAST-MODIFIED:20230414T135800Z
UID:5213-1699365600-1699372800@mapleleafacres.ca
SUMMARY:Pickle Ball
DESCRIPTION:
URL:https://mapleleafacres.ca/event/pickle-ball-70/
CATEGORIES:Activities,Rec. Hall
END:VEVENT
BEGIN:VEVENT
DTSTART;TZID=America/Toronto:20231106T130000
DTEND;TZID=America/Toronto:20231106T160000
DTSTAMP:20260422T201621
CREATED:20230201T183026Z
LAST-MODIFIED:20230414T135800Z
UID:4859-1699275600-1699286400@mapleleafacres.ca
SUMMARY:Bid Euchre
DESCRIPTION:
URL:https://mapleleafacres.ca/event/bid-euchre-160/
CATEGORIES:Activities,Adult Hall
END:VEVENT
BEGIN:VEVENT
DTSTART;TZID=America/Toronto:20231105T090000
DTEND;TZID=America/Toronto:20231105T110000
DTSTAMP:20260422T201621
CREATED:20230118T212913Z
LAST-MODIFIED:20230414T135800Z
UID:4529-1699174800-1699182000@mapleleafacres.ca
SUMMARY:Coffee Chat
DESCRIPTION:
URL:https://mapleleafacres.ca/event/coffee-chat-37/
CATEGORIES:Activities,Adult Hall
END:VEVENT
BEGIN:VEVENT
DTSTART;TZID=America/Toronto:20231103T133000
DTEND;TZID=America/Toronto:20231103T163000
DTSTAMP:20260422T201621
CREATED:20230126T181430Z
LAST-MODIFIED:20230414T135800Z
UID:4616-1699018200-1699029000@mapleleafacres.ca
SUMMARY:Shuffle Board
DESCRIPTION:
URL:https://mapleleafacres.ca/event/shuffle-board-42/
CATEGORIES:Activities,Rec. Hall
END:VEVENT
BEGIN:VEVENT
DTSTART;TZID=America/Toronto:20231103T130000
DTEND;TZID=America/Toronto:20231103T160000
DTSTAMP:20260422T201621
CREATED:20230201T184039Z
LAST-MODIFIED:20230414T135801Z
UID:4877-1699016400-1699027200@mapleleafacres.ca
SUMMARY:Bid Euchre
DESCRIPTION:
URL:https://mapleleafacres.ca/event/bid-euchre-169/
CATEGORIES:Activities,Adult Hall
END:VEVENT
BEGIN:VEVENT
DTSTART;TZID=America/Toronto:20231102T130000
DTEND;TZID=America/Toronto:20231102T160000
DTSTAMP:20260422T201621
CREATED:20230201T160629Z
LAST-MODIFIED:20230414T135801Z
UID:4754-1698930000-1698940800@mapleleafacres.ca
SUMMARY:Card Bingo
DESCRIPTION:
URL:https://mapleleafacres.ca/event/card-bingo-52/
CATEGORIES:Activities,Adult Hall
END:VEVENT
BEGIN:VEVENT
DTSTART;TZID=America/Toronto:20231101T130000
DTEND;TZID=America/Toronto:20231101T160000
DTSTAMP:20260422T201621
CREATED:20230201T183556Z
LAST-MODIFIED:20230414T135801Z
UID:4867-1698843600-1698854400@mapleleafacres.ca
SUMMARY:Bid Euchre
DESCRIPTION:
URL:https://mapleleafacres.ca/event/bid-euchre-164/
CATEGORIES:Activities,Adult Hall
END:VEVENT
BEGIN:VEVENT
DTSTART;TZID=America/Toronto:20231031T140000
DTEND;TZID=America/Toronto:20231031T160000
DTSTAMP:20260422T201621
CREATED:20230324T172044Z
LAST-MODIFIED:20230414T140527Z
UID:5211-1698760800-1698768000@mapleleafacres.ca
SUMMARY:Pickle Ball
DESCRIPTION:
URL:https://mapleleafacres.ca/event/pickle-ball-69/
CATEGORIES:Activities,Rec. Hall
END:VEVENT
BEGIN:VEVENT
DTSTART;TZID=America/Toronto:20231030T130000
DTEND;TZID=America/Toronto:20231030T160000
DTSTAMP:20260422T201621
CREATED:20230201T165823Z
LAST-MODIFIED:20230414T140527Z
UID:4832-1698670800-1698681600@mapleleafacres.ca
SUMMARY:Bid Euchre
DESCRIPTION:
URL:https://mapleleafacres.ca/event/bid-euchre-151/
CATEGORIES:Activities,Adult Hall
END:VEVENT
BEGIN:VEVENT
DTSTART;TZID=America/Toronto:20231030T100000
DTEND;TZID=America/Toronto:20231030T120000
DTSTAMP:20260422T201621
CREATED:20230118T162734Z
LAST-MODIFIED:20230414T140527Z
UID:4249-1698660000-1698667200@mapleleafacres.ca
SUMMARY:Line Dancing
DESCRIPTION:
URL:https://mapleleafacres.ca/event/line-dancing-41/
CATEGORIES:Activities,Rec. Hall
END:VEVENT
BEGIN:VEVENT
DTSTART;TZID=America/Toronto:20231030T100000
DTEND;TZID=America/Toronto:20231030T110000
DTSTAMP:20260422T201621
CREATED:20230609T160818Z
LAST-MODIFIED:20230609T160818Z
UID:5484-1698660000-1698663600@mapleleafacres.ca
SUMMARY:Yoga
DESCRIPTION:
URL:https://mapleleafacres.ca/event/yoga-26/
CATEGORIES:Activities,Adult Hall
END:VEVENT
BEGIN:VEVENT
DTSTART;VALUE=DATE:20231028
DTEND;VALUE=DATE:20231029
DTSTAMP:20260422T201621
CREATED:20230906T200652Z
LAST-MODIFIED:20230906T200652Z
UID:5637-1698451200-1698537599@mapleleafacres.ca
SUMMARY:Celebration of Life for Jim Hack
DESCRIPTION:
URL:https://mapleleafacres.ca/event/celebration-of-life-for-jim-hack/
CATEGORIES:Activities,Adult Hall
END:VEVENT
BEGIN:VEVENT
DTSTART;TZID=America/Toronto:20231027T200000
DTEND;TZID=America/Toronto:20231027T220000
DTSTAMP:20260422T201621
CREATED:20230907T175424Z
LAST-MODIFIED:20230907T175424Z
UID:5655-1698436800-1698444000@mapleleafacres.ca
SUMMARY:Bingo
DESCRIPTION:
URL:https://mapleleafacres.ca/event/bingo-23/
CATEGORIES:Activities,Rec. Hall
END:VEVENT
BEGIN:VEVENT
DTSTART;TZID=America/Toronto:20231027T133000
DTEND;TZID=America/Toronto:20231027T163000
DTSTAMP:20260422T201621
CREATED:20230126T181357Z
LAST-MODIFIED:20230414T140527Z
UID:4614-1698413400-1698424200@mapleleafacres.ca
SUMMARY:Shuffle Board
DESCRIPTION:
URL:https://mapleleafacres.ca/event/shuffle-board-41/
CATEGORIES:Activities,Rec. Hall
END:VEVENT
BEGIN:VEVENT
DTSTART;TZID=America/Toronto:20231027T130000
DTEND;TZID=America/Toronto:20231027T160000
DTSTAMP:20260422T201621
CREATED:20230201T170231Z
LAST-MODIFIED:20230414T140527Z
UID:4848-1698411600-1698422400@mapleleafacres.ca
SUMMARY:Bid Euchre
DESCRIPTION:
URL:https://mapleleafacres.ca/event/bid-euchre-159/
CATEGORIES:Activities,Adult Hall
END:VEVENT
BEGIN:VEVENT
DTSTART;TZID=America/Toronto:20231027T043000
DTEND;TZID=America/Toronto:20231027T235900
DTSTAMP:20260422T201621
CREATED:20230322T175016Z
LAST-MODIFIED:20230513T151559Z
UID:5109-1698381000-1698451140@mapleleafacres.ca
SUMMARY:Jack Frost Friday Halloween Party
DESCRIPTION:19+
URL:https://mapleleafacres.ca/event/jack-frost-friday-halloween-party-2/
CATEGORIES:Activities,Adult Hall
END:VEVENT
BEGIN:VEVENT
DTSTART;TZID=America/Toronto:20231026T130000
DTEND;TZID=America/Toronto:20231026T160000
DTSTAMP:20260422T201621
CREATED:20230201T160431Z
LAST-MODIFIED:20230414T140527Z
UID:4752-1698325200-1698336000@mapleleafacres.ca
SUMMARY:Card Bingo
DESCRIPTION:
URL:https://mapleleafacres.ca/event/card-bingo-51/
CATEGORIES:Activities,Adult Hall
END:VEVENT
BEGIN:VEVENT
DTSTART;TZID=America/Toronto:20231025T130000
DTEND;TZID=America/Toronto:20231025T160000
DTSTAMP:20260422T201621
CREATED:20230201T170026Z
LAST-MODIFIED:20230414T140527Z
UID:4840-1698238800-1698249600@mapleleafacres.ca
SUMMARY:Bid Euchre
DESCRIPTION:
URL:https://mapleleafacres.ca/event/bid-euchre-155/
CATEGORIES:Activities,Adult Hall
END:VEVENT
BEGIN:VEVENT
DTSTART;TZID=America/Toronto:20231024T140000
DTEND;TZID=America/Toronto:20231024T160000
DTSTAMP:20260422T201621
CREATED:20230324T172010Z
LAST-MODIFIED:20230414T140527Z
UID:5209-1698156000-1698163200@mapleleafacres.ca
SUMMARY:Pickle Ball
DESCRIPTION:
URL:https://mapleleafacres.ca/event/pickle-ball-68/
CATEGORIES:Activities,Rec. Hall
END:VEVENT
BEGIN:VEVENT
DTSTART;TZID=America/Toronto:20231023T130000
DTEND;TZID=America/Toronto:20231023T160000
DTSTAMP:20260422T201621
CREATED:20230201T165757Z
LAST-MODIFIED:20230414T140527Z
UID:4830-1698066000-1698076800@mapleleafacres.ca
SUMMARY:Bid Euchre
DESCRIPTION:
URL:https://mapleleafacres.ca/event/bid-euchre-150/
CATEGORIES:Activities,Adult Hall
END:VEVENT
BEGIN:VEVENT
DTSTART;TZID=America/Toronto:20231023T100000
DTEND;TZID=America/Toronto:20231023T120000
DTSTAMP:20260422T201621
CREATED:20230118T162704Z
LAST-MODIFIED:20230414T140527Z
UID:4247-1698055200-1698062400@mapleleafacres.ca
SUMMARY:Line Dancing
DESCRIPTION:
URL:https://mapleleafacres.ca/event/line-dancing-40/
CATEGORIES:Activities,Rec. Hall
END:VEVENT
END:VCALENDAR