BEGIN:VCALENDAR
VERSION:2.0
PRODID:-//Maple Leaf Acres - ECPv6.15.18//NONSGML v1.0//EN
CALSCALE:GREGORIAN
METHOD:PUBLISH
X-ORIGINAL-URL:https://mapleleafacres.ca
X-WR-CALDESC:Events for Maple Leaf Acres
REFRESH-INTERVAL;VALUE=DURATION:PT1H
X-Robots-Tag:noindex
X-PUBLISHED-TTL:PT1H
BEGIN:VTIMEZONE
TZID:America/Toronto
BEGIN:DAYLIGHT
TZOFFSETFROM:-0500
TZOFFSETTO:-0400
TZNAME:EDT
DTSTART:20250309T070000
END:DAYLIGHT
BEGIN:STANDARD
TZOFFSETFROM:-0400
TZOFFSETTO:-0500
TZNAME:EST
DTSTART:20251102T060000
END:STANDARD
BEGIN:DAYLIGHT
TZOFFSETFROM:-0500
TZOFFSETTO:-0400
TZNAME:EDT
DTSTART:20260308T070000
END:DAYLIGHT
BEGIN:STANDARD
TZOFFSETFROM:-0400
TZOFFSETTO:-0500
TZNAME:EST
DTSTART:20261101T060000
END:STANDARD
BEGIN:DAYLIGHT
TZOFFSETFROM:-0500
TZOFFSETTO:-0400
TZNAME:EDT
DTSTART:20270314T070000
END:DAYLIGHT
BEGIN:STANDARD
TZOFFSETFROM:-0400
TZOFFSETTO:-0500
TZNAME:EST
DTSTART:20271107T060000
END:STANDARD
END:VTIMEZONE
BEGIN:VEVENT
DTSTART;TZID=America/Toronto:20260130T133000
DTEND;TZID=America/Toronto:20260130T160000
DTSTAMP:20260421T183350
CREATED:20250922T154348Z
LAST-MODIFIED:20250922T154348Z
UID:8027-1769779800-1769788800@mapleleafacres.ca
SUMMARY:Shuffle Board
DESCRIPTION:
URL:https://mapleleafacres.ca/event/shuffle-board-52/2026-01-30/
CATEGORIES:Activities,Rec. Hall
END:VEVENT
BEGIN:VEVENT
DTSTART;TZID=America/Toronto:20260130T190000
DTEND;TZID=America/Toronto:20260130T233000
DTSTAMP:20260421T183350
CREATED:20250915T180431Z
LAST-MODIFIED:20250915T180431Z
UID:7852-1769799600-1769815800@mapleleafacres.ca
SUMMARY:Poker
DESCRIPTION:
URL:https://mapleleafacres.ca/event/poker-2/2026-01-30/
CATEGORIES:Activities,Fireside Room
END:VEVENT
BEGIN:VEVENT
DTSTART;TZID=America/Toronto:20260131T120000
DTEND;TZID=America/Toronto:20260131T160000
DTSTAMP:20260421T183350
CREATED:20250922T152921Z
LAST-MODIFIED:20250922T152921Z
UID:7925-1769860800-1769875200@mapleleafacres.ca
SUMMARY:Corn Hole
DESCRIPTION:
URL:https://mapleleafacres.ca/event/corn-hole-2/2026-01-31/
CATEGORIES:Activities,Rec. Hall
END:VEVENT
BEGIN:VEVENT
DTSTART;TZID=America/Toronto:20260131T180000
DTEND;TZID=America/Toronto:20260131T230000
DTSTAMP:20260421T183350
CREATED:20250915T174130Z
LAST-MODIFIED:20250915T174130Z
UID:7790-1769882400-1769900400@mapleleafacres.ca
SUMMARY:Darts
DESCRIPTION:
URL:https://mapleleafacres.ca/event/darts-49/2026-01-31/
CATEGORIES:Activities,Rec. Hall
END:VEVENT
BEGIN:VEVENT
DTSTART;TZID=America/Toronto:20260201T130000
DTEND;TZID=America/Toronto:20260201T160000
DTSTAMP:20260421T183350
CREATED:20250903T152416Z
LAST-MODIFIED:20250903T152416Z
UID:7671-1769950800-1769961600@mapleleafacres.ca
SUMMARY:Rummoli
DESCRIPTION:
URL:https://mapleleafacres.ca/event/rummoli/2026-02-01/
CATEGORIES:Activities,Fireside Room
END:VEVENT
BEGIN:VEVENT
DTSTART;TZID=America/Toronto:20260202T180000
DTEND;TZID=America/Toronto:20260202T213000
DTSTAMP:20260421T183350
CREATED:20260128T151826Z
LAST-MODIFIED:20260128T180603Z
UID:8529-1770055200-1770067800@mapleleafacres.ca
SUMMARY:Euchre
DESCRIPTION:
URL:https://mapleleafacres.ca/event/euchre-28/2026-02-02/
CATEGORIES:Activities,Adult Hall
END:VEVENT
BEGIN:VEVENT
DTSTART;TZID=America/Toronto:20260203T130000
DTEND;TZID=America/Toronto:20260203T160000
DTSTAMP:20260421T183350
CREATED:20250903T152635Z
LAST-MODIFIED:20250903T152635Z
UID:7706-1770123600-1770134400@mapleleafacres.ca
SUMMARY:Bid Euchre
DESCRIPTION:
URL:https://mapleleafacres.ca/event/bid-euchre-91/2026-02-03/
CATEGORIES:Activities,Fireside Room
END:VEVENT
BEGIN:VEVENT
DTSTART;TZID=America/Toronto:20260204T130000
DTEND;TZID=America/Toronto:20260204T160000
DTSTAMP:20260421T183350
CREATED:20251003T132102Z
LAST-MODIFIED:20251003T132102Z
UID:8154-1770210000-1770220800@mapleleafacres.ca
SUMMARY:Cards
DESCRIPTION:
URL:https://mapleleafacres.ca/event/cards/2026-02-04/
CATEGORIES:Activities,Fireside Room
END:VEVENT
BEGIN:VEVENT
DTSTART;TZID=America/Toronto:20260204T180000
DTEND;TZID=America/Toronto:20260204T230000
DTSTAMP:20260421T183350
CREATED:20250915T174130Z
LAST-MODIFIED:20250915T174542Z
UID:7763-1770228000-1770246000@mapleleafacres.ca
SUMMARY:Darts
DESCRIPTION:
URL:https://mapleleafacres.ca/event/darts-49/2026-02-04/
CATEGORIES:Activities,Rec. Hall
END:VEVENT
BEGIN:VEVENT
DTSTART;TZID=America/Toronto:20260205T130000
DTEND;TZID=America/Toronto:20260205T160000
DTSTAMP:20260421T183350
CREATED:20250922T153259Z
LAST-MODIFIED:20250922T153259Z
UID:7968-1770296400-1770307200@mapleleafacres.ca
SUMMARY:Card Bingo
DESCRIPTION:
URL:https://mapleleafacres.ca/event/card-bingo-64/2026-02-05/
CATEGORIES:Activities,Adult Hall
END:VEVENT
BEGIN:VEVENT
DTSTART;TZID=America/Toronto:20260206T133000
DTEND;TZID=America/Toronto:20260206T160000
DTSTAMP:20260421T183350
CREATED:20250922T154348Z
LAST-MODIFIED:20250922T154348Z
UID:8028-1770384600-1770393600@mapleleafacres.ca
SUMMARY:Shuffle Board
DESCRIPTION:
URL:https://mapleleafacres.ca/event/shuffle-board-52/2026-02-06/
CATEGORIES:Activities,Rec. Hall
END:VEVENT
BEGIN:VEVENT
DTSTART;TZID=America/Toronto:20260206T190000
DTEND;TZID=America/Toronto:20260206T233000
DTSTAMP:20260421T183350
CREATED:20250915T180431Z
LAST-MODIFIED:20250915T180431Z
UID:7853-1770404400-1770420600@mapleleafacres.ca
SUMMARY:Poker
DESCRIPTION:
URL:https://mapleleafacres.ca/event/poker-2/2026-02-06/
CATEGORIES:Activities,Fireside Room
END:VEVENT
BEGIN:VEVENT
DTSTART;TZID=America/Toronto:20260207T120000
DTEND;TZID=America/Toronto:20260207T160000
DTSTAMP:20260421T183350
CREATED:20250922T152921Z
LAST-MODIFIED:20250922T152921Z
UID:7926-1770465600-1770480000@mapleleafacres.ca
SUMMARY:Corn Hole
DESCRIPTION:
URL:https://mapleleafacres.ca/event/corn-hole-2/2026-02-07/
CATEGORIES:Activities,Rec. Hall
END:VEVENT
BEGIN:VEVENT
DTSTART;TZID=America/Toronto:20260207T180000
DTEND;TZID=America/Toronto:20260207T230000
DTSTAMP:20260421T183350
CREATED:20250915T174130Z
LAST-MODIFIED:20250915T174130Z
UID:7791-1770487200-1770505200@mapleleafacres.ca
SUMMARY:Darts
DESCRIPTION:
URL:https://mapleleafacres.ca/event/darts-49/2026-02-07/
CATEGORIES:Activities,Rec. Hall
END:VEVENT
BEGIN:VEVENT
DTSTART;VALUE=DATE:20260208
DTEND;VALUE=DATE:20260209
DTSTAMP:20260421T183350
CREATED:20250922T154518Z
LAST-MODIFIED:20250922T154518Z
UID:8114-1770508800-1770595199@mapleleafacres.ca
SUMMARY:Private Party
DESCRIPTION:
URL:https://mapleleafacres.ca/event/private-party-129/
CATEGORIES:Activities,Rec. Hall
END:VEVENT
BEGIN:VEVENT
DTSTART;VALUE=DATE:20260208
DTEND;VALUE=DATE:20260209
DTSTAMP:20260421T183350
CREATED:20251209T155208Z
LAST-MODIFIED:20251209T155208Z
UID:8232-1770508800-1770595199@mapleleafacres.ca
SUMMARY:Super Bowl Party
DESCRIPTION:
URL:https://mapleleafacres.ca/event/super-bowl-party/
CATEGORIES:Activities,Fireside Room,Rec. Hall
END:VEVENT
BEGIN:VEVENT
DTSTART;TZID=America/Toronto:20260208T080000
DTEND;TZID=America/Toronto:20260208T110000
DTSTAMP:20260421T183350
CREATED:20251211T161850Z
LAST-MODIFIED:20251211T161850Z
UID:8373-1770537600-1770548400@mapleleafacres.ca
SUMMARY:Coffee Chat
DESCRIPTION:
URL:https://mapleleafacres.ca/event/coffee-chat-81/
CATEGORIES:Activities,Adult Hall
END:VEVENT
BEGIN:VEVENT
DTSTART;TZID=America/Toronto:20260208T130000
DTEND;TZID=America/Toronto:20260208T160000
DTSTAMP:20260421T183350
CREATED:20250903T152416Z
LAST-MODIFIED:20250903T152416Z
UID:7672-1770555600-1770566400@mapleleafacres.ca
SUMMARY:Rummoli
DESCRIPTION:
URL:https://mapleleafacres.ca/event/rummoli/2026-02-08/
CATEGORIES:Activities,Fireside Room
END:VEVENT
BEGIN:VEVENT
DTSTART;TZID=America/Toronto:20260209T180000
DTEND;TZID=America/Toronto:20260209T213000
DTSTAMP:20260421T183350
CREATED:20260128T151826Z
LAST-MODIFIED:20260128T151826Z
UID:8555-1770660000-1770672600@mapleleafacres.ca
SUMMARY:Euchre
DESCRIPTION:
URL:https://mapleleafacres.ca/event/euchre-28/2026-02-09/
CATEGORIES:Activities,Adult Hall
END:VEVENT
BEGIN:VEVENT
DTSTART;TZID=America/Toronto:20260210T130000
DTEND;TZID=America/Toronto:20260210T160000
DTSTAMP:20260421T183350
CREATED:20250903T152635Z
LAST-MODIFIED:20250903T152635Z
UID:7707-1770728400-1770739200@mapleleafacres.ca
SUMMARY:Bid Euchre
DESCRIPTION:
URL:https://mapleleafacres.ca/event/bid-euchre-91/2026-02-10/
CATEGORIES:Activities,Fireside Room
END:VEVENT
BEGIN:VEVENT
DTSTART;TZID=America/Toronto:20260211T130000
DTEND;TZID=America/Toronto:20260211T160000
DTSTAMP:20260421T183350
CREATED:20251003T132102Z
LAST-MODIFIED:20251003T132102Z
UID:8155-1770814800-1770825600@mapleleafacres.ca
SUMMARY:Cards
DESCRIPTION:
URL:https://mapleleafacres.ca/event/cards/2026-02-11/
CATEGORIES:Activities,Fireside Room
END:VEVENT
BEGIN:VEVENT
DTSTART;TZID=America/Toronto:20260211T180000
DTEND;TZID=America/Toronto:20260211T230000
DTSTAMP:20260421T183350
CREATED:20250915T174130Z
LAST-MODIFIED:20250915T174542Z
UID:7764-1770832800-1770850800@mapleleafacres.ca
SUMMARY:Darts
DESCRIPTION:
URL:https://mapleleafacres.ca/event/darts-49/2026-02-11/
CATEGORIES:Activities,Rec. Hall
END:VEVENT
BEGIN:VEVENT
DTSTART;TZID=America/Toronto:20260212T130000
DTEND;TZID=America/Toronto:20260212T160000
DTSTAMP:20260421T183350
CREATED:20250922T153259Z
LAST-MODIFIED:20250922T153259Z
UID:7969-1770901200-1770912000@mapleleafacres.ca
SUMMARY:Card Bingo
DESCRIPTION:
URL:https://mapleleafacres.ca/event/card-bingo-64/2026-02-12/
CATEGORIES:Activities,Adult Hall
END:VEVENT
BEGIN:VEVENT
DTSTART;TZID=America/Toronto:20260213T133000
DTEND;TZID=America/Toronto:20260213T160000
DTSTAMP:20260421T183350
CREATED:20250922T154348Z
LAST-MODIFIED:20250922T154348Z
UID:8029-1770989400-1770998400@mapleleafacres.ca
SUMMARY:Shuffle Board
DESCRIPTION:
URL:https://mapleleafacres.ca/event/shuffle-board-52/2026-02-13/
CATEGORIES:Activities,Rec. Hall
END:VEVENT
BEGIN:VEVENT
DTSTART;TZID=America/Toronto:20260213T190000
DTEND;TZID=America/Toronto:20260213T233000
DTSTAMP:20260421T183350
CREATED:20250915T180431Z
LAST-MODIFIED:20250915T180431Z
UID:7854-1771009200-1771025400@mapleleafacres.ca
SUMMARY:Poker
DESCRIPTION:
URL:https://mapleleafacres.ca/event/poker-2/2026-02-13/
CATEGORIES:Activities,Fireside Room
END:VEVENT
BEGIN:VEVENT
DTSTART;TZID=America/Toronto:20260214T120000
DTEND;TZID=America/Toronto:20260214T160000
DTSTAMP:20260421T183350
CREATED:20250922T152921Z
LAST-MODIFIED:20250922T152921Z
UID:7927-1771070400-1771084800@mapleleafacres.ca
SUMMARY:Corn Hole
DESCRIPTION:
URL:https://mapleleafacres.ca/event/corn-hole-2/2026-02-14/
CATEGORIES:Activities,Rec. Hall
END:VEVENT
BEGIN:VEVENT
DTSTART;TZID=America/Toronto:20260214T180000
DTEND;TZID=America/Toronto:20260214T230000
DTSTAMP:20260421T183350
CREATED:20250915T174130Z
LAST-MODIFIED:20250915T174130Z
UID:7792-1771092000-1771110000@mapleleafacres.ca
SUMMARY:Darts
DESCRIPTION:
URL:https://mapleleafacres.ca/event/darts-49/2026-02-14/
CATEGORIES:Activities,Rec. Hall
END:VEVENT
BEGIN:VEVENT
DTSTART;TZID=America/Toronto:20260215T130000
DTEND;TZID=America/Toronto:20260215T160000
DTSTAMP:20260421T183350
CREATED:20250903T152416Z
LAST-MODIFIED:20250903T152416Z
UID:7673-1771160400-1771171200@mapleleafacres.ca
SUMMARY:Rummoli
DESCRIPTION:
URL:https://mapleleafacres.ca/event/rummoli/2026-02-15/
CATEGORIES:Activities,Fireside Room
END:VEVENT
BEGIN:VEVENT
DTSTART;TZID=America/Toronto:20260216T180000
DTEND;TZID=America/Toronto:20260216T213000
DTSTAMP:20260421T183350
CREATED:20260128T151826Z
LAST-MODIFIED:20260128T151826Z
UID:8556-1771264800-1771277400@mapleleafacres.ca
SUMMARY:Euchre
DESCRIPTION:
URL:https://mapleleafacres.ca/event/euchre-28/2026-02-16/
CATEGORIES:Activities,Adult Hall
END:VEVENT
BEGIN:VEVENT
DTSTART;TZID=America/Toronto:20260217T130000
DTEND;TZID=America/Toronto:20260217T160000
DTSTAMP:20260421T183350
CREATED:20250903T152635Z
LAST-MODIFIED:20250903T152635Z
UID:7708-1771333200-1771344000@mapleleafacres.ca
SUMMARY:Bid Euchre
DESCRIPTION:
URL:https://mapleleafacres.ca/event/bid-euchre-91/2026-02-17/
CATEGORIES:Activities,Fireside Room
END:VEVENT
END:VCALENDAR