BEGIN:VCALENDAR
VERSION:2.0
PRODID:-//Maple Leaf Acres - ECPv6.15.18//NONSGML v1.0//EN
CALSCALE:GREGORIAN
METHOD:PUBLISH
X-WR-CALNAME:Maple Leaf Acres
X-ORIGINAL-URL:https://mapleleafacres.ca
X-WR-CALDESC:Events for Maple Leaf Acres
REFRESH-INTERVAL;VALUE=DURATION:PT1H
X-Robots-Tag:noindex
X-PUBLISHED-TTL:PT1H
BEGIN:VTIMEZONE
TZID:America/Toronto
BEGIN:DAYLIGHT
TZOFFSETFROM:-0500
TZOFFSETTO:-0400
TZNAME:EDT
DTSTART:20220313T070000
END:DAYLIGHT
BEGIN:STANDARD
TZOFFSETFROM:-0400
TZOFFSETTO:-0500
TZNAME:EST
DTSTART:20221106T060000
END:STANDARD
BEGIN:DAYLIGHT
TZOFFSETFROM:-0500
TZOFFSETTO:-0400
TZNAME:EDT
DTSTART:20230312T070000
END:DAYLIGHT
BEGIN:STANDARD
TZOFFSETFROM:-0400
TZOFFSETTO:-0500
TZNAME:EST
DTSTART:20231105T060000
END:STANDARD
BEGIN:DAYLIGHT
TZOFFSETFROM:-0500
TZOFFSETTO:-0400
TZNAME:EDT
DTSTART:20240310T070000
END:DAYLIGHT
BEGIN:STANDARD
TZOFFSETFROM:-0400
TZOFFSETTO:-0500
TZNAME:EST
DTSTART:20241103T060000
END:STANDARD
END:VTIMEZONE
BEGIN:VEVENT
DTSTART;TZID=America/Toronto:20230221T140000
DTEND;TZID=America/Toronto:20230221T160000
DTSTAMP:20260424T161943
CREATED:20230118T185533Z
LAST-MODIFIED:20230118T185533Z
UID:4351-1676988000-1676995200@mapleleafacres.ca
SUMMARY:Pickle Ball
DESCRIPTION:
URL:https://mapleleafacres.ca/event/pickle-ball-15/
CATEGORIES:Rec. Hall
END:VEVENT
BEGIN:VEVENT
DTSTART;TZID=America/Toronto:20230220T130000
DTEND;TZID=America/Toronto:20230220T160000
DTSTAMP:20260424T161943
CREATED:20230118T204336Z
LAST-MODIFIED:20230118T204336Z
UID:4463-1676898000-1676908800@mapleleafacres.ca
SUMMARY:Bid Euchre
DESCRIPTION:
URL:https://mapleleafacres.ca/event/bid-euchre-62/
CATEGORIES:Adult Hall
END:VEVENT
BEGIN:VEVENT
DTSTART;TZID=America/Toronto:20230220T100000
DTEND;TZID=America/Toronto:20230220T113000
DTSTAMP:20260424T161943
CREATED:20230118T193249Z
LAST-MODIFIED:20230118T193249Z
UID:4415-1676887200-1676892600@mapleleafacres.ca
SUMMARY:Yoga
DESCRIPTION:
URL:https://mapleleafacres.ca/event/yoga-6/
CATEGORIES:Fireside Room
END:VEVENT
BEGIN:VEVENT
DTSTART;TZID=America/Toronto:20230218T190000
DTEND;TZID=America/Toronto:20230218T190000
DTSTAMP:20260424T161943
CREATED:20230118T170048Z
LAST-MODIFIED:20230118T170048Z
UID:4291-1676746800-1676746800@mapleleafacres.ca
SUMMARY:Darts
DESCRIPTION:
URL:https://mapleleafacres.ca/event/darts-33/
CATEGORIES:Rec. Hall
END:VEVENT
BEGIN:VEVENT
DTSTART;TZID=America/Toronto:20230218T150000
DTEND;TZID=America/Toronto:20230218T233000
DTSTAMP:20260424T161943
CREATED:20230118T193555Z
LAST-MODIFIED:20230118T193555Z
UID:4423-1676732400-1676763000@mapleleafacres.ca
SUMMARY:Private Party
DESCRIPTION:
URL:https://mapleleafacres.ca/event/private-party-53/
CATEGORIES:Fireside Room
END:VEVENT
BEGIN:VEVENT
DTSTART;TZID=America/Toronto:20230217T133000
DTEND;TZID=America/Toronto:20230217T160000
DTSTAMP:20260424T161943
CREATED:20230118T191131Z
LAST-MODIFIED:20230118T191131Z
UID:4381-1676640600-1676649600@mapleleafacres.ca
SUMMARY:Shuffle Board
DESCRIPTION:
URL:https://mapleleafacres.ca/event/shuffle-board-7/
CATEGORIES:Rec. Hall
END:VEVENT
BEGIN:VEVENT
DTSTART;TZID=America/Toronto:20230217T133000
DTEND;TZID=America/Toronto:20230217T160000
DTSTAMP:20260424T161943
CREATED:20230118T191101Z
LAST-MODIFIED:20230118T191101Z
UID:4379-1676640600-1676649600@mapleleafacres.ca
SUMMARY:Shuffle Board
DESCRIPTION:
URL:https://mapleleafacres.ca/event/shuffle-board-6/
CATEGORIES:Rec. Hall
END:VEVENT
BEGIN:VEVENT
DTSTART;TZID=America/Toronto:20230217T130000
DTEND;TZID=America/Toronto:20230217T160000
DTSTAMP:20260424T161943
CREATED:20230118T204242Z
LAST-MODIFIED:20230118T204242Z
UID:4461-1676638800-1676649600@mapleleafacres.ca
SUMMARY:Bid Euchre
DESCRIPTION:
URL:https://mapleleafacres.ca/event/bid-euchre-61/
CATEGORIES:Adult Hall
END:VEVENT
BEGIN:VEVENT
DTSTART;TZID=America/Toronto:20230215T190000
DTEND;TZID=America/Toronto:20230215T190000
DTSTAMP:20260424T161943
CREATED:20230118T183122Z
LAST-MODIFIED:20230118T183122Z
UID:4321-1676487600-1676487600@mapleleafacres.ca
SUMMARY:Fun Darts
DESCRIPTION:
URL:https://mapleleafacres.ca/event/fun-darts-5/
CATEGORIES:Rec. Hall
END:VEVENT
BEGIN:VEVENT
DTSTART;TZID=America/Toronto:20230215T140000
DTEND;TZID=America/Toronto:20230215T160000
DTSTAMP:20260424T161943
CREATED:20230118T163755Z
LAST-MODIFIED:20230118T163755Z
UID:4260-1676469600-1676476800@mapleleafacres.ca
SUMMARY:Fireside Craft Club
DESCRIPTION:*Come out and craft with your fellow park members \n*Bring your current craft project and materials \n*Enjoy each others companyand maybe even learn a new craft \nHosted by Sherry Allerton – 519-994-6008
URL:https://mapleleafacres.ca/event/fireside-craft-club-11/
CATEGORIES:Fireside Room
END:VEVENT
BEGIN:VEVENT
DTSTART;TZID=America/Toronto:20230215T130000
DTEND;TZID=America/Toronto:20230215T160000
DTSTAMP:20260424T161943
CREATED:20230118T204201Z
LAST-MODIFIED:20230118T204201Z
UID:4459-1676466000-1676476800@mapleleafacres.ca
SUMMARY:Bid Euchre
DESCRIPTION:
URL:https://mapleleafacres.ca/event/bid-euchre-60/
CATEGORIES:Adult Hall
END:VEVENT
BEGIN:VEVENT
DTSTART;TZID=America/Toronto:20230214T140000
DTEND;TZID=America/Toronto:20230214T160000
DTSTAMP:20260424T161943
CREATED:20230118T185701Z
LAST-MODIFIED:20230118T185701Z
UID:4357-1676383200-1676390400@mapleleafacres.ca
SUMMARY:Pickle Ball
DESCRIPTION:
URL:https://mapleleafacres.ca/event/pickle-ball-18/
CATEGORIES:Rec. Hall
END:VEVENT
BEGIN:VEVENT
DTSTART;TZID=America/Toronto:20230213T130000
DTEND;TZID=America/Toronto:20230213T160000
DTSTAMP:20260424T161943
CREATED:20230118T204128Z
LAST-MODIFIED:20230118T204128Z
UID:4457-1676293200-1676304000@mapleleafacres.ca
SUMMARY:Bid Euchre
DESCRIPTION:
URL:https://mapleleafacres.ca/event/bid-euchre-59/
CATEGORIES:Adult Hall
END:VEVENT
BEGIN:VEVENT
DTSTART;TZID=America/Toronto:20230213T100000
DTEND;TZID=America/Toronto:20230213T113000
DTSTAMP:20260424T161943
CREATED:20230118T193208Z
LAST-MODIFIED:20230118T193208Z
UID:4413-1676282400-1676287800@mapleleafacres.ca
SUMMARY:Yoga
DESCRIPTION:
URL:https://mapleleafacres.ca/event/yoga-5/
CATEGORIES:Fireside Room
END:VEVENT
BEGIN:VEVENT
DTSTART;TZID=America/Toronto:20230212T120000
DTEND;TZID=America/Toronto:20230212T233000
DTSTAMP:20260424T161943
CREATED:20230118T064041Z
LAST-MODIFIED:20230118T183934Z
UID:3716-1676203200-1676244600@mapleleafacres.ca
SUMMARY:Jack Frost - Superbowl
DESCRIPTION:
URL:https://mapleleafacres.ca/event/jack-frost-superbowl/
CATEGORIES:Rec. Hall
END:VEVENT
BEGIN:VEVENT
DTSTART;TZID=America/Toronto:20230212T090000
DTEND;TZID=America/Toronto:20230212T110000
DTSTAMP:20260424T161943
CREATED:20221222T164453Z
LAST-MODIFIED:20221222T165044Z
UID:4178-1676192400-1676199600@mapleleafacres.ca
SUMMARY:Coffee Chat
DESCRIPTION:
URL:https://mapleleafacres.ca/event/coffee-chat-18/
CATEGORIES:Adult Hall
END:VEVENT
BEGIN:VEVENT
DTSTART;TZID=America/Toronto:20230211T190000
DTEND;TZID=America/Toronto:20230211T190000
DTSTAMP:20260424T161943
CREATED:20230118T170020Z
LAST-MODIFIED:20230118T170020Z
UID:4289-1676142000-1676142000@mapleleafacres.ca
SUMMARY:Darts
DESCRIPTION:
URL:https://mapleleafacres.ca/event/darts-32/
CATEGORIES:Rec. Hall
END:VEVENT
BEGIN:VEVENT
DTSTART;TZID=America/Toronto:20230211T130000
DTEND;TZID=America/Toronto:20230211T150000
DTSTAMP:20260424T161943
CREATED:20230118T193515Z
LAST-MODIFIED:20230201T151018Z
UID:4421-1676120400-1676127600@mapleleafacres.ca
SUMMARY:My Grandmas Garden
DESCRIPTION:DIY natural beauty workshop. \n$30.00 \nTo Register please contact: \nSandra Roach @ 343-597-3699
URL:https://mapleleafacres.ca/event/private-party-52/
CATEGORIES:Fireside Room
END:VEVENT
BEGIN:VEVENT
DTSTART;TZID=America/Toronto:20230210T133000
DTEND;TZID=America/Toronto:20230210T160000
DTSTAMP:20260424T161943
CREATED:20230118T191034Z
LAST-MODIFIED:20230118T191034Z
UID:4377-1676035800-1676044800@mapleleafacres.ca
SUMMARY:Shuffle Board
DESCRIPTION:
URL:https://mapleleafacres.ca/event/shuffle-board-5/
CATEGORIES:Rec. Hall
END:VEVENT
BEGIN:VEVENT
DTSTART;TZID=America/Toronto:20230210T130000
DTEND;TZID=America/Toronto:20230210T160000
DTSTAMP:20260424T161943
CREATED:20230118T201009Z
LAST-MODIFIED:20230118T201009Z
UID:4455-1676034000-1676044800@mapleleafacres.ca
SUMMARY:Bid Euchre
DESCRIPTION:
URL:https://mapleleafacres.ca/event/bid-euchre-58/
CATEGORIES:Adult Hall
END:VEVENT
BEGIN:VEVENT
DTSTART;TZID=America/Toronto:20230208T190000
DTEND;TZID=America/Toronto:20230208T190000
DTSTAMP:20260424T161943
CREATED:20230118T183055Z
LAST-MODIFIED:20230118T183055Z
UID:4319-1675882800-1675882800@mapleleafacres.ca
SUMMARY:Fun Darts
DESCRIPTION:
URL:https://mapleleafacres.ca/event/fun-darts-4/
CATEGORIES:Rec. Hall
END:VEVENT
BEGIN:VEVENT
DTSTART;TZID=America/Toronto:20230208T140000
DTEND;TZID=America/Toronto:20230208T160000
DTSTAMP:20260424T161943
CREATED:20230118T163653Z
LAST-MODIFIED:20230118T163653Z
UID:4258-1675864800-1675872000@mapleleafacres.ca
SUMMARY:Fireside Craft Club
DESCRIPTION:*Come out and craft with your fellow park members \n*Bring your current craft project and materials \n*Enjoy each others companyand maybe even learn a new craft \nHosted by Sherry Allerton – 519-994-6008
URL:https://mapleleafacres.ca/event/fireside-craft-club-10/
CATEGORIES:Fireside Room
END:VEVENT
BEGIN:VEVENT
DTSTART;TZID=America/Toronto:20230208T130000
DTEND;TZID=America/Toronto:20230208T160000
DTSTAMP:20260424T161943
CREATED:20230118T200938Z
LAST-MODIFIED:20230118T200938Z
UID:4453-1675861200-1675872000@mapleleafacres.ca
SUMMARY:Bid Euchre
DESCRIPTION:
URL:https://mapleleafacres.ca/event/bid-euchre-57/
CATEGORIES:Adult Hall
END:VEVENT
BEGIN:VEVENT
DTSTART;TZID=America/Toronto:20230207T140000
DTEND;TZID=America/Toronto:20230207T160000
DTSTAMP:20260424T161943
CREATED:20230118T185438Z
LAST-MODIFIED:20230118T185438Z
UID:4347-1675778400-1675785600@mapleleafacres.ca
SUMMARY:Pickle Ball
DESCRIPTION:
URL:https://mapleleafacres.ca/event/pickle-ball-13/
CATEGORIES:Rec. Hall
END:VEVENT
BEGIN:VEVENT
DTSTART;TZID=America/Toronto:20230206T130000
DTEND;TZID=America/Toronto:20230206T160000
DTSTAMP:20260424T161943
CREATED:20230118T200753Z
LAST-MODIFIED:20230118T200753Z
UID:4447-1675688400-1675699200@mapleleafacres.ca
SUMMARY:Bid Euchre
DESCRIPTION:
URL:https://mapleleafacres.ca/event/bid-euchre-54/
CATEGORIES:Adult Hall
END:VEVENT
BEGIN:VEVENT
DTSTART;TZID=America/Toronto:20230206T100000
DTEND;TZID=America/Toronto:20230206T113000
DTSTAMP:20260424T161943
CREATED:20230118T193110Z
LAST-MODIFIED:20230118T193110Z
UID:4411-1675677600-1675683000@mapleleafacres.ca
SUMMARY:Yoga
DESCRIPTION:
URL:https://mapleleafacres.ca/event/yoga-4/
CATEGORIES:Fireside Room
END:VEVENT
BEGIN:VEVENT
DTSTART;TZID=America/Toronto:20230204T190000
DTEND;TZID=America/Toronto:20230204T190000
DTSTAMP:20260424T161943
CREATED:20230118T165955Z
LAST-MODIFIED:20230118T165955Z
UID:4287-1675537200-1675537200@mapleleafacres.ca
SUMMARY:Darts
DESCRIPTION:
URL:https://mapleleafacres.ca/event/darts-31/
CATEGORIES:Rec. Hall
END:VEVENT
BEGIN:VEVENT
DTSTART;VALUE=DATE:20230204
DTEND;VALUE=DATE:20230205
DTSTAMP:20260424T161943
CREATED:20230118T193406Z
LAST-MODIFIED:20230118T193406Z
UID:4419-1675468800-1675555199@mapleleafacres.ca
SUMMARY:Private Party
DESCRIPTION:
URL:https://mapleleafacres.ca/event/private-party-51/
CATEGORIES:Fireside Room
END:VEVENT
BEGIN:VEVENT
DTSTART;TZID=America/Toronto:20230203T133000
DTEND;TZID=America/Toronto:20230203T160000
DTSTAMP:20260424T161943
CREATED:20230118T191005Z
LAST-MODIFIED:20230118T191005Z
UID:4375-1675431000-1675440000@mapleleafacres.ca
SUMMARY:Shuffle Board
DESCRIPTION:
URL:https://mapleleafacres.ca/event/shuffle-board-4/
CATEGORIES:Rec. Hall
END:VEVENT
BEGIN:VEVENT
DTSTART;TZID=America/Toronto:20230203T130000
DTEND;TZID=America/Toronto:20230203T160000
DTSTAMP:20260424T161943
CREATED:20230118T200909Z
LAST-MODIFIED:20230118T200909Z
UID:4451-1675429200-1675440000@mapleleafacres.ca
SUMMARY:Bid Euchre
DESCRIPTION:
URL:https://mapleleafacres.ca/event/bid-euchre-56/
CATEGORIES:Adult Hall
END:VEVENT
END:VCALENDAR