BEGIN:VCALENDAR
VERSION:2.0
PRODID:-//Maple Leaf Acres - ECPv6.15.18//NONSGML v1.0//EN
CALSCALE:GREGORIAN
METHOD:PUBLISH
X-WR-CALNAME:Maple Leaf Acres
X-ORIGINAL-URL:https://mapleleafacres.ca
X-WR-CALDESC:Events for Maple Leaf Acres
REFRESH-INTERVAL;VALUE=DURATION:PT1H
X-Robots-Tag:noindex
X-PUBLISHED-TTL:PT1H
BEGIN:VTIMEZONE
TZID:America/Toronto
BEGIN:DAYLIGHT
TZOFFSETFROM:-0500
TZOFFSETTO:-0400
TZNAME:EDT
DTSTART:20220313T070000
END:DAYLIGHT
BEGIN:STANDARD
TZOFFSETFROM:-0400
TZOFFSETTO:-0500
TZNAME:EST
DTSTART:20221106T060000
END:STANDARD
BEGIN:DAYLIGHT
TZOFFSETFROM:-0500
TZOFFSETTO:-0400
TZNAME:EDT
DTSTART:20230312T070000
END:DAYLIGHT
BEGIN:STANDARD
TZOFFSETFROM:-0400
TZOFFSETTO:-0500
TZNAME:EST
DTSTART:20231105T060000
END:STANDARD
BEGIN:DAYLIGHT
TZOFFSETFROM:-0500
TZOFFSETTO:-0400
TZNAME:EDT
DTSTART:20240310T070000
END:DAYLIGHT
BEGIN:STANDARD
TZOFFSETFROM:-0400
TZOFFSETTO:-0500
TZNAME:EST
DTSTART:20241103T060000
END:STANDARD
END:VTIMEZONE
BEGIN:VEVENT
DTSTART;TZID=America/Toronto:20230702T090000
DTEND;TZID=America/Toronto:20230702T110000
DTSTAMP:20260423T032623
CREATED:20230118T212304Z
LAST-MODIFIED:20230414T141036Z
UID:4511-1688288400-1688295600@mapleleafacres.ca
SUMMARY:Coffee Chat
DESCRIPTION:
URL:https://mapleleafacres.ca/event/coffee-chat-28/
CATEGORIES:Activities,Adult Hall
END:VEVENT
BEGIN:VEVENT
DTSTART;TZID=America/Toronto:20230702T010000
DTEND;TZID=America/Toronto:20230702T150000
DTSTAMP:20260423T032623
CREATED:20230322T154417Z
LAST-MODIFIED:20230426T160500Z
UID:5027-1688259600-1688310000@mapleleafacres.ca
SUMMARY:Chocolate bar bingo
DESCRIPTION:
URL:https://mapleleafacres.ca/event/chocolate-bar-bingo-6/
CATEGORIES:Activities,Rec. Hall
END:VEVENT
BEGIN:VEVENT
DTSTART;TZID=America/Toronto:20230701T203000
DTEND;TZID=America/Toronto:20230701T233000
DTSTAMP:20260423T032623
CREATED:20230322T153956Z
LAST-MODIFIED:20230414T141036Z
UID:5020-1688243400-1688254200@mapleleafacres.ca
SUMMARY:Movie under the stars
DESCRIPTION:“Top Gun” Double Feature \nBEHIND REC CENTTRE
URL:https://mapleleafacres.ca/event/movie-under-the-stars/
CATEGORIES:Activities
END:VEVENT
BEGIN:VEVENT
DTSTART;TZID=America/Toronto:20230701T180000
DTEND;TZID=America/Toronto:20230701T180000
DTSTAMP:20260423T032623
CREATED:20230322T153846Z
LAST-MODIFIED:20230414T141036Z
UID:5018-1688234400-1688234400@mapleleafacres.ca
SUMMARY:Lot Decorating Contest - judging
DESCRIPTION:
URL:https://mapleleafacres.ca/event/lot-decorating-contest-judging/
CATEGORIES:Activities
END:VEVENT
BEGIN:VEVENT
DTSTART;TZID=America/Toronto:20230701T100000
DTEND;TZID=America/Toronto:20230701T170000
DTSTAMP:20260423T032623
CREATED:20230615T153734Z
LAST-MODIFIED:20230615T172927Z
UID:5016-1688205600-1688230800@mapleleafacres.ca
SUMMARY:Canada Day Olympics
DESCRIPTION:
URL:https://mapleleafacres.ca/event/canada-day-olympics-2/
CATEGORIES:Activities,Rec. Hall
END:VEVENT
BEGIN:VEVENT
DTSTART;TZID=America/Toronto:20230701T100000
DTEND;TZID=America/Toronto:20230701T100000
DTSTAMP:20260423T032623
CREATED:20230415T134316Z
LAST-MODIFIED:20230510T180441Z
UID:5256-1688205600-1688205600@mapleleafacres.ca
SUMMARY:Private party
DESCRIPTION:
URL:https://mapleleafacres.ca/event/private-party-71/
CATEGORIES:Activities,Adult Hall
END:VEVENT
BEGIN:VEVENT
DTSTART;TZID=America/Toronto:20230630T210000
DTEND;TZID=America/Toronto:20230630T210000
DTSTAMP:20260423T032623
CREATED:20230526T153546Z
LAST-MODIFIED:20230526T155900Z
UID:5014-1688158800-1688158800@mapleleafacres.ca
SUMMARY:Fireworks at dusk
DESCRIPTION:  \n\nDownload (PDF\, Unknown)
URL:https://mapleleafacres.ca/event/fireworks-at-dusk/
CATEGORIES:Activities
END:VEVENT
BEGIN:VEVENT
DTSTART;TZID=America/Toronto:20230630T200000
DTEND;TZID=America/Toronto:20230630T220000
DTSTAMP:20260423T032623
CREATED:20230322T153432Z
LAST-MODIFIED:20230420T173717Z
UID:5012-1688155200-1688162400@mapleleafacres.ca
SUMMARY:Bingo
DESCRIPTION:
URL:https://mapleleafacres.ca/event/bingo-7/
CATEGORIES:Activities,Rec. Hall
END:VEVENT
BEGIN:VEVENT
DTSTART;TZID=America/Toronto:20230630T133000
DTEND;TZID=America/Toronto:20230630T163000
DTSTAMP:20260423T032623
CREATED:20230126T170200Z
LAST-MODIFIED:20230414T141036Z
UID:4582-1688131800-1688142600@mapleleafacres.ca
SUMMARY:Shuffle Board
DESCRIPTION:
URL:https://mapleleafacres.ca/event/shuffle-board-25/
CATEGORIES:Activities,Rec. Hall
END:VEVENT
BEGIN:VEVENT
DTSTART;TZID=America/Toronto:20230630T130000
DTEND;TZID=America/Toronto:20230630T160000
DTSTAMP:20260423T032623
CREATED:20230201T152055Z
LAST-MODIFIED:20230414T141036Z
UID:4690-1688130000-1688140800@mapleleafacres.ca
SUMMARY:Bid Euchre
DESCRIPTION:
URL:https://mapleleafacres.ca/event/bid-euchre-107/
CATEGORIES:Activities,Adult Hall
END:VEVENT
BEGIN:VEVENT
DTSTART;TZID=America/Toronto:20230629T190000
DTEND;TZID=America/Toronto:20230629T220000
DTSTAMP:20260423T032623
CREATED:20230324T143621Z
LAST-MODIFIED:20230414T141036Z
UID:5153-1688065200-1688076000@mapleleafacres.ca
SUMMARY:Pickle Ball
DESCRIPTION:
URL:https://mapleleafacres.ca/event/pickle-ball-41/
CATEGORIES:Activities,Rec. Hall
END:VEVENT
BEGIN:VEVENT
DTSTART;TZID=America/Toronto:20230629T130000
DTEND;TZID=America/Toronto:20230629T160000
DTSTAMP:20260423T032623
CREATED:20230126T191312Z
LAST-MODIFIED:20230414T141051Z
UID:4678-1688043600-1688054400@mapleleafacres.ca
SUMMARY:Card Bingo
DESCRIPTION:
URL:https://mapleleafacres.ca/event/card-bingo-34/
CATEGORIES:Activities,Adult Hall
END:VEVENT
BEGIN:VEVENT
DTSTART;TZID=America/Toronto:20230627T150000
DTEND;TZID=America/Toronto:20230627T210000
DTSTAMP:20260423T032623
CREATED:20230621T140050Z
LAST-MODIFIED:20230621T140050Z
UID:5513-1687878000-1687899600@mapleleafacres.ca
SUMMARY:Private Party
DESCRIPTION:
URL:https://mapleleafacres.ca/event/private-party-79/
CATEGORIES:Activities,Adult Hall
END:VEVENT
BEGIN:VEVENT
DTSTART;TZID=America/Toronto:20230627T140000
DTEND;TZID=America/Toronto:20230627T160000
DTSTAMP:20260423T032623
CREATED:20230324T140714Z
LAST-MODIFIED:20230414T141051Z
UID:5145-1687874400-1687881600@mapleleafacres.ca
SUMMARY:Pickle Ball
DESCRIPTION:
URL:https://mapleleafacres.ca/event/pickle-ball-37/
CATEGORIES:Activities,Rec. Hall
END:VEVENT
BEGIN:VEVENT
DTSTART;TZID=America/Toronto:20230626T100000
DTEND;TZID=America/Toronto:20230626T110000
DTSTAMP:20260423T032623
CREATED:20230609T155922Z
LAST-MODIFIED:20230609T155922Z
UID:5451-1687773600-1687777200@mapleleafacres.ca
SUMMARY:Yoga
DESCRIPTION:
URL:https://mapleleafacres.ca/event/yoga-10/
CATEGORIES:Activities,Adult Hall
END:VEVENT
BEGIN:VEVENT
DTSTART;VALUE=DATE:20230625
DTEND;VALUE=DATE:20230626
DTSTAMP:20260423T032623
CREATED:20230310T173154Z
LAST-MODIFIED:20230414T141051Z
UID:4949-1687651200-1687737599@mapleleafacres.ca
SUMMARY:Private party
DESCRIPTION:
URL:https://mapleleafacres.ca/event/private-party-65/
CATEGORIES:Activities,Adult Hall
END:VEVENT
BEGIN:VEVENT
DTSTART;TZID=America/Toronto:20230623T130000
DTEND;TZID=America/Toronto:20230623T160000
DTSTAMP:20260423T032623
CREATED:20230201T151513Z
LAST-MODIFIED:20230414T141051Z
UID:4688-1687525200-1687536000@mapleleafacres.ca
SUMMARY:Bid Euchre
DESCRIPTION:
URL:https://mapleleafacres.ca/event/bid-euchre-106/
CATEGORIES:Activities,Adult Hall
END:VEVENT
BEGIN:VEVENT
DTSTART;TZID=America/Toronto:20230622T130000
DTEND;TZID=America/Toronto:20230622T160000
DTSTAMP:20260423T032623
CREATED:20230126T191240Z
LAST-MODIFIED:20230414T141051Z
UID:4676-1687438800-1687449600@mapleleafacres.ca
SUMMARY:Card Bingo
DESCRIPTION:
URL:https://mapleleafacres.ca/event/card-bingo-33/
CATEGORIES:Activities,Adult Hall
END:VEVENT
BEGIN:VEVENT
DTSTART;TZID=America/Toronto:20230622T080000
DTEND;TZID=America/Toronto:20230626T170000
DTSTAMP:20260423T032623
CREATED:20221029T140106Z
LAST-MODIFIED:20230414T141051Z
UID:4139-1687420800-1687798800@mapleleafacres.ca
SUMMARY:Trinity
DESCRIPTION:
URL:https://mapleleafacres.ca/event/trinity/
CATEGORIES:Activities,Adult Hall
END:VEVENT
BEGIN:VEVENT
DTSTART;TZID=America/Toronto:20230620T190000
DTEND;TZID=America/Toronto:20230620T210000
DTSTAMP:20260423T032623
CREATED:20230324T140646Z
LAST-MODIFIED:20230607T155551Z
UID:5143-1687287600-1687294800@mapleleafacres.ca
SUMMARY:Pickle Ball
DESCRIPTION:
URL:https://mapleleafacres.ca/event/pickle-ball-36/
CATEGORIES:Activities,Rec. Hall
END:VEVENT
BEGIN:VEVENT
DTSTART;TZID=America/Toronto:20230619T100000
DTEND;TZID=America/Toronto:20230619T120000
DTSTAMP:20260423T032623
CREATED:20230118T161122Z
LAST-MODIFIED:20230414T141051Z
UID:4213-1687168800-1687176000@mapleleafacres.ca
SUMMARY:Line Dancing
DESCRIPTION:
URL:https://mapleleafacres.ca/event/line-dancing-23/
CATEGORIES:Activities,Rec. Hall
END:VEVENT
BEGIN:VEVENT
DTSTART;TZID=America/Toronto:20230619T100000
DTEND;TZID=America/Toronto:20230619T110000
DTSTAMP:20260423T032623
CREATED:20230609T155855Z
LAST-MODIFIED:20230609T155855Z
UID:5449-1687168800-1687172400@mapleleafacres.ca
SUMMARY:Yoga
DESCRIPTION:
URL:https://mapleleafacres.ca/event/yoga-9/
CATEGORIES:Activities,Adult Hall
END:VEVENT
BEGIN:VEVENT
DTSTART;TZID=America/Toronto:20230618T140000
DTEND;TZID=America/Toronto:20230618T160000
DTSTAMP:20260423T032623
CREATED:20230426T170733Z
LAST-MODIFIED:20230426T170733Z
UID:5327-1687096800-1687104000@mapleleafacres.ca
SUMMARY:Ice Cream "Sundays"
DESCRIPTION:
URL:https://mapleleafacres.ca/event/ice-cream-sundays-3/
CATEGORIES:Activities,Adult Hall
END:VEVENT
BEGIN:VEVENT
DTSTART;TZID=America/Toronto:20230618T140000
DTEND;TZID=America/Toronto:20230618T160000
DTSTAMP:20260423T032623
CREATED:20230322T153340Z
LAST-MODIFIED:20230414T141051Z
UID:5010-1687096800-1687104000@mapleleafacres.ca
SUMMARY:Ice Crean "Sundays
DESCRIPTION:
URL:https://mapleleafacres.ca/event/ice-crean-sundays/
CATEGORIES:Activities,Adult Hall
END:VEVENT
BEGIN:VEVENT
DTSTART;TZID=America/Toronto:20230618T090000
DTEND;TZID=America/Toronto:20230618T110000
DTSTAMP:20260423T032623
CREATED:20230118T212225Z
LAST-MODIFIED:20230414T141051Z
UID:4509-1687078800-1687086000@mapleleafacres.ca
SUMMARY:Coffee Chat
DESCRIPTION:
URL:https://mapleleafacres.ca/event/coffee-chat-27/
CATEGORIES:Activities,Adult Hall
END:VEVENT
BEGIN:VEVENT
DTSTART;TZID=America/Toronto:20230617T170000
DTEND;TZID=America/Toronto:20230617T233000
DTSTAMP:20260423T032623
CREATED:20221029T135936Z
LAST-MODIFIED:20230414T141051Z
UID:4137-1687021200-1687044600@mapleleafacres.ca
SUMMARY:Private Party
DESCRIPTION:
URL:https://mapleleafacres.ca/event/private-party-47/
CATEGORIES:Activities,Adult Hall
END:VEVENT
BEGIN:VEVENT
DTSTART;TZID=America/Toronto:20230617T113000
DTEND;TZID=America/Toronto:20230617T130000
DTSTAMP:20260423T032623
CREATED:20230526T153245Z
LAST-MODIFIED:20230526T155648Z
UID:5008-1687001400-1687006800@mapleleafacres.ca
SUMMARY:Poker Run
DESCRIPTION:
URL:https://mapleleafacres.ca/event/poker-run-2/
CATEGORIES:Activities,Rec. Hall
END:VEVENT
BEGIN:VEVENT
DTSTART;TZID=America/Toronto:20230616T200000
DTEND;TZID=America/Toronto:20230616T200000
DTSTAMP:20260423T032623
CREATED:20230322T153131Z
LAST-MODIFIED:20230420T173641Z
UID:5006-1686945600-1686945600@mapleleafacres.ca
SUMMARY:Bingo
DESCRIPTION:
URL:https://mapleleafacres.ca/event/bingo-6/
CATEGORIES:Activities,Rec. Hall
END:VEVENT
BEGIN:VEVENT
DTSTART;TZID=America/Toronto:20230616T133000
DTEND;TZID=America/Toronto:20230616T163000
DTSTAMP:20260423T032623
CREATED:20230126T170137Z
LAST-MODIFIED:20230414T141051Z
UID:4580-1686922200-1686933000@mapleleafacres.ca
SUMMARY:Shuffle Board
DESCRIPTION:
URL:https://mapleleafacres.ca/event/shuffle-board-24/
CATEGORIES:Activities,Rec. Hall
END:VEVENT
BEGIN:VEVENT
DTSTART;TZID=America/Toronto:20230616T130000
DTEND;TZID=America/Toronto:20230616T160000
DTSTAMP:20260423T032623
CREATED:20230201T151445Z
LAST-MODIFIED:20230414T141052Z
UID:4686-1686920400-1686931200@mapleleafacres.ca
SUMMARY:Bid Euchre
DESCRIPTION:
URL:https://mapleleafacres.ca/event/bid-euchre-105/
CATEGORIES:Activities,Adult Hall
END:VEVENT
END:VCALENDAR