BEGIN:VCALENDAR
VERSION:2.0
PRODID:-//Maple Leaf Acres - ECPv6.15.18//NONSGML v1.0//EN
CALSCALE:GREGORIAN
METHOD:PUBLISH
X-WR-CALNAME:Maple Leaf Acres
X-ORIGINAL-URL:https://mapleleafacres.ca
X-WR-CALDESC:Events for Maple Leaf Acres
REFRESH-INTERVAL;VALUE=DURATION:PT1H
X-Robots-Tag:noindex
X-PUBLISHED-TTL:PT1H
BEGIN:VTIMEZONE
TZID:America/Toronto
BEGIN:DAYLIGHT
TZOFFSETFROM:-0500
TZOFFSETTO:-0400
TZNAME:EDT
DTSTART:20220313T070000
END:DAYLIGHT
BEGIN:STANDARD
TZOFFSETFROM:-0400
TZOFFSETTO:-0500
TZNAME:EST
DTSTART:20221106T060000
END:STANDARD
BEGIN:DAYLIGHT
TZOFFSETFROM:-0500
TZOFFSETTO:-0400
TZNAME:EDT
DTSTART:20230312T070000
END:DAYLIGHT
BEGIN:STANDARD
TZOFFSETFROM:-0400
TZOFFSETTO:-0500
TZNAME:EST
DTSTART:20231105T060000
END:STANDARD
BEGIN:DAYLIGHT
TZOFFSETFROM:-0500
TZOFFSETTO:-0400
TZNAME:EDT
DTSTART:20240310T070000
END:DAYLIGHT
BEGIN:STANDARD
TZOFFSETFROM:-0400
TZOFFSETTO:-0500
TZNAME:EST
DTSTART:20241103T060000
END:STANDARD
END:VTIMEZONE
BEGIN:VEVENT
DTSTART;TZID=America/Toronto:20230831T130000
DTEND;TZID=America/Toronto:20230831T160000
DTSTAMP:20260422T201605
CREATED:20230201T154026Z
LAST-MODIFIED:20230414T140622Z
UID:4736-1693486800-1693497600@mapleleafacres.ca
SUMMARY:Card Bingo
DESCRIPTION:
URL:https://mapleleafacres.ca/event/card-bingo-43/
CATEGORIES:Activities,Adult Hall
END:VEVENT
BEGIN:VEVENT
DTSTART;TZID=America/Toronto:20230830T130000
DTEND;TZID=America/Toronto:20230830T160000
DTSTAMP:20260422T201605
CREATED:20230201T162154Z
LAST-MODIFIED:20230414T140622Z
UID:4790-1693400400-1693411200@mapleleafacres.ca
SUMMARY:Bid Euchre
DESCRIPTION:
URL:https://mapleleafacres.ca/event/bid-euchre-130/
CATEGORIES:Activities,Adult Hall
END:VEVENT
BEGIN:VEVENT
DTSTART;TZID=America/Toronto:20230829T140000
DTEND;TZID=America/Toronto:20230829T160000
DTSTAMP:20260422T201605
CREATED:20230324T150727Z
LAST-MODIFIED:20230414T140622Z
UID:5181-1693317600-1693324800@mapleleafacres.ca
SUMMARY:Pickle Ball
DESCRIPTION:
URL:https://mapleleafacres.ca/event/pickle-ball-55/
CATEGORIES:Activities,Rec. Hall
END:VEVENT
BEGIN:VEVENT
DTSTART;TZID=America/Toronto:20230828T130000
DTEND;TZID=America/Toronto:20230828T160000
DTSTAMP:20260422T201605
CREATED:20230201T161800Z
LAST-MODIFIED:20230414T140622Z
UID:4782-1693227600-1693238400@mapleleafacres.ca
SUMMARY:Bid Euchre
DESCRIPTION:
URL:https://mapleleafacres.ca/event/bid-euchre-126/
CATEGORIES:Activities,Adult Hall
END:VEVENT
BEGIN:VEVENT
DTSTART;TZID=America/Toronto:20230828T100000
DTEND;TZID=America/Toronto:20230828T120000
DTSTAMP:20260422T201605
CREATED:20230118T162102Z
LAST-MODIFIED:20230414T140622Z
UID:4231-1693216800-1693224000@mapleleafacres.ca
SUMMARY:Line Dancing
DESCRIPTION:
URL:https://mapleleafacres.ca/event/line-dancing-32/
CATEGORIES:Activities,Rec. Hall
END:VEVENT
BEGIN:VEVENT
DTSTART;TZID=America/Toronto:20230828T100000
DTEND;TZID=America/Toronto:20230828T110000
DTSTAMP:20260422T201605
CREATED:20230609T160322Z
LAST-MODIFIED:20230609T160322Z
UID:5466-1693216800-1693220400@mapleleafacres.ca
SUMMARY:Yoga
DESCRIPTION:
URL:https://mapleleafacres.ca/event/yoga-17/
CATEGORIES:Activities,Adult Hall
END:VEVENT
BEGIN:VEVENT
DTSTART;TZID=America/Toronto:20230827T140000
DTEND;TZID=America/Toronto:20230827T160000
DTSTAMP:20260422T201605
CREATED:20230322T173117Z
LAST-MODIFIED:20230426T170356Z
UID:5081-1693144800-1693152000@mapleleafacres.ca
SUMMARY:Ice Cream " Sunday"
DESCRIPTION: 
URL:https://mapleleafacres.ca/event/ice-cream-sunday/
CATEGORIES:Activities,Adult Hall
END:VEVENT
BEGIN:VEVENT
DTSTART;TZID=America/Toronto:20230827T130000
DTEND;TZID=America/Toronto:20230827T170000
DTSTAMP:20260422T201605
CREATED:20230628T193420Z
LAST-MODIFIED:20230628T193420Z
UID:5558-1693141200-1693155600@mapleleafacres.ca
SUMMARY:Private Party
DESCRIPTION:
URL:https://mapleleafacres.ca/event/private-party-81/
CATEGORIES:Activities,Adult Hall
END:VEVENT
BEGIN:VEVENT
DTSTART;TZID=America/Toronto:20230827T090000
DTEND;TZID=America/Toronto:20230827T110000
DTSTAMP:20260422T201605
CREATED:20230118T212528Z
LAST-MODIFIED:20230414T140623Z
UID:4519-1693126800-1693134000@mapleleafacres.ca
SUMMARY:Coffee Chat
DESCRIPTION:
URL:https://mapleleafacres.ca/event/coffee-chat-32/
CATEGORIES:Activities,Adult Hall
END:VEVENT
BEGIN:VEVENT
DTSTART;TZID=America/Toronto:20230826T210000
DTEND;TZID=America/Toronto:20230826T230000
DTSTAMP:20260422T201605
CREATED:20230322T172712Z
LAST-MODIFIED:20230414T140623Z
UID:5079-1693083600-1693090800@mapleleafacres.ca
SUMMARY:Movie under the stars
DESCRIPTION:
URL:https://mapleleafacres.ca/event/movie-under-the-stars-2/
CATEGORIES:Activities
END:VEVENT
BEGIN:VEVENT
DTSTART;TZID=America/Toronto:20230826T090000
DTEND;TZID=America/Toronto:20230826T130000
DTSTAMP:20260422T201605
CREATED:20230322T172402Z
LAST-MODIFIED:20230414T140623Z
UID:5075-1693040400-1693054800@mapleleafacres.ca
SUMMARY:Craft & Collectible Sale
DESCRIPTION:Vendors wanted
URL:https://mapleleafacres.ca/event/craft-collectible-sale/
CATEGORIES:Activities,Rec. Hall
END:VEVENT
BEGIN:VEVENT
DTSTART;VALUE=DATE:20230826
DTEND;VALUE=DATE:20230827
DTSTAMP:20260422T201605
CREATED:20230322T172617Z
LAST-MODIFIED:20230414T140623Z
UID:5077-1693008000-1693094399@mapleleafacres.ca
SUMMARY:HALLOWEEN IN THE PARK
DESCRIPTION:Costume parade 3pm \nTrick or Treating 4pm \nLot Decorating contest judging 6pm
URL:https://mapleleafacres.ca/event/halloween-in-the-park-2/
CATEGORIES:Activities
END:VEVENT
BEGIN:VEVENT
DTSTART;TZID=America/Toronto:20230825T200000
DTEND;TZID=America/Toronto:20230825T220000
DTSTAMP:20260422T201605
CREATED:20230322T172229Z
LAST-MODIFIED:20230414T140623Z
UID:5073-1692993600-1693000800@mapleleafacres.ca
SUMMARY:Bingo
DESCRIPTION:
URL:https://mapleleafacres.ca/event/bingo-14/
CATEGORIES:Activities,Rec. Hall
END:VEVENT
BEGIN:VEVENT
DTSTART;TZID=America/Toronto:20230825T133000
DTEND;TZID=America/Toronto:20230825T163000
DTSTAMP:20260422T201605
CREATED:20230126T180924Z
LAST-MODIFIED:20230414T140623Z
UID:4598-1692970200-1692981000@mapleleafacres.ca
SUMMARY:Shuffle Board
DESCRIPTION:
URL:https://mapleleafacres.ca/event/shuffle-board-33/
CATEGORIES:Activities,Rec. Hall
END:VEVENT
BEGIN:VEVENT
DTSTART;TZID=America/Toronto:20230825T130000
DTEND;TZID=America/Toronto:20230825T160000
DTSTAMP:20260422T201605
CREATED:20230201T162602Z
LAST-MODIFIED:20230414T140623Z
UID:4796-1692968400-1692979200@mapleleafacres.ca
SUMMARY:Bid Euchre
DESCRIPTION:
URL:https://mapleleafacres.ca/event/bid-euchre-133/
CATEGORIES:Activities,Adult Hall
END:VEVENT
BEGIN:VEVENT
DTSTART;TZID=America/Toronto:20230824T190000
DTEND;TZID=America/Toronto:20230824T220000
DTSTAMP:20260422T201605
CREATED:20230324T151516Z
LAST-MODIFIED:20230414T140623Z
UID:5189-1692903600-1692914400@mapleleafacres.ca
SUMMARY:Pickle Ball
DESCRIPTION:
URL:https://mapleleafacres.ca/event/pickle-ball-59/
CATEGORIES:Activities,Rec. Hall
END:VEVENT
BEGIN:VEVENT
DTSTART;TZID=America/Toronto:20230824T130000
DTEND;TZID=America/Toronto:20230824T160000
DTSTAMP:20260422T201605
CREATED:20230201T153956Z
LAST-MODIFIED:20230414T140623Z
UID:4734-1692882000-1692892800@mapleleafacres.ca
SUMMARY:Card Bingo
DESCRIPTION:
URL:https://mapleleafacres.ca/event/card-bingo-42/
CATEGORIES:Activities,Adult Hall
END:VEVENT
BEGIN:VEVENT
DTSTART;TZID=America/Toronto:20230823T130000
DTEND;TZID=America/Toronto:20230823T160000
DTSTAMP:20260422T201605
CREATED:20230201T162122Z
LAST-MODIFIED:20230414T140623Z
UID:4788-1692795600-1692806400@mapleleafacres.ca
SUMMARY:Bid Euchre
DESCRIPTION:
URL:https://mapleleafacres.ca/event/bid-euchre-129/
CATEGORIES:Activities,Adult Hall
END:VEVENT
BEGIN:VEVENT
DTSTART;TZID=America/Toronto:20230822T140000
DTEND;TZID=America/Toronto:20230822T160000
DTSTAMP:20260422T201605
CREATED:20230324T150655Z
LAST-MODIFIED:20230414T140623Z
UID:5179-1692712800-1692720000@mapleleafacres.ca
SUMMARY:Pickle Ball
DESCRIPTION:
URL:https://mapleleafacres.ca/event/pickle-ball-54/
CATEGORIES:Activities,Rec. Hall
END:VEVENT
BEGIN:VEVENT
DTSTART;TZID=America/Toronto:20230821T130000
DTEND;TZID=America/Toronto:20230821T160000
DTSTAMP:20260422T201605
CREATED:20230201T161715Z
LAST-MODIFIED:20230414T140623Z
UID:4780-1692622800-1692633600@mapleleafacres.ca
SUMMARY:Bid Euchre
DESCRIPTION:
URL:https://mapleleafacres.ca/event/bid-euchre-125/
CATEGORIES:Activities,Adult Hall
END:VEVENT
BEGIN:VEVENT
DTSTART;TZID=America/Toronto:20230821T100000
DTEND;TZID=America/Toronto:20230821T120000
DTSTAMP:20260422T201605
CREATED:20230118T161959Z
LAST-MODIFIED:20230414T140623Z
UID:4229-1692612000-1692619200@mapleleafacres.ca
SUMMARY:Line Dancing
DESCRIPTION:
URL:https://mapleleafacres.ca/event/line-dancing-31/
CATEGORIES:Activities,Rec. Hall
END:VEVENT
BEGIN:VEVENT
DTSTART;TZID=America/Toronto:20230821T100000
DTEND;TZID=America/Toronto:20230821T110000
DTSTAMP:20260422T201605
CREATED:20230609T160300Z
LAST-MODIFIED:20230609T160300Z
UID:5464-1692612000-1692615600@mapleleafacres.ca
SUMMARY:Yoga
DESCRIPTION:
URL:https://mapleleafacres.ca/event/yoga-16/
CATEGORIES:Activities,Adult Hall
END:VEVENT
BEGIN:VEVENT
DTSTART;TZID=America/Toronto:20230819T140000
DTEND;TZID=America/Toronto:20230819T170000
DTSTAMP:20260422T201605
CREATED:20230322T172044Z
LAST-MODIFIED:20230426T160809Z
UID:5071-1692453600-1692464400@mapleleafacres.ca
SUMMARY:Chocolate Bar Bingo
DESCRIPTION:
URL:https://mapleleafacres.ca/event/chocolate-bar-bingo-10/
CATEGORIES:Activities,Rec. Hall
END:VEVENT
BEGIN:VEVENT
DTSTART;TZID=America/Toronto:20230819T100000
DTEND;TZID=America/Toronto:20230819T170000
DTSTAMP:20260422T201605
CREATED:20230322T171934Z
LAST-MODIFIED:20230414T140645Z
UID:5069-1692439200-1692464400@mapleleafacres.ca
SUMMARY:5k Walk for trees
DESCRIPTION:
URL:https://mapleleafacres.ca/event/5k-walk-for-trees-2/
CATEGORIES:Activities
END:VEVENT
BEGIN:VEVENT
DTSTART;VALUE=DATE:20230819
DTEND;VALUE=DATE:20230820
DTSTAMP:20260422T201605
CREATED:20230426T155546Z
LAST-MODIFIED:20230426T155546Z
UID:5308-1692403200-1692489599@mapleleafacres.ca
SUMMARY:Private Party
DESCRIPTION:
URL:https://mapleleafacres.ca/event/private-party-76/
CATEGORIES:Activities,Adult Hall
END:VEVENT
BEGIN:VEVENT
DTSTART;TZID=America/Toronto:20230818T200000
DTEND;TZID=America/Toronto:20230818T220000
DTSTAMP:20260422T201605
CREATED:20230322T171818Z
LAST-MODIFIED:20230420T174322Z
UID:5067-1692388800-1692396000@mapleleafacres.ca
SUMMARY:Bingo
DESCRIPTION:
URL:https://mapleleafacres.ca/event/bingo-13/
CATEGORIES:Activities,Rec. Hall
END:VEVENT
BEGIN:VEVENT
DTSTART;TZID=America/Toronto:20230818T133000
DTEND;TZID=America/Toronto:20230818T163000
DTSTAMP:20260422T201605
CREATED:20230126T180857Z
LAST-MODIFIED:20230414T140645Z
UID:4596-1692365400-1692376200@mapleleafacres.ca
SUMMARY:Shuffle Board
DESCRIPTION:
URL:https://mapleleafacres.ca/event/shuffle-board-32/
CATEGORIES:Activities,Rec. Hall
END:VEVENT
BEGIN:VEVENT
DTSTART;TZID=America/Toronto:20230818T130000
DTEND;TZID=America/Toronto:20230818T160000
DTSTAMP:20260422T201605
CREATED:20230201T162521Z
LAST-MODIFIED:20230414T140645Z
UID:4794-1692363600-1692374400@mapleleafacres.ca
SUMMARY:Bid Euchre
DESCRIPTION:
URL:https://mapleleafacres.ca/event/bid-euchre-132/
CATEGORIES:Activities,Adult Hall
END:VEVENT
BEGIN:VEVENT
DTSTART;TZID=America/Toronto:20230817T190000
DTEND;TZID=America/Toronto:20230817T220000
DTSTAMP:20260422T201605
CREATED:20230324T151437Z
LAST-MODIFIED:20230414T140645Z
UID:5187-1692298800-1692309600@mapleleafacres.ca
SUMMARY:Pickle Ball
DESCRIPTION:
URL:https://mapleleafacres.ca/event/pickle-ball-58/
CATEGORIES:Activities,Rec. Hall
END:VEVENT
BEGIN:VEVENT
DTSTART;TZID=America/Toronto:20230817T130000
DTEND;TZID=America/Toronto:20230817T160000
DTSTAMP:20260422T201605
CREATED:20230201T153644Z
LAST-MODIFIED:20230414T140645Z
UID:4732-1692277200-1692288000@mapleleafacres.ca
SUMMARY:Card Bingo
DESCRIPTION:
URL:https://mapleleafacres.ca/event/card-bingo-41/
CATEGORIES:Activities,Adult Hall
END:VEVENT
END:VCALENDAR